BEGIN:VCALENDAR
VERSION:2.0
PRODID:-//Niebywałe Suwałki - ECPv6.15.20//NONSGML v1.0//EN
CALSCALE:GREGORIAN
METHOD:PUBLISH
X-WR-CALNAME:Niebywałe Suwałki
X-ORIGINAL-URL:https://www.niebywalesuwalki.pl
X-WR-CALDESC:Wydarzenia dla Niebywałe Suwałki
REFRESH-INTERVAL;VALUE=DURATION:PT1H
X-Robots-Tag:noindex
X-PUBLISHED-TTL:PT1H
BEGIN:VTIMEZONE
TZID:Europe/Warsaw
BEGIN:DAYLIGHT
TZOFFSETFROM:+0100
TZOFFSETTO:+0200
TZNAME:CEST
DTSTART:20230326T010000
END:DAYLIGHT
BEGIN:STANDARD
TZOFFSETFROM:+0200
TZOFFSETTO:+0100
TZNAME:CET
DTSTART:20231029T010000
END:STANDARD
BEGIN:DAYLIGHT
TZOFFSETFROM:+0100
TZOFFSETTO:+0200
TZNAME:CEST
DTSTART:20240331T010000
END:DAYLIGHT
BEGIN:STANDARD
TZOFFSETFROM:+0200
TZOFFSETTO:+0100
TZNAME:CET
DTSTART:20241027T010000
END:STANDARD
BEGIN:DAYLIGHT
TZOFFSETFROM:+0100
TZOFFSETTO:+0200
TZNAME:CEST
DTSTART:20250330T010000
END:DAYLIGHT
BEGIN:STANDARD
TZOFFSETFROM:+0200
TZOFFSETTO:+0100
TZNAME:CET
DTSTART:20251026T010000
END:STANDARD
END:VTIMEZONE
BEGIN:VEVENT
DTSTART;TZID=Europe/Warsaw:20240603T090000
DTEND;TZID=Europe/Warsaw:20240603T110000
DTSTAMP:20260421T002459
CREATED:20240513T093301Z
LAST-MODIFIED:20240513T093301Z
UID:227853-1717405200-1717412400@www.niebywalesuwalki.pl
SUMMARY:Audycja muzyczna z Suwalską Orkiestrą Kameralną | BAJKA SYMFONICZNA
DESCRIPTION:3.06.2024\, godz. 9.00 i 11.00\nSala im. Andrzeja Wajdy\, ul. Jana Pawła II 5\nbilety: 10 zł w kasie SOK\nREZERWACJE pod numerem telefonu 87 56 38 518 \n\nPobierz ofertę\n\n„Piotruś i Wilk” wg. Siergieja Prokofiewa\, wyk. Suwalska Orkiestra Kameralna\nBajka opowiada historię dzielnego chłopca. Piotruś mieszka z Dziadkiem w odległej miejscowości. Z pomocą przyjaciół: Ptaszka i Kaczuszki\, stawia czoła groźnemu Wilkowi. Przebiegłe zwierzę pojawia się i dopada Kaczuszkę. Pomysłowy Piotruś prosi Ptaszka o pomoc\, i kiedy zwabiony przez niego Wilk zbliża się do drzewa\, chłopiec łapie go na lasso. Miotającego się Wilka obezwładniają wracający z lasu Myśliwi i odprowadzają do ogrodu zoologicznego. Bohaterowie bajki wspólnie pokazują\, że dzięki przyjaźni można przetrwać nawet w najbardziej brutalnym świecie. Muzycy Suwalskiej Orkiestry Kameralnej zagrają pod dyrekcją maestro Kazimierza Dąbrowskiego. \nBohaterowie: \n\nPtak\nKaczka\nKot\nDziadek\nWilk\nPiotruś\nMyśliwi\n\nMuzycy Suwalskiej Orkiestry Kameralnej zagrają pod dyrekcją maestro Kazimierza Dąbrowskiego. \nProwadzenie audycji: Włodzimierz Ciborowski
URL:https://www.niebywalesuwalki.pl/wydarzenie/audycja-muzyczna-z-suwalska-orkiestra-kameralna-bajka-symfoniczna/
END:VEVENT
END:VCALENDAR