BEGIN:VCALENDAR
VERSION:2.0
PRODID:-//Niebywałe Suwałki - ECPv6.15.20//NONSGML v1.0//EN
CALSCALE:GREGORIAN
METHOD:PUBLISH
X-WR-CALNAME:Niebywałe Suwałki
X-ORIGINAL-URL:https://www.niebywalesuwalki.pl
X-WR-CALDESC:Wydarzenia dla Niebywałe Suwałki
REFRESH-INTERVAL;VALUE=DURATION:PT1H
X-Robots-Tag:noindex
X-PUBLISHED-TTL:PT1H
BEGIN:VTIMEZONE
TZID:Europe/Warsaw
BEGIN:DAYLIGHT
TZOFFSETFROM:+0100
TZOFFSETTO:+0200
TZNAME:CEST
DTSTART:20230326T010000
END:DAYLIGHT
BEGIN:STANDARD
TZOFFSETFROM:+0200
TZOFFSETTO:+0100
TZNAME:CET
DTSTART:20231029T010000
END:STANDARD
BEGIN:DAYLIGHT
TZOFFSETFROM:+0100
TZOFFSETTO:+0200
TZNAME:CEST
DTSTART:20240331T010000
END:DAYLIGHT
BEGIN:STANDARD
TZOFFSETFROM:+0200
TZOFFSETTO:+0100
TZNAME:CET
DTSTART:20241027T010000
END:STANDARD
BEGIN:DAYLIGHT
TZOFFSETFROM:+0100
TZOFFSETTO:+0200
TZNAME:CEST
DTSTART:20250330T010000
END:DAYLIGHT
BEGIN:STANDARD
TZOFFSETFROM:+0200
TZOFFSETTO:+0100
TZNAME:CET
DTSTART:20251026T010000
END:STANDARD
END:VTIMEZONE
BEGIN:VEVENT
DTSTART;TZID=Europe/Warsaw:20240604T180000
DTEND;TZID=Europe/Warsaw:20240604T190000
DTSTAMP:20260421T003110
CREATED:20240528T151019Z
LAST-MODIFIED:20240528T151019Z
UID:228725-1717524000-1717527600@www.niebywalesuwalki.pl
SUMMARY:Tomasz Mirt - koncert w Pracowni Muzyki Miejska w Sejnach
DESCRIPTION:Przed nami kolejne z cyklu otwartych spotkań z muzykami\, artystami dźwiękowymi\, teoretykami i kompozytorami odbywających się w ramach działań Pracowni Muzyki Miejsca Pogranicza.\nNa początku czerwca odwiedzi nas projektant\, producent\, kompozytor\, grafik\, zajmujący się nagraniami terenowymi Tomasz Mirt. Prezentacja muzyczna jego twórczości w formie koncertu odbędzie się we wtorek\, 4 czerwca\, o godzinie 18:00 w Białej Synagodze w Sejnach. Na wydarzenie wstęp wolny. \nTomasz Mirt – od lat tworzy trudną do sklasyfikowania odmianę muzyki elektronicznej\, swobodnie sięgając po wątki od awangardy po te wywiedzione z muzyki klubowej\, wplatając w nie nagrania terenowe. Efektem jest improwizowany kolaż będący rodzajem soundtracku\, nie pozbawiony jednak repetycji. Bliska jest mu idea muzyki czwartego świata. Wydaje solo oraz z projektami Mirt+Ter i Brasil and the Gallowbrothers Band. Opublikował kilkadziesiąt albumów wydawanych przez wytwórnie z Polski\, Włoch i USA. Wiele płyt publikował sam w ramach niedziałającego już wydawnictwa cat|sun\, które obecnie zastąpiło\, nowe – Oddities of Nature\, oraz w ramach poświeconego wyłącznie nagraniom terenowym – Saamleng. Komponował muzykę do filmów i instalacji („Ślepnąc od świateł”\, Expo 2020 Dubai). Koncertował w Polsce i za granicą\, między innymi na festiwalach Unsound\, HCMF\, OFF\, Flussi\, Donau\, WIF\, Sacrum Profanum. Jest współzałożycielem Xaoc Devices\, firmy zajmującej się projektowaniem syntezatorów modularnych. Współtworzył czasopisma Zine i M|I.\nmirt.bandcamp.com\nsaamleng.bandcamp.com\n_____________\nO programie Muzyka Miejsca ECHA:\nMuzyka Miejsca pod kierownictwem zaproszonych gości opracowuje wielowarstwową\, dźwiękową mapę Sejn i okolic\, dostępną dla użytkowników smartfonowej platformie Echoes. Punkty na mapie zabrzmią z jednej strony w swojej teraźniejszości\, nagranej tu i teraz\, formie zmiennej zależnie od artysty prowadzącego warsztat\, a z drugiej strony przywołają pamięć dawnej audiosfery naszego pogranicza\, nagłaśniając opowieść-wspomnienie starszych mieszkańców regionu czy tworząc przestrzeń na dźwiękowe fantazje\, inscenizacje świata i miejsc już nieistniejących. Warstwy mapy zostaną splecione skomponowaną wspólnie w pracowni muzyką instrumentalną.\nW ramach programu\, na przestrzeni nadchodzących miesięcy\, gościć będziemy również: twórcę elektroniki\, field recordingu i muzyki improwizowanej Marcina Dymitera aka Emitera\, autora artykułów naukowych poświęconych problematyce audiosfery Roberta Losiaka\, rejestrującą dźwięki natury Izabelę Dłużyk oraz kompozytora\, muzyka i reżysera dźwięku Marcina Lenarczyka aka Dj Lenar.\nDofinansowano ze środków Ministra Kultury i Dziedzictwa Narodowego w ramach programu własnego Centrum Rozwoju Przemysłów Kreatywnych: Rozwój Sektorów Kreatywnych.
URL:https://www.niebywalesuwalki.pl/wydarzenie/tomasz-mirt-koncert-w-pracowni-muzyki-miejska-w-sejnach/
LOCATION:Biała Synagoga\, Sejny\, Polska
END:VEVENT
BEGIN:VEVENT
DTSTART;TZID=Europe/Warsaw:20240604T193000
DTEND;TZID=Europe/Warsaw:20240604T213000
DTSTAMP:20260421T003110
CREATED:20240603T092312Z
LAST-MODIFIED:20240603T092312Z
UID:228952-1717529400-1717536600@www.niebywalesuwalki.pl
SUMMARY:Pokaz filmu "Jedno życie" w cyklu Kino konesera w Cinema Lumiere w Suwałkach
DESCRIPTION:Jest rok 1938\, gdy młody Brytyjczyk Nicholas Winton podczas wizyty w Pradze odkrywa\, że tysiące rodzin zbiegłych przed hitlerowcami z Niemiec i Austrii\, żyją tu w dramatycznych warunkach\, często bez dachu nad głową i żywności. Niemiecka inwazja na Czechosłowację jest kwestią najbliższych tygodni\, a wtedy los uchodźców będzie już przesądzony. Nicholas postanawia zrobić wszystko\, co w jego mocy by ocalić jak najwięcej potrzebujących. Wraz z grupą współpracowników organizuje transporty dzieci\, które podążają z Pragi do Anglii w poszukiwaniu bezpiecznego schronienia. Jak wiele istnień uda się ocalić zanim granice zostaną zamknięte? Po 50 latach Nicholas wciąż wraca wspomnieniami do tamtych dni\, zadając sobie pytania o los ocalonych i obwiniając się za to\, że nie udało mu się ocalić wszystkich. Tymczasem niespodziewanie los dopisze poruszający epilog do tej historii.
URL:https://www.niebywalesuwalki.pl/wydarzenie/pokaz-filmu-jedno-zycie-w-cyklu-kino-konesera-w-cinema-lumiere-w-suwalkach/
LOCATION:Cinema Lumiere\, Dwernickiego 15\, Suwałki\, 16-400\, Polska
END:VEVENT
END:VCALENDAR