BEGIN:VCALENDAR
VERSION:2.0
PRODID:-//Niebywałe Suwałki - ECPv6.15.20//NONSGML v1.0//EN
CALSCALE:GREGORIAN
METHOD:PUBLISH
X-ORIGINAL-URL:https://www.niebywalesuwalki.pl
X-WR-CALDESC:Wydarzenia dla Niebywałe Suwałki
REFRESH-INTERVAL;VALUE=DURATION:PT1H
X-Robots-Tag:noindex
X-PUBLISHED-TTL:PT1H
BEGIN:VTIMEZONE
TZID:Europe/Warsaw
BEGIN:DAYLIGHT
TZOFFSETFROM:+0100
TZOFFSETTO:+0200
TZNAME:CEST
DTSTART:20230326T010000
END:DAYLIGHT
BEGIN:STANDARD
TZOFFSETFROM:+0200
TZOFFSETTO:+0100
TZNAME:CET
DTSTART:20231029T010000
END:STANDARD
BEGIN:DAYLIGHT
TZOFFSETFROM:+0100
TZOFFSETTO:+0200
TZNAME:CEST
DTSTART:20240331T010000
END:DAYLIGHT
BEGIN:STANDARD
TZOFFSETFROM:+0200
TZOFFSETTO:+0100
TZNAME:CET
DTSTART:20241027T010000
END:STANDARD
BEGIN:DAYLIGHT
TZOFFSETFROM:+0100
TZOFFSETTO:+0200
TZNAME:CEST
DTSTART:20250330T010000
END:DAYLIGHT
BEGIN:STANDARD
TZOFFSETFROM:+0200
TZOFFSETTO:+0100
TZNAME:CET
DTSTART:20251026T010000
END:STANDARD
END:VTIMEZONE
BEGIN:VEVENT
DTSTART;VALUE=DATE:20240607
DTEND;VALUE=DATE:20240610
DTSTAMP:20260420T223628
CREATED:20240429T113619Z
LAST-MODIFIED:20240515T104441Z
UID:227422-1717718400-1717977599@www.niebywalesuwalki.pl
SUMMARY:VII Soulwałki Gospel Workshop - warsztaty i koncert finałowy w Suwałkach
DESCRIPTION:W dniach 7-9 czerwca w Suwałkach odbędzie się VII edycja SOULWAŁKI GOSPEL WORKSHOP Tribute to Clarence „Mr. Gospel” Eggleton. Warsztaty poprowadzi Norris Garner\, bliski przyjaciel i współpracownik zmarłego kompozytora; z kolei zajęcia dla dzieci – Beata Stasiak.\nAnna Szafranowska\, organizatorka Soulwałki Gospel Workshop\, podkreśla\, że tegoroczna edycja przyniesie kilka istotnych zmian. \n– Po raz pierwszy warsztaty poprowadzi kompozytor posiadający prawa do twórczości zmarłego przyjaciela i mentora – Clarence’a Eggletona. Eggleton to postać znana nie tylko w Stanach Zjednoczonych\, zwłaszcza w Kalifornii\, ale również w Niemczech\, Szwecji i Polsce – dodaje założycielka Suwałki Gospel Choir. \n\n\nNorris Garner odziedziczył wszystkie prawa do muzyki i kompozycji Clarence’a. Pomysł zorganizowania koncertu w Polsce w hołdzie dla Clarence’a wynika z popularności jego muzyki. Warsztaty będą skierowane zarówno do dzieci\, jak i dorosłych\, z różnorodnym repertuarem obejmującym tradycyjne gospel\, energetyczne utwory\, klaskanie\, swingujące kompozycje oraz elementy bluesa\, charakterystyczne dla twórczości Norrisa. \n\nSwój udział już zapowiedziały chóry z różnych części Polski i Europy\, w tym z Rygi\, Warszawy\, Nowego Dworu Gdańskiego i Ełku. Uczestnicy będą mieli okazję nauczyć się nowych utworów i wystąpić podczas koncertu\, który Norris Garner planuje nagrać. \n– Beata Stasiak poprowadzi warsztaty dla dzieci\, natomiast Norris Garner będzie uczył dorosłych. Norris Garner będzie szukał solistów wśród uczestników warsztatów\, aby wykonali solówki w nagrywanych utworach – dodaje Anna Szafranowska. \n\n\nZapisy na warsztaty wciąż trwają\, już w tej chwili zgłosiło się około 80 uczestników. Nic w tym dziwnego\, ponieważ Norris Garner\, jako doświadczony kompozytor i nauczyciel\, ma otwartą i energetyczną osobowość\, która przyciąga ludzi. \n\nSzymon Markiewicz\, kompozytor od lat związany z gospel i wydarzeniami w Suwałkach miał okazję poznać Clarence’a Eggletona. \n– Moje pierwsze doświadczenie z muzyką gospel za oceanem miało miejsce w 2007 roku\, kiedy Norris i Clarence zaprosili mnie na największe warsztaty w Stanach\, odbywające się w Orlando na Florydzie. Pojechałem tam\, aby zdobyć nowe doświadczenia i zobaczyć\, jak muzyka gospel funkcjonuje w afroamerykańskiej społeczności. Był to intensywny czas\, podczas którego nie tylko koncertowałem\, ale także chłonąłem wiedzę od Clarence’a\, Norrisa i innych muzyków. Szczególnym wspomnieniem jest wieczór\, kiedy nagrywaliśmy piosenkę w studio Clarence’a z wieloma wokalistami i muzykami. W 2011 roku\, razem z Clarence’em i Norisem\, współtworzyliśmy projekt „Together We Stand” w Fairbanks na Alasce. Była to wyjątkowa inicjatywa\, która zaowocowała naszą współpracą z Mali Music. Singiel nagrany z jego udziałem został w 2012 roku nominowany i umieszczony na amerykańskiej składance 30 najlepszych utworów gospel\, co było dla nas ogromnym wyróżnieniem. Od tamtej pory regularnie odwiedzałem Norrisa w Waszyngtonie\, utrzymując kontakt z Clarence’em przez komunikatory. Clarence był nie tylko utalentowanym kompozytorem\, ale także mądrym i doświadczonym człowiekiem. Jego wpływ na muzykę gospel był ogromny – napisał ponad 300 utworów\, które znalazły się w wielu hymnbukach. Współpracował z wybitnymi muzykami i zdobył wiele prestiżowych nagród – wspomina Szymon Markiewicz. \n\n\nEfekty warsztatów zostaną zaprezentowane podczas Koncertu Finałowego VII Soulwałki Gospel Workshop z Suwalską Orkiestrą Kameralną\, który odbędzie się 9 czerwca o godz. 18.00 w sali im. Andrzeja Wajdy. \n\nTU KUPISZ BILETY NA KONCERT FINAŁOWY i znajdziesz KARTY ZGŁOSZEŃ na warsztaty gospel.
URL:https://www.niebywalesuwalki.pl/wydarzenie/vii-soulwalki-gospel-workshop-warsztaty-i-koncert-finalowy-w-suwalkach/
END:VEVENT
BEGIN:VEVENT
DTSTART;TZID=Europe/Warsaw:20240607T090000
DTEND;TZID=Europe/Warsaw:20240607T120000
DTSTAMP:20260420T223628
CREATED:20240603T081339Z
LAST-MODIFIED:20240603T081339Z
UID:228926-1717750800-1717761600@www.niebywalesuwalki.pl
SUMMARY:Suwalska Gra Miejska “Zaginiony obraz”
DESCRIPTION:W ramach obchodów 175. rocznicy urodzin Alfreda Wierusza-Kowalskiego\, II Liceum Ogólnokształcące im. gen. Zygmunta Podhorskiego\, Centrum Edukacji Nauczycieli w Suwałkach oraz Muzeum Okręgowe w Suwałkach organizują Suwalską Grę Miejską “Zaginiony obraz”. Ta wyjątkowa gra stanowi okazję do odkrywania tajemnic związanych z życiem i twórczością tego wybitnego artysty\, urodzonego w Suwałkach w 1849 roku. Alfred Wierusz-Kowalski jest jednym z najważniejszych polskich malarzy tzw. szkoły monachijskiej\, a jego obrazy\, często ukazujące zimowe pejzaże i sceny z udziałem wilków i koni\, zdobyły ogromną popularność. \nSzczegóły Suwalskiej Gry Miejskiej: \nData: 7 czerwca 2024 r.\nGodzina rozpoczęcia: 9:00\nMiejsce: Zespół Szkół nr 2 (ul. Kościuszki 36)\nDla kogo przeznaczona jest gra? \nGra adresowana jest do uczniów suwalskich szkół średnich\, zainteresowanych odkrywaniem historii i twórczości Alfreda Wierusza-Kowalskiego. To doskonała okazja\, aby zgłębić tajemnice artysty i poszukać “zaginionego obrazu”!  Organizatorzy zapraszają suwalskie szkoły średnie i proszą o zgłoszenie zespołu złożonego z trzech uczniów oraz jednego nauczyciela (opiekuna). \nGrę honorowym patronatem objęło Ministerstwo Edukacji\, Podlaski Kurator Oświaty\, Instytut Pamięci Narodowej w Białymstoku oraz Prezydent Miasta Suwałk. \nZapraszamy do odkrywania historii Alfreda Wierusza-Kowalskiego!
URL:https://www.niebywalesuwalki.pl/wydarzenie/suwalska-gra-miejska-zaginiony-obraz/
LOCATION:II LO\, Augustów\, Polska
END:VEVENT
BEGIN:VEVENT
DTSTART;TZID=Europe/Warsaw:20240607T100000
DTEND;TZID=Europe/Warsaw:20240608T160000
DTSTAMP:20260420T223628
CREATED:20240506T093308Z
LAST-MODIFIED:20240506T093309Z
UID:227602-1717754400-1717862400@www.niebywalesuwalki.pl
SUMMARY:II Augustowski Festiwal Pasji do Nauki REAKCJA
DESCRIPTION:Piątek 7 czerwca 2024 r.   \n10:00-16:00 stanowiska edukacyjne na Rynku Zygmunta Augusta (Fundacja Terra Desolata\, Wydział Archeologii UW\, Wigierski Park Narodowy\, Suwalski Park Krajobrazowy\, Podlaskie Retromaniaki\, Robo Coding\, Zderzenie z Historią\, Stowarzyszenie POLARIS-OPP\, Instytut Pileckiego\, Marta Tarnawska-Banaszek i Michał Banaszek) \n10:15 pokaz naukowy: „Michał Sędziwój na tropie nieśmiertelności” – Piotr Kucharski (Zderzenie z Historią) \n11:00 pokaz: walki robotów SUMO BOOTY – Robo Coding \n11:30 pokaz naukowy: „Puzon i fizyka” – Heweliusze Nauki \n12:30 pokaz naukowy: „Rzymska machina wojenna\, czyli czemu Rzym miał jedną z najlepszych armii w dziejach” – Marcin Gostkowski (Pan od Historii) \n13:30 wykład biologiczno-etnograficzny: „O palcach umarlaka\, zmierzchnicy trupiej główce\, przeklętej pannie i innych ziołach z najbliższej okolicy” – dr hab. Stanisław Czachorowski (Profesorskie Gadanie) \n14:30 wykład naukowy: „O drapieżnych motylach i hiszpańskiej musze\, czyli garść niezwykłych  informacji o owadach” – dr hab. Stanisław Czachorowski (Profesorskie Gadanie) \n15:30 pokaz naukowy: „Michał Sędziwój na tropie nieśmiertelności” – Piotr Kucharski (Zderzenie z Historią) \nSobota 8 czerwca 2024 r.  \n11:00-17:00 stanowiska edukacyjne na Rynku Zygmunta Augusta (Fundacja Terra Desolata\, Wydział Archeologii UW\, Biebrzański Park Narodowy\, Suwalski Park Krajobrazowy\, Podlaskie Retromaniaki\, Robo Coding\, Zderzenie z Historią\, Stowarzyszenie POLARIS-OPP\, Profesorskie Gadanie\, Marta Tarnawska-Banaszek i Michał Banaszek) \n11:15 wykład plenerowy: „Przeszłość w przedmiotach zaklęta. Archeologia Ziemi Augustowskiej” – Fundacja Terra Desolata \n12:00-16:00 pokazy naukowe: science busking – Heweliusze Nauki \n12:00 wykład plenerowy: „Klimat dawniej i dziś” – Krzysztof Poznański (Naukowo TV) \n13:00 pokaz rekonstrukcji historycznej – Hospitalierių Ordinas \n13:30 pokaz naukowy: „Odnawialne źródła energii” – Robo Coding \n14:00 wykład plenerowy: „Czy w Polsce żyły dinozaury?” – Krzysztof Poznański (Naukowo TV) \n15:00 pokaz naukowy: „Michał Sędziwój na tropie nieśmiertelności” – Piotr Kucharski (Zderzenie z Historią) \n15:30 wykład plenerowy: „Wielka Lechia – historia prawdziwa” – Fundacja Terra Desolata \n16:00 pokaz rekonstrukcji historycznej – Hospitalierių Ordinas \nOrganizatorzy: \nFundacja Terra Desolata – archeologia i edukacja\nAugustowskie Placówki Kultury\nMiasto Augustów\n………………………………………………………………………… \nProjekt dofinansowany ze środków budżetu państwa przyznanych przez Ministra Nauki i Szkolnictwa Wyższego w ramach Programu „Społeczna Odpowiedzialność Nauki II. Popularyzacja Nauki”.
URL:https://www.niebywalesuwalki.pl/wydarzenie/ii-augustowski-festiwal-pasji-do-nauki-reakcja/
LOCATION:Rynek Zygmunta Augusta\, Szczegóły w programie.\, Augustów\, Polska
ATTACH;FMTTYPE=image/jpeg:https://www.niebywalesuwalki.pl/wp-content/uploads/2024/05/pasja_augustow.jpg
END:VEVENT
BEGIN:VEVENT
DTSTART;TZID=Europe/Warsaw:20240607T170000
DTEND;TZID=Europe/Warsaw:20240608T190000
DTSTAMP:20260420T223628
CREATED:20240517T074509Z
LAST-MODIFIED:20240517T074509Z
UID:228091-1717779600-1717873200@www.niebywalesuwalki.pl
SUMMARY:Suwałki Street Festiwal - ulica wolna od nałogów
DESCRIPTION:„Suwałki Street Festiwal” to jedno z najciekawszych wydarzeń organizowanych w 2024 roku w Suwałkach. To festiwal sportów ulicznych\, który całkowicie zrywa z dotychczasowymi trendami\, wyprowadzając nową jakość. Tegoroczna edycja pod hasłem „Ulica wolna od nałogów” odzwierciedla dążenie społeczności do tworzenia bezpiecznej i zdrowej przestrzeni publicznej\, wolnej od negatywnych wpływów nałogów\, jednocześnie promując zdrowy styl życia. \nTo więcej niż tylko festiwal – to inicjatywa\, która łączy pokolenia i inspiruje do pozytywnych zmian w społeczności. \nPierwszego dnia festiwalu\, tuż po godzinie 21:00 wspólnie wyruszymy na drugi w historii Suwałk nocny przejazd ulicami miasta. Start nastąpi spod Centrum Handlowego „Suwałki PLAZA”\, a finisz nastąpi na bulwarach nad rzeką Czarną Hańczą.\nSuwałki Street Festiwal potrwa dwa dni. W pierwszy weekend czerwca nie zabraknie ogromu atrakcji\, takich jak: koncerty znanych artystów\, pokazy Freestyle Football i Skateboardingu\, strefa Graffiti\, customizacji ubrań i obuwia\, turnieje\, warsztaty i wiele\, wiele więcej! \n07 czerwca 2024 r. (piątek) – SUWAŁKI STREET NIGHT\n17:00 – rozpoczęcie wydarzenia\n17:30 – pokaz oraz warsztaty Freestyle Football – Miłosz Stopiński „Ten Od Piłki”\n18:00 – turniej Street Tennisa\n18:15 – turniej w Dwa Ognie\n18:30 – pokaz Skateboardingu\n19:00 – pokaz Breakdance – I wejście\n19:15 – konkurs Open Skateboardingu\n20:00 – pokaz Breakdance – II wejście\n21:00 – przejazd przez miasto\nPonadto: strefa Street Football\, strefa Graffiti\, TeqBall\, otwarta strefa Skateboardingu \n08 czerwca 2024 r. (sobota) – SUWAŁKI STREET ART \n10:00 – strefa Graffiti (konkurs)\n10:00 – strefa kredy\n10:00 – strefa customizacji ubrań i obuwia\n10:00 – strefa gier planszowych\n10:30 – warsztaty Breakdance „Dom Latających Tańcerzy” (SOK\, ul. Papieża Jana Pawła II 5)\n11:30 – strefa „Emotkowych Pożeraczy Smutków” z Panią FLOBO\n19:00 – SUWAŁKI STREET VIBES – koncert Otsochodzi\, Guzior\, support KUMI (HSW „Suwałki Arena”\, ul. Zarzecze 26) \n08 czerwca 2024 r. (sobota) – SUWAŁKI STREET CAMP \n10:00 – turniej StreetBall 3 vs 3\n10:00 – turniej TeqBall\n10:30 – zajęcia profilaktyczne z psychologiem\n08 czerwca 2024 r. (sobota) – warsztaty „Szkoła Bez Hejtu i Używek” \n10:30 – Paweł Pasiak\, Trener współpracujący z kadrą województwa podlaskiego juniorów i kadetów od 2009 r.\, Trener sekcji bokserskiej OSiR\, odznaczony brązową odznaką przez Ministra Sportu za zasługi dla sportu (2015)\n11:15 – Pani FLOBO (Marta Florkiewicz-Borkowska)\, edukatorka\, trenerka\, Nauczyciel Roku 2017\, laureatka Nagrody im. Ireny Sendlerowej „Za naprawianie świata”\n12:00 – Marcin Kruszewski „Prawo Marcina”\, prawnik\, absolwent Uniwersytetu Warszawskiego\, twórca największego profilu prawniczego w Polsce\, na którym codziennie opowiada o prawach ucznia\n08 czerwca 2024 r. (sobota) – PumpTrack Challenge \n14:00 – zawody na Bike Parku przy ul. Moniuszki 1A\, PumpTrack Challenge\, wydarzenie połączone z piknikiem rodzinnym \n* Zadanie dofinansowanie ze środków Miejskiej Komisji Rozwiązywania Problemów Alkoholowych. \nOrganizatorzy: Ośrodek Sportu i Rekreacji w Suwałkach\, Urząd Miejski w Suwałkach\, Suwalski Ośrodek Kultury \nPartner artystyczny: Klimat Tworzą Ludzie \nPartnerzy: Miejska Komisja Rozwiązywania Problemów Alkoholowych\, C.H. „Suwałki Plaza”\, Mroczne Bractwo\, Porta Drzwi\, Movement Arena Suwałki\, Państwowa Uczelnia Zawodowa w Suwałkach\, Stowarzyszenie Aktywności Społecznej „Sportowe Miasto”\, Suwalska Spółdzielnia Mieszkaniowa w Suwałkach\, Hotel Szyszko\, Elade.
URL:https://www.niebywalesuwalki.pl/wydarzenie/suwalki-street-festiwal-ulica-wolna-od-nalogow/
LOCATION:Suwałki\, skrzyżowanie ul. Utrata i Przytorowa\, Suwałki\, Polska
ATTACH;FMTTYPE=image/jpeg:https://www.niebywalesuwalki.pl/wp-content/uploads/2024/05/street.jpg
END:VEVENT
BEGIN:VEVENT
DTSTART;TZID=Europe/Warsaw:20240607T193000
DTEND;TZID=Europe/Warsaw:20240607T213000
DTSTAMP:20260420T223628
CREATED:20240604T073706Z
LAST-MODIFIED:20240604T073706Z
UID:228971-1717788600-1717795800@www.niebywalesuwalki.pl
SUMMARY:33 kolejka IV ligi podlaskiej; mecz Wigry Suwałki - KS Michałowo
DESCRIPTION:W 33.\, przedostatniej kolejce IV ligi podlaskiej Wigry Suwałki podejmą ósmy zespół tabeli – KS Michałowo. Początek spotkania na Zarzeczu o godzinie 19:30.
URL:https://www.niebywalesuwalki.pl/wydarzenie/33-kolejka-iv-ligi-podlaskiej-mecz-wigry-suwalki-ks-michalowo/
LOCATION:Stadion Miejski w Suwałkach
ATTACH;FMTTYPE=image/jpeg:https://www.niebywalesuwalki.pl/wp-content/uploads/2024/06/Wigry-Wissa_Sz_VI-2024-37.jpg
END:VEVENT
BEGIN:VEVENT
DTSTART;TZID=Europe/Warsaw:20240607T213000
DTEND;TZID=Europe/Warsaw:20240607T233000
DTSTAMP:20260420T223628
CREATED:20240515T133115Z
LAST-MODIFIED:20240515T133115Z
UID:227972-1717795800-1717803000@www.niebywalesuwalki.pl
SUMMARY:Granie w Bramie: Pokaz filmu "Prestiż" w Augustowie
DESCRIPTION:DKF KINOCHŁON – „Prestiż” (reż. C. Nolan\, 2016)\n07 czerwca 2024r. 21:30 \nAugustowskie Placówki Kultury serdecznie zapraszają na pierwsze tego lata wydarzenie z cyklu Granie w Bramie. Tym razem\, w podwórzu Miejskiego Domu Kultury (Rynek Zygmunta Augusta 9\, wejście przez bramę od strony Rynku lub od ul. Kościelnej) augustowski DKF KINOCHŁON wyświetli film pt. „Prestiż” w reż. Christophera Nolana. \nVideoprelekcja – Michał Oleszczyk\, SpoilerMaster – Podcast do słuchania po seansie \nNa ekranie – tajemnicza opowieść o dwóch magikach i ich intensywnej\, prowadzącej do nieustannej bitwy o przewagę rywalizacji pełnej obsesji\, oszustw i zazdrości wraz z jej niebezpiecznymi oraz śmiertelnymi konsekwencjami. Robert Angier (Hugh Jackman) i Alfred Borden (Christian Bale) współzawodniczyli ze sobą od czasu\, kiedy się po raz pierwszy spotkali jako młodzi\, wschodzący magicy. Jednak ich przyjazna rywalizacja przeistacza się z czasem w zaciętą\, gorzką walkę\, czyniąc z nich zajadłych i dożywotnich wrogów. W rezultacie czego narażają życie nie tylko swoje\, ale również wszystkich wokół siebie. \nSerdecznie zapraszamy! \nWstęp wolny. \n*W razie niesprzyjających warunków atmosferycznych wydarzenie będzie przeniesione na inny termin
URL:https://www.niebywalesuwalki.pl/wydarzenie/granie-w-bramie-pokaz-filmu-prestiz-w-augustowie/
LOCATION:Augustowskie Placówki Kultury – Miejski Dom Kultury\, Rynek Zygmunta Augusta\, Augustów\, Polska
END:VEVENT
END:VCALENDAR