BEGIN:VCALENDAR
VERSION:2.0
PRODID:-//Niebywałe Suwałki - ECPv6.15.20//NONSGML v1.0//EN
CALSCALE:GREGORIAN
METHOD:PUBLISH
X-WR-CALNAME:Niebywałe Suwałki
X-ORIGINAL-URL:https://www.niebywalesuwalki.pl
X-WR-CALDESC:Wydarzenia dla Niebywałe Suwałki
REFRESH-INTERVAL;VALUE=DURATION:PT1H
X-Robots-Tag:noindex
X-PUBLISHED-TTL:PT1H
BEGIN:VTIMEZONE
TZID:Europe/Warsaw
BEGIN:DAYLIGHT
TZOFFSETFROM:+0100
TZOFFSETTO:+0200
TZNAME:CEST
DTSTART:20230326T010000
END:DAYLIGHT
BEGIN:STANDARD
TZOFFSETFROM:+0200
TZOFFSETTO:+0100
TZNAME:CET
DTSTART:20231029T010000
END:STANDARD
BEGIN:DAYLIGHT
TZOFFSETFROM:+0100
TZOFFSETTO:+0200
TZNAME:CEST
DTSTART:20240331T010000
END:DAYLIGHT
BEGIN:STANDARD
TZOFFSETFROM:+0200
TZOFFSETTO:+0100
TZNAME:CET
DTSTART:20241027T010000
END:STANDARD
BEGIN:DAYLIGHT
TZOFFSETFROM:+0100
TZOFFSETTO:+0200
TZNAME:CEST
DTSTART:20250330T010000
END:DAYLIGHT
BEGIN:STANDARD
TZOFFSETFROM:+0200
TZOFFSETTO:+0100
TZNAME:CET
DTSTART:20251026T010000
END:STANDARD
END:VTIMEZONE
BEGIN:VEVENT
DTSTART;VALUE=DATE:20240607
DTEND;VALUE=DATE:20240610
DTSTAMP:20260420T223341
CREATED:20240429T113619Z
LAST-MODIFIED:20240515T104441Z
UID:227422-1717718400-1717977599@www.niebywalesuwalki.pl
SUMMARY:VII Soulwałki Gospel Workshop - warsztaty i koncert finałowy w Suwałkach
DESCRIPTION:W dniach 7-9 czerwca w Suwałkach odbędzie się VII edycja SOULWAŁKI GOSPEL WORKSHOP Tribute to Clarence „Mr. Gospel” Eggleton. Warsztaty poprowadzi Norris Garner\, bliski przyjaciel i współpracownik zmarłego kompozytora; z kolei zajęcia dla dzieci – Beata Stasiak.\nAnna Szafranowska\, organizatorka Soulwałki Gospel Workshop\, podkreśla\, że tegoroczna edycja przyniesie kilka istotnych zmian. \n– Po raz pierwszy warsztaty poprowadzi kompozytor posiadający prawa do twórczości zmarłego przyjaciela i mentora – Clarence’a Eggletona. Eggleton to postać znana nie tylko w Stanach Zjednoczonych\, zwłaszcza w Kalifornii\, ale również w Niemczech\, Szwecji i Polsce – dodaje założycielka Suwałki Gospel Choir. \n\n\nNorris Garner odziedziczył wszystkie prawa do muzyki i kompozycji Clarence’a. Pomysł zorganizowania koncertu w Polsce w hołdzie dla Clarence’a wynika z popularności jego muzyki. Warsztaty będą skierowane zarówno do dzieci\, jak i dorosłych\, z różnorodnym repertuarem obejmującym tradycyjne gospel\, energetyczne utwory\, klaskanie\, swingujące kompozycje oraz elementy bluesa\, charakterystyczne dla twórczości Norrisa. \n\nSwój udział już zapowiedziały chóry z różnych części Polski i Europy\, w tym z Rygi\, Warszawy\, Nowego Dworu Gdańskiego i Ełku. Uczestnicy będą mieli okazję nauczyć się nowych utworów i wystąpić podczas koncertu\, który Norris Garner planuje nagrać. \n– Beata Stasiak poprowadzi warsztaty dla dzieci\, natomiast Norris Garner będzie uczył dorosłych. Norris Garner będzie szukał solistów wśród uczestników warsztatów\, aby wykonali solówki w nagrywanych utworach – dodaje Anna Szafranowska. \n\n\nZapisy na warsztaty wciąż trwają\, już w tej chwili zgłosiło się około 80 uczestników. Nic w tym dziwnego\, ponieważ Norris Garner\, jako doświadczony kompozytor i nauczyciel\, ma otwartą i energetyczną osobowość\, która przyciąga ludzi. \n\nSzymon Markiewicz\, kompozytor od lat związany z gospel i wydarzeniami w Suwałkach miał okazję poznać Clarence’a Eggletona. \n– Moje pierwsze doświadczenie z muzyką gospel za oceanem miało miejsce w 2007 roku\, kiedy Norris i Clarence zaprosili mnie na największe warsztaty w Stanach\, odbywające się w Orlando na Florydzie. Pojechałem tam\, aby zdobyć nowe doświadczenia i zobaczyć\, jak muzyka gospel funkcjonuje w afroamerykańskiej społeczności. Był to intensywny czas\, podczas którego nie tylko koncertowałem\, ale także chłonąłem wiedzę od Clarence’a\, Norrisa i innych muzyków. Szczególnym wspomnieniem jest wieczór\, kiedy nagrywaliśmy piosenkę w studio Clarence’a z wieloma wokalistami i muzykami. W 2011 roku\, razem z Clarence’em i Norisem\, współtworzyliśmy projekt „Together We Stand” w Fairbanks na Alasce. Była to wyjątkowa inicjatywa\, która zaowocowała naszą współpracą z Mali Music. Singiel nagrany z jego udziałem został w 2012 roku nominowany i umieszczony na amerykańskiej składance 30 najlepszych utworów gospel\, co było dla nas ogromnym wyróżnieniem. Od tamtej pory regularnie odwiedzałem Norrisa w Waszyngtonie\, utrzymując kontakt z Clarence’em przez komunikatory. Clarence był nie tylko utalentowanym kompozytorem\, ale także mądrym i doświadczonym człowiekiem. Jego wpływ na muzykę gospel był ogromny – napisał ponad 300 utworów\, które znalazły się w wielu hymnbukach. Współpracował z wybitnymi muzykami i zdobył wiele prestiżowych nagród – wspomina Szymon Markiewicz. \n\n\nEfekty warsztatów zostaną zaprezentowane podczas Koncertu Finałowego VII Soulwałki Gospel Workshop z Suwalską Orkiestrą Kameralną\, który odbędzie się 9 czerwca o godz. 18.00 w sali im. Andrzeja Wajdy. \n\nTU KUPISZ BILETY NA KONCERT FINAŁOWY i znajdziesz KARTY ZGŁOSZEŃ na warsztaty gospel.
URL:https://www.niebywalesuwalki.pl/wydarzenie/vii-soulwalki-gospel-workshop-warsztaty-i-koncert-finalowy-w-suwalkach/
END:VEVENT
BEGIN:VEVENT
DTSTART;TZID=Europe/Warsaw:20240607T100000
DTEND;TZID=Europe/Warsaw:20240608T160000
DTSTAMP:20260420T223341
CREATED:20240506T093308Z
LAST-MODIFIED:20240506T093309Z
UID:227602-1717754400-1717862400@www.niebywalesuwalki.pl
SUMMARY:II Augustowski Festiwal Pasji do Nauki REAKCJA
DESCRIPTION:Piątek 7 czerwca 2024 r.   \n10:00-16:00 stanowiska edukacyjne na Rynku Zygmunta Augusta (Fundacja Terra Desolata\, Wydział Archeologii UW\, Wigierski Park Narodowy\, Suwalski Park Krajobrazowy\, Podlaskie Retromaniaki\, Robo Coding\, Zderzenie z Historią\, Stowarzyszenie POLARIS-OPP\, Instytut Pileckiego\, Marta Tarnawska-Banaszek i Michał Banaszek) \n10:15 pokaz naukowy: „Michał Sędziwój na tropie nieśmiertelności” – Piotr Kucharski (Zderzenie z Historią) \n11:00 pokaz: walki robotów SUMO BOOTY – Robo Coding \n11:30 pokaz naukowy: „Puzon i fizyka” – Heweliusze Nauki \n12:30 pokaz naukowy: „Rzymska machina wojenna\, czyli czemu Rzym miał jedną z najlepszych armii w dziejach” – Marcin Gostkowski (Pan od Historii) \n13:30 wykład biologiczno-etnograficzny: „O palcach umarlaka\, zmierzchnicy trupiej główce\, przeklętej pannie i innych ziołach z najbliższej okolicy” – dr hab. Stanisław Czachorowski (Profesorskie Gadanie) \n14:30 wykład naukowy: „O drapieżnych motylach i hiszpańskiej musze\, czyli garść niezwykłych  informacji o owadach” – dr hab. Stanisław Czachorowski (Profesorskie Gadanie) \n15:30 pokaz naukowy: „Michał Sędziwój na tropie nieśmiertelności” – Piotr Kucharski (Zderzenie z Historią) \nSobota 8 czerwca 2024 r.  \n11:00-17:00 stanowiska edukacyjne na Rynku Zygmunta Augusta (Fundacja Terra Desolata\, Wydział Archeologii UW\, Biebrzański Park Narodowy\, Suwalski Park Krajobrazowy\, Podlaskie Retromaniaki\, Robo Coding\, Zderzenie z Historią\, Stowarzyszenie POLARIS-OPP\, Profesorskie Gadanie\, Marta Tarnawska-Banaszek i Michał Banaszek) \n11:15 wykład plenerowy: „Przeszłość w przedmiotach zaklęta. Archeologia Ziemi Augustowskiej” – Fundacja Terra Desolata \n12:00-16:00 pokazy naukowe: science busking – Heweliusze Nauki \n12:00 wykład plenerowy: „Klimat dawniej i dziś” – Krzysztof Poznański (Naukowo TV) \n13:00 pokaz rekonstrukcji historycznej – Hospitalierių Ordinas \n13:30 pokaz naukowy: „Odnawialne źródła energii” – Robo Coding \n14:00 wykład plenerowy: „Czy w Polsce żyły dinozaury?” – Krzysztof Poznański (Naukowo TV) \n15:00 pokaz naukowy: „Michał Sędziwój na tropie nieśmiertelności” – Piotr Kucharski (Zderzenie z Historią) \n15:30 wykład plenerowy: „Wielka Lechia – historia prawdziwa” – Fundacja Terra Desolata \n16:00 pokaz rekonstrukcji historycznej – Hospitalierių Ordinas \nOrganizatorzy: \nFundacja Terra Desolata – archeologia i edukacja\nAugustowskie Placówki Kultury\nMiasto Augustów\n………………………………………………………………………… \nProjekt dofinansowany ze środków budżetu państwa przyznanych przez Ministra Nauki i Szkolnictwa Wyższego w ramach Programu „Społeczna Odpowiedzialność Nauki II. Popularyzacja Nauki”.
URL:https://www.niebywalesuwalki.pl/wydarzenie/ii-augustowski-festiwal-pasji-do-nauki-reakcja/
LOCATION:Rynek Zygmunta Augusta\, Szczegóły w programie.\, Augustów\, Polska
ATTACH;FMTTYPE=image/jpeg:https://www.niebywalesuwalki.pl/wp-content/uploads/2024/05/pasja_augustow.jpg
END:VEVENT
BEGIN:VEVENT
DTSTART;TZID=Europe/Warsaw:20240607T170000
DTEND;TZID=Europe/Warsaw:20240608T190000
DTSTAMP:20260420T223341
CREATED:20240517T074509Z
LAST-MODIFIED:20240517T074509Z
UID:228091-1717779600-1717873200@www.niebywalesuwalki.pl
SUMMARY:Suwałki Street Festiwal - ulica wolna od nałogów
DESCRIPTION:„Suwałki Street Festiwal” to jedno z najciekawszych wydarzeń organizowanych w 2024 roku w Suwałkach. To festiwal sportów ulicznych\, który całkowicie zrywa z dotychczasowymi trendami\, wyprowadzając nową jakość. Tegoroczna edycja pod hasłem „Ulica wolna od nałogów” odzwierciedla dążenie społeczności do tworzenia bezpiecznej i zdrowej przestrzeni publicznej\, wolnej od negatywnych wpływów nałogów\, jednocześnie promując zdrowy styl życia. \nTo więcej niż tylko festiwal – to inicjatywa\, która łączy pokolenia i inspiruje do pozytywnych zmian w społeczności. \nPierwszego dnia festiwalu\, tuż po godzinie 21:00 wspólnie wyruszymy na drugi w historii Suwałk nocny przejazd ulicami miasta. Start nastąpi spod Centrum Handlowego „Suwałki PLAZA”\, a finisz nastąpi na bulwarach nad rzeką Czarną Hańczą.\nSuwałki Street Festiwal potrwa dwa dni. W pierwszy weekend czerwca nie zabraknie ogromu atrakcji\, takich jak: koncerty znanych artystów\, pokazy Freestyle Football i Skateboardingu\, strefa Graffiti\, customizacji ubrań i obuwia\, turnieje\, warsztaty i wiele\, wiele więcej! \n07 czerwca 2024 r. (piątek) – SUWAŁKI STREET NIGHT\n17:00 – rozpoczęcie wydarzenia\n17:30 – pokaz oraz warsztaty Freestyle Football – Miłosz Stopiński „Ten Od Piłki”\n18:00 – turniej Street Tennisa\n18:15 – turniej w Dwa Ognie\n18:30 – pokaz Skateboardingu\n19:00 – pokaz Breakdance – I wejście\n19:15 – konkurs Open Skateboardingu\n20:00 – pokaz Breakdance – II wejście\n21:00 – przejazd przez miasto\nPonadto: strefa Street Football\, strefa Graffiti\, TeqBall\, otwarta strefa Skateboardingu \n08 czerwca 2024 r. (sobota) – SUWAŁKI STREET ART \n10:00 – strefa Graffiti (konkurs)\n10:00 – strefa kredy\n10:00 – strefa customizacji ubrań i obuwia\n10:00 – strefa gier planszowych\n10:30 – warsztaty Breakdance „Dom Latających Tańcerzy” (SOK\, ul. Papieża Jana Pawła II 5)\n11:30 – strefa „Emotkowych Pożeraczy Smutków” z Panią FLOBO\n19:00 – SUWAŁKI STREET VIBES – koncert Otsochodzi\, Guzior\, support KUMI (HSW „Suwałki Arena”\, ul. Zarzecze 26) \n08 czerwca 2024 r. (sobota) – SUWAŁKI STREET CAMP \n10:00 – turniej StreetBall 3 vs 3\n10:00 – turniej TeqBall\n10:30 – zajęcia profilaktyczne z psychologiem\n08 czerwca 2024 r. (sobota) – warsztaty „Szkoła Bez Hejtu i Używek” \n10:30 – Paweł Pasiak\, Trener współpracujący z kadrą województwa podlaskiego juniorów i kadetów od 2009 r.\, Trener sekcji bokserskiej OSiR\, odznaczony brązową odznaką przez Ministra Sportu za zasługi dla sportu (2015)\n11:15 – Pani FLOBO (Marta Florkiewicz-Borkowska)\, edukatorka\, trenerka\, Nauczyciel Roku 2017\, laureatka Nagrody im. Ireny Sendlerowej „Za naprawianie świata”\n12:00 – Marcin Kruszewski „Prawo Marcina”\, prawnik\, absolwent Uniwersytetu Warszawskiego\, twórca największego profilu prawniczego w Polsce\, na którym codziennie opowiada o prawach ucznia\n08 czerwca 2024 r. (sobota) – PumpTrack Challenge \n14:00 – zawody na Bike Parku przy ul. Moniuszki 1A\, PumpTrack Challenge\, wydarzenie połączone z piknikiem rodzinnym \n* Zadanie dofinansowanie ze środków Miejskiej Komisji Rozwiązywania Problemów Alkoholowych. \nOrganizatorzy: Ośrodek Sportu i Rekreacji w Suwałkach\, Urząd Miejski w Suwałkach\, Suwalski Ośrodek Kultury \nPartner artystyczny: Klimat Tworzą Ludzie \nPartnerzy: Miejska Komisja Rozwiązywania Problemów Alkoholowych\, C.H. „Suwałki Plaza”\, Mroczne Bractwo\, Porta Drzwi\, Movement Arena Suwałki\, Państwowa Uczelnia Zawodowa w Suwałkach\, Stowarzyszenie Aktywności Społecznej „Sportowe Miasto”\, Suwalska Spółdzielnia Mieszkaniowa w Suwałkach\, Hotel Szyszko\, Elade.
URL:https://www.niebywalesuwalki.pl/wydarzenie/suwalki-street-festiwal-ulica-wolna-od-nalogow/
LOCATION:Suwałki\, skrzyżowanie ul. Utrata i Przytorowa\, Suwałki\, Polska
ATTACH;FMTTYPE=image/jpeg:https://www.niebywalesuwalki.pl/wp-content/uploads/2024/05/street.jpg
END:VEVENT
BEGIN:VEVENT
DTSTART;VALUE=DATE:20240608
DTEND;VALUE=DATE:20240611
DTSTAMP:20260420T223341
CREATED:20240603T081921Z
LAST-MODIFIED:20240603T081922Z
UID:228920-1717804800-1718063999@www.niebywalesuwalki.pl
SUMMARY:Jubileusz XXV-lecia pobytu św. Jana Pawła II w Wigrach
DESCRIPTION:
URL:https://www.niebywalesuwalki.pl/wydarzenie/jubileusz-xxv-lecia-pobytu-sw-jana-pawla-ii-w-wigrach/
LOCATION:Klasztor Pokamedulski\, Wigry\, Polska
END:VEVENT
BEGIN:VEVENT
DTSTART;TZID=Europe/Warsaw:20240608T090000
DTEND;TZID=Europe/Warsaw:20240608T120000
DTSTAMP:20260420T223341
CREATED:20240607T135149Z
LAST-MODIFIED:20240607T135149Z
UID:229069-1717837200-1717848000@www.niebywalesuwalki.pl
SUMMARY:Spotkanie z leśniczymi z Wigierskiego Parku Narodowego
DESCRIPTION:Zapraszamy na kolejne spotkanie z naszym leśniczym!\n8 czerwca (sobota) o godz. 9:00\n– zbiórka przy leśniczówce w Kruszniku (lokalizacja: https://maps.app.goo.gl/28CAjwWEtGsZWfjJ9 )\n– udział po wykupieniu kart wstępu do WPN: na miejscu lub na stronie wpn.eparki.pl\n– zapisy do 7 czerwca do godz. 14:00\, tel. 510 992 686\n– długość trasy ok. 6 km (może ulec zmianie ze względu na preferencje grupy)\n– prosimy o obuwie terenowe\, ubiór dostosowany do pogody\, zabezpieczenie się przed kleszczami i komarami.
URL:https://www.niebywalesuwalki.pl/wydarzenie/spotkanie-z-lesniczymi-z-wigierskiego-parku-narodowego/
LOCATION:Krusznik\, Krusznik 18A\, Krusznik\, Poland
END:VEVENT
BEGIN:VEVENT
DTSTART;TZID=Europe/Warsaw:20240608T120000
DTEND;TZID=Europe/Warsaw:20240608T170000
DTSTAMP:20260420T223341
CREATED:20240603T082611Z
LAST-MODIFIED:20240603T082611Z
UID:228930-1717848000-1717866000@www.niebywalesuwalki.pl
SUMMARY:Zapach kawy smak przyjaźni tylko w Starej Łaźni - event kulinarny na bulwarach nad Czarną Hańczą
DESCRIPTION:Cafe Stara Łaźnia\nUl. Wajdy 3 Suwałki\nGotujemy pyszności\nPrzyjdź   spróbuj  oceń\nMy serwujemy jedzenie a Kawiarnia w Łaźni serwuje\n„Zapach kawy smak przyjaźni tylko w Starej Łaźni”\nWięcej informacji :\nZapraszamy\n537- 509- 786 lub 570 – 336 – 900\nMiasto Suwałki\nSoul Kitchen K.G\nSpółdzielnia Stodoła
URL:https://www.niebywalesuwalki.pl/wydarzenie/zapach-kawy-smak-przyjazni-tylko-w-starej-lazni-event-kulinarny-na-bulwarach-nad-czarna-hancza/
LOCATION:Cafe Stara Łaźnia\, ul. A. Wajdy 3\, Suwałki\, Poland
END:VEVENT
BEGIN:VEVENT
DTSTART;TZID=Europe/Warsaw:20240608T160000
DTEND;TZID=Europe/Warsaw:20240608T200000
DTSTAMP:20260420T223341
CREATED:20240603T073757Z
LAST-MODIFIED:20240603T073757Z
UID:228907-1717862400-1717876800@www.niebywalesuwalki.pl
SUMMARY:Noc Bibliotek 2024 w Bibliotece Publicznej im. Marii Konopnickiej w Suwałkach
DESCRIPTION:8 czerwca zapraszamy na Noc Bibliotek! \nA co na Was będzie czekać? Zapraszamy do zapoznania się z programem! \nTegoroczna Noc Bibliotek pod hasłem „Nic o nas bez nas”\, rozpocznie się 8 czerwca o godzinie 16.00 w budynku przy ul. Emilii Plater 33a. \nPaulina Polcyn-Nowacka oprowadzi po wystawie ilustracji do właśnie wydanej książki „Kim Jestem?”. Ilustracje tworzone są ręcznie na papierze\, malowane akwarelami\, rysowane kredkami. W Galerii Zaułek będzie można kupić książkę aby poznać przygody dikdika Kima. \n„Zasłużeni – zapamiętani i zapomniani” to filmowo-zdjęciowa opowieść o ludziach kultury spoczywających na suwalskim cmentarzu przy ulicy Bakałarzewskiej. Przypomniane zostaną ich sylwetki i dokonania\, które warto zachować w pamięci. \n 50 lat Radiowo-Telewizyjnego Centrum Nadawczego Krzemianucha  – swoje wspomnienia Franciszka Łupińskiego\, który pracował tam przez 30 lat i na dodatek prowadził kronikę jego dziejów. \nBajkowe seanse z teatrzykiem kamishibai i gitarą dla dzieci z rodzicami w Wypożyczalni dla Dzieci. \nWarsztaty z SOWA Suwałki – „Zrób sowę z SOWĄ\, czyli kreatywny recykling” w Czytelni. Każdy będzie mógł stworzyć własną sowę z płyty CD i ozdobić ją według swojego pomysłu. \nDla małych i dużych fanów Harrego Pottera i czarodziejów pokaz mody i konkurs na strój nawiązujący do czarodziejskiego świata. \nNa zakończenie wieczoru „Tiara Przydziału”\, potem film dla dzieci\, a dla nieco starszych „Koncert cieni i barw”\, podczas którego wystąpią uczniowie klas akordeonu i gitary Państwowej Szkoły Muzycznej w Suwałkach. \nDodatkowo: \nMagiczne pudełka – to nie magia tylko technika dla małych i dużych. Będzie można zajrzeć na chwilę do świata iluzji. Okaże się\, jak w prosty sposób przygotować własny hologram. \n·         Wystawę plenerową „Suwalski cmentarz – księgi zatrzymanego czasu” będzie można obejrzeć przed budynkiem. Plansze ukazują wartość zabytkowych nagrobków na najstarszym suwalskim cmentarzu. Wystawa jest też opowieścią o spoczywających tam osobach ważnych dla lokalnej  historii\, ale mniej znanych. \n·         „Noc Bez Kar” – jak co roku w tym dniu będzie można oddać książki bez obawy o karę za nieterminowy zwrot. W tym celu zapraszamy do Wypożyczalni dla Dorosłych na pierwszym piętrze. \nProgram Nocy Bibliotek 8.06.2024 r. \n16.00 Rozpoczęcie / Hol \n16.15 Otwarcie i zwiedzanie wystawy „Kim Jestem?” z Pauliną Polcyn-Nowacką / Galeria na Schodach \n16.40 Zasłużeni – zapamiętani i zapomniani – prezentacja suwalskich ludzi kultury/ sala im. J. Towarnickiej\, II piętro \n17.00 Bajkowy seans z teatrzykiem kamishibai i gitarą od 2 r. ż. z rodzicami / Wypożyczalnia dla Dzieci \n17.20 Bajkowy seans z teatrzykiem kamishibai i gitarą od 4 r. ż. z rodzicami / Wypożyczalnia dla Dzieci \n17.00 50 lat Radiowo-Telewizyjnego Centrum Nadawczego Krzemianucha / sala im. J. Towarnickiej\, II piętro \n17.45 Czarodziejski pokaz mody / schody i hol \n18.00 Tiara Przydziału / Hol \n18.30 „Koncert cieni i barw” uczniowie klas akordeonu i gitary Państwowej Szkoły Muzycznej w Suwałkach / sala im. J. Towarnickiej\, II piętro \n18.30 Film dla dzieci / Pracownia Digitalizacji i Historii Mówionej\, parter \nDodatkowo: \n„Magiczne pudełka – to nie magia tylko technika”  / Pracownia Digitalizacji i Historii Mówionej\, parter \n„Zrób sowę z SOWĄ” – warsztaty z SOWA Suwałki / Czytelnia\, I piętro \nWystawa „Suwalski cmentarz – księgi zatrzymanego czasu” / przed budynkiem \n„Kim Jestem?” Paulina Polcyn-Nowacka – stoisko z książkami / Galeria Zaułek\, I piętro \nBiblioteka – Mediateka z klocków Lego / hol \nNoc bez kar
URL:https://www.niebywalesuwalki.pl/wydarzenie/noc-bibliotek-2024-w-bibliotece-publicznej-im-marii-konopnickiej-w-suwalkach/
LOCATION:Biblioteka Publiczna im. Marii Konopnickiej\, Emilii Plater 33A\, Suwałki\, Polska
END:VEVENT
BEGIN:VEVENT
DTSTART;TZID=Europe/Warsaw:20240608T170000
DTEND;TZID=Europe/Warsaw:20240608T180000
DTSTAMP:20260420T223341
CREATED:20240603T082734Z
LAST-MODIFIED:20240603T082735Z
UID:228931-1717866000-1717869600@www.niebywalesuwalki.pl
SUMMARY:Koncert Orkiestry Dętej z Olecka w Suwałkach
DESCRIPTION:
URL:https://www.niebywalesuwalki.pl/wydarzenie/koncert-orkiestry-detej-z-olecka-w-suwalkach/
LOCATION:Salonik muzyczny Fundacji Art-S.O.S.\, ul. Chłodna 12\, Suwałki\, Polska
ATTACH;FMTTYPE=image/jpeg:https://www.niebywalesuwalki.pl/wp-content/uploads/2024/06/muzyczne_perly.jpeg
END:VEVENT
BEGIN:VEVENT
DTSTART;TZID=Europe/Warsaw:20240608T190000
DTEND;TZID=Europe/Warsaw:20240608T220000
DTSTAMP:20260420T223341
CREATED:20240429T113719Z
LAST-MODIFIED:20240429T113720Z
UID:227424-1717873200-1717884000@www.niebywalesuwalki.pl
SUMMARY:Suwałki Street Vibes – koncert – OTSOCHODZI\,GUZIOR support KUMI w Suwałkach
DESCRIPTION:Zapraszamy na niebywały koncert w Hali Suwałki Arena\, prawdziwą ucztę dla miłośników rapu. Na scenie wystąpi GUZIOR i OTSOCHODZI! Support zapewni KUMI. Bilety już w sprzedaży! \n8.06.2024\, godz. 19.00\nSUWAŁKI ARENA\, ul. Zarzecze 26\nBilety dostępne na stronie i w kasie SOK: 60 zł \nNiebawem również na innych portalach sprzedażowych. \n\nKUP TERAZ\nGOINGAPP kup teraz\n\n\nOŚWIADCZENIE OPIEKUNA ZA MAŁOLETNIEGO UCZESTNIKA IMPREZY\n\n\n\n\n\nOtsochodzi to jeden z najciekawszych polskich raperów młodego pokolenia\, ceniony zarówno przez prasę\, jak i publiczność. Tego drugiego dowodzą wielomilionowe liczby odsłuchów jego kawałków na YouTube oraz platynowe płyty i dwa diamentowe single („Nie\, nie” i „Nowy Kolor”). Otso jest również członkiem supergrupy OIO\, którą tworzy wspólnie z Young Igim i OKIM. Aktualnie promuje swój szósty solowy album “TTHE GRIND”. \n\n\n\n\n\n\nWięcej informacji>>> \nhttps://www.facebook.com/Otsochodzi/ \nhttps://www.instagram.com/otsochodzi/ \n\nGUZIOR \nMateusz Bluza – polski raper i autor tekstów\, członek wytwórni QueQuality. Współpracował m.in. z takimi wykonawcami jak raperzy Deys\, Quebonafide\, Kuban\, Kukon\, Słoń czy Szpaku. 24 lutego 2017 roku premierę miał jego pierwszy album pt. Evil Twin. 8 czerwca 2018 roku ukazał się drugi\, legalny album artysty o tytule Evil_Things\, który pokrył się platyną\, dzięki czemu artysta 19 października\, podczas Quefestiwalu otrzymał nagrodę w postaci platynowej płyty za sprzedaż tego właśnie albumu. \n\n\nKUMI – support \n\nWięcej informacji>>> https://www.facebook.com/musickumi
URL:https://www.niebywalesuwalki.pl/wydarzenie/suwalki-street-vibes-koncert-otsochodziguzior-support-kumi-w-suwalkach/
LOCATION:Suwałki Arena
END:VEVENT
END:VCALENDAR