BEGIN:VCALENDAR
VERSION:2.0
PRODID:-//Niebywałe Suwałki - ECPv6.15.20//NONSGML v1.0//EN
CALSCALE:GREGORIAN
METHOD:PUBLISH
X-ORIGINAL-URL:https://www.niebywalesuwalki.pl
X-WR-CALDESC:Wydarzenia dla Niebywałe Suwałki
REFRESH-INTERVAL;VALUE=DURATION:PT1H
X-Robots-Tag:noindex
X-PUBLISHED-TTL:PT1H
BEGIN:VTIMEZONE
TZID:Europe/Warsaw
BEGIN:DAYLIGHT
TZOFFSETFROM:+0100
TZOFFSETTO:+0200
TZNAME:CEST
DTSTART:20230326T010000
END:DAYLIGHT
BEGIN:STANDARD
TZOFFSETFROM:+0200
TZOFFSETTO:+0100
TZNAME:CET
DTSTART:20231029T010000
END:STANDARD
BEGIN:DAYLIGHT
TZOFFSETFROM:+0100
TZOFFSETTO:+0200
TZNAME:CEST
DTSTART:20240331T010000
END:DAYLIGHT
BEGIN:STANDARD
TZOFFSETFROM:+0200
TZOFFSETTO:+0100
TZNAME:CET
DTSTART:20241027T010000
END:STANDARD
BEGIN:DAYLIGHT
TZOFFSETFROM:+0100
TZOFFSETTO:+0200
TZNAME:CEST
DTSTART:20250330T010000
END:DAYLIGHT
BEGIN:STANDARD
TZOFFSETFROM:+0200
TZOFFSETTO:+0100
TZNAME:CET
DTSTART:20251026T010000
END:STANDARD
END:VTIMEZONE
BEGIN:VEVENT
DTSTART;VALUE=DATE:20240607
DTEND;VALUE=DATE:20240610
DTSTAMP:20260421T064928
CREATED:20240429T113619Z
LAST-MODIFIED:20240515T104441Z
UID:227422-1717718400-1717977599@www.niebywalesuwalki.pl
SUMMARY:VII Soulwałki Gospel Workshop - warsztaty i koncert finałowy w Suwałkach
DESCRIPTION:W dniach 7-9 czerwca w Suwałkach odbędzie się VII edycja SOULWAŁKI GOSPEL WORKSHOP Tribute to Clarence „Mr. Gospel” Eggleton. Warsztaty poprowadzi Norris Garner\, bliski przyjaciel i współpracownik zmarłego kompozytora; z kolei zajęcia dla dzieci – Beata Stasiak.\nAnna Szafranowska\, organizatorka Soulwałki Gospel Workshop\, podkreśla\, że tegoroczna edycja przyniesie kilka istotnych zmian. \n– Po raz pierwszy warsztaty poprowadzi kompozytor posiadający prawa do twórczości zmarłego przyjaciela i mentora – Clarence’a Eggletona. Eggleton to postać znana nie tylko w Stanach Zjednoczonych\, zwłaszcza w Kalifornii\, ale również w Niemczech\, Szwecji i Polsce – dodaje założycielka Suwałki Gospel Choir. \n\n\nNorris Garner odziedziczył wszystkie prawa do muzyki i kompozycji Clarence’a. Pomysł zorganizowania koncertu w Polsce w hołdzie dla Clarence’a wynika z popularności jego muzyki. Warsztaty będą skierowane zarówno do dzieci\, jak i dorosłych\, z różnorodnym repertuarem obejmującym tradycyjne gospel\, energetyczne utwory\, klaskanie\, swingujące kompozycje oraz elementy bluesa\, charakterystyczne dla twórczości Norrisa. \n\nSwój udział już zapowiedziały chóry z różnych części Polski i Europy\, w tym z Rygi\, Warszawy\, Nowego Dworu Gdańskiego i Ełku. Uczestnicy będą mieli okazję nauczyć się nowych utworów i wystąpić podczas koncertu\, który Norris Garner planuje nagrać. \n– Beata Stasiak poprowadzi warsztaty dla dzieci\, natomiast Norris Garner będzie uczył dorosłych. Norris Garner będzie szukał solistów wśród uczestników warsztatów\, aby wykonali solówki w nagrywanych utworach – dodaje Anna Szafranowska. \n\n\nZapisy na warsztaty wciąż trwają\, już w tej chwili zgłosiło się około 80 uczestników. Nic w tym dziwnego\, ponieważ Norris Garner\, jako doświadczony kompozytor i nauczyciel\, ma otwartą i energetyczną osobowość\, która przyciąga ludzi. \n\nSzymon Markiewicz\, kompozytor od lat związany z gospel i wydarzeniami w Suwałkach miał okazję poznać Clarence’a Eggletona. \n– Moje pierwsze doświadczenie z muzyką gospel za oceanem miało miejsce w 2007 roku\, kiedy Norris i Clarence zaprosili mnie na największe warsztaty w Stanach\, odbywające się w Orlando na Florydzie. Pojechałem tam\, aby zdobyć nowe doświadczenia i zobaczyć\, jak muzyka gospel funkcjonuje w afroamerykańskiej społeczności. Był to intensywny czas\, podczas którego nie tylko koncertowałem\, ale także chłonąłem wiedzę od Clarence’a\, Norrisa i innych muzyków. Szczególnym wspomnieniem jest wieczór\, kiedy nagrywaliśmy piosenkę w studio Clarence’a z wieloma wokalistami i muzykami. W 2011 roku\, razem z Clarence’em i Norisem\, współtworzyliśmy projekt „Together We Stand” w Fairbanks na Alasce. Była to wyjątkowa inicjatywa\, która zaowocowała naszą współpracą z Mali Music. Singiel nagrany z jego udziałem został w 2012 roku nominowany i umieszczony na amerykańskiej składance 30 najlepszych utworów gospel\, co było dla nas ogromnym wyróżnieniem. Od tamtej pory regularnie odwiedzałem Norrisa w Waszyngtonie\, utrzymując kontakt z Clarence’em przez komunikatory. Clarence był nie tylko utalentowanym kompozytorem\, ale także mądrym i doświadczonym człowiekiem. Jego wpływ na muzykę gospel był ogromny – napisał ponad 300 utworów\, które znalazły się w wielu hymnbukach. Współpracował z wybitnymi muzykami i zdobył wiele prestiżowych nagród – wspomina Szymon Markiewicz. \n\n\nEfekty warsztatów zostaną zaprezentowane podczas Koncertu Finałowego VII Soulwałki Gospel Workshop z Suwalską Orkiestrą Kameralną\, który odbędzie się 9 czerwca o godz. 18.00 w sali im. Andrzeja Wajdy. \n\nTU KUPISZ BILETY NA KONCERT FINAŁOWY i znajdziesz KARTY ZGŁOSZEŃ na warsztaty gospel.
URL:https://www.niebywalesuwalki.pl/wydarzenie/vii-soulwalki-gospel-workshop-warsztaty-i-koncert-finalowy-w-suwalkach/
END:VEVENT
BEGIN:VEVENT
DTSTART;VALUE=DATE:20240608
DTEND;VALUE=DATE:20240611
DTSTAMP:20260421T064928
CREATED:20240603T081921Z
LAST-MODIFIED:20240603T081922Z
UID:228920-1717804800-1718063999@www.niebywalesuwalki.pl
SUMMARY:Jubileusz XXV-lecia pobytu św. Jana Pawła II w Wigrach
DESCRIPTION:
URL:https://www.niebywalesuwalki.pl/wydarzenie/jubileusz-xxv-lecia-pobytu-sw-jana-pawla-ii-w-wigrach/
LOCATION:Klasztor Pokamedulski\, Wigry\, Polska
END:VEVENT
BEGIN:VEVENT
DTSTART;TZID=Europe/Warsaw:20240609T100000
DTEND;TZID=Europe/Warsaw:20240609T110000
DTSTAMP:20260421T064928
CREATED:20240423T122935Z
LAST-MODIFIED:20240524T103202Z
UID:227075-1717927200-1717930800@www.niebywalesuwalki.pl
SUMMARY:Montaż słowno-muzyczny w Wigrach
DESCRIPTION:
URL:https://www.niebywalesuwalki.pl/wydarzenie/montaz-slowno-muzyczny-w-wigrach/
LOCATION:Klasztor Pokamedulski\, Wigry\, Polska
ATTACH;FMTTYPE=image/jpeg:https://www.niebywalesuwalki.pl/wp-content/uploads/2024/04/Pamietamy-do-druku.jpg
END:VEVENT
BEGIN:VEVENT
DTSTART;TZID=Europe/Warsaw:20240609T100000
DTEND;TZID=Europe/Warsaw:20240609T120000
DTSTAMP:20260421T064928
CREATED:20240603T073450Z
LAST-MODIFIED:20240603T073450Z
UID:228906-1717927200-1717934400@www.niebywalesuwalki.pl
SUMMARY:Fit Forest Wigry 3z6 - trening na Słupiu
DESCRIPTION:a pierwszym i drugim treningu było nas wielu. Mamy nadzieję\, że i tym razem spędzimy wspólnie czas w aktywności fizycznej\, z uważnością na przyrodę. Park narodowy to swoiste sanatorium\, gdzie przyroda ma niezwykłą moc. Podczas treningów będziemy w ruchu i w wyciszeniu obserwować przyrodę. Będziemy czerpać różnymi zmysłami z jej cudownej energii dla dobra naszych ciał.\nPodczas treningu będziemy aktywować nasze serca i wzmacniać ciała przemierzając piękną 5 km trasę\, w trzech wariantach:• Aktywny spacer (Power Walk) z Kasią Łukowską (Wigierski Park Narodowy• Marsz z przebieżkami z Elą Perkowską (Wigierski Park Narodowy)• Bieganie z trenerem lekkoatletyki Martą Aneszko\nAle najpierw zaczniemy od rozgrzewki. Po aktywności rozciągniemy się i zaznamy kąpieli leśnej.\nNa drugim treningu każdy uczestnik otrzymał zestaw taśm do treningu oporowego. Tym razem będą rozdawane ręcznie szyte opaski na głowę z motywem lasu.\nZapisy: ela.perkowska@wigry.org.pl\, tel 87 5632554.\nWydarzenie jest organizowane w ramach projektu pt. „Z energią łączymy pokolenia” dofinansowanego ze środków Fundacji PGE.
URL:https://www.niebywalesuwalki.pl/wydarzenie/fit-forest-wigry-3z6-trening-na-slupiu/
LOCATION:Słupie\, Słupie\, Polska
END:VEVENT
BEGIN:VEVENT
DTSTART;TZID=Europe/Warsaw:20240609T120000
DTEND;TZID=Europe/Warsaw:20240609T130000
DTSTAMP:20260421T064928
CREATED:20240423T123024Z
LAST-MODIFIED:20240423T123025Z
UID:227076-1717934400-1717938000@www.niebywalesuwalki.pl
SUMMARY:Koncert orkiestry kameralnej w Wigrach
DESCRIPTION:
URL:https://www.niebywalesuwalki.pl/wydarzenie/koncert-orkiestry-kameralnej-w-wigrach/
LOCATION:Klasztor Pokamedulski\, Wigry\, Polska
ATTACH;FMTTYPE=image/jpeg:https://www.niebywalesuwalki.pl/wp-content/uploads/2024/04/Pamietamy-do-druku.jpg
END:VEVENT
BEGIN:VEVENT
DTSTART;TZID=Europe/Warsaw:20240609T180000
DTEND;TZID=Europe/Warsaw:20240609T190000
DTSTAMP:20260421T064928
CREATED:20240515T104416Z
LAST-MODIFIED:20240515T104459Z
UID:227960-1717956000-1717959600@www.niebywalesuwalki.pl
SUMMARY:VII Soulwałki Gospel Workshop - koncert finałowy w Suwałkach
DESCRIPTION:W dniach 7-9 czerwca w Suwałkach odbędzie się VII edycja SOULWAŁKI GOSPEL WORKSHOP Tribute to Clarence „Mr. Gospel” Eggleton. Warsztaty poprowadzi Norris Garner\, bliski przyjaciel i współpracownik zmarłego kompozytora; z kolei zajęcia dla dzieci – Beata Stasiak.\nAnna Szafranowska\, organizatorka Soulwałki Gospel Workshop\, podkreśla\, że tegoroczna edycja przyniesie kilka istotnych zmian. \n– Po raz pierwszy warsztaty poprowadzi kompozytor posiadający prawa do twórczości zmarłego przyjaciela i mentora – Clarence’a Eggletona. Eggleton to postać znana nie tylko w Stanach Zjednoczonych\, zwłaszcza w Kalifornii\, ale również w Niemczech\, Szwecji i Polsce – dodaje założycielka Suwałki Gospel Choir. \n\n\nNorris Garner odziedziczył wszystkie prawa do muzyki i kompozycji Clarence’a. Pomysł zorganizowania koncertu w Polsce w hołdzie dla Clarence’a wynika z popularności jego muzyki. Warsztaty będą skierowane zarówno do dzieci\, jak i dorosłych\, z różnorodnym repertuarem obejmującym tradycyjne gospel\, energetyczne utwory\, klaskanie\, swingujące kompozycje oraz elementy bluesa\, charakterystyczne dla twórczości Norrisa. \n\nSwój udział już zapowiedziały chóry z różnych części Polski i Europy\, w tym z Rygi\, Warszawy\, Nowego Dworu Gdańskiego i Ełku. Uczestnicy będą mieli okazję nauczyć się nowych utworów i wystąpić podczas koncertu\, który Norris Garner planuje nagrać. \n– Beata Stasiak poprowadzi warsztaty dla dzieci\, natomiast Norris Garner będzie uczył dorosłych. Norris Garner będzie szukał solistów wśród uczestników warsztatów\, aby wykonali solówki w nagrywanych utworach – dodaje Anna Szafranowska. \n\n\nZapisy na warsztaty wciąż trwają\, już w tej chwili zgłosiło się około 80 uczestników. Nic w tym dziwnego\, ponieważ Norris Garner\, jako doświadczony kompozytor i nauczyciel\, ma otwartą i energetyczną osobowość\, która przyciąga ludzi. \n\nSzymon Markiewicz\, kompozytor od lat związany z gospel i wydarzeniami w Suwałkach miał okazję poznać Clarence’a Eggletona. \n– Moje pierwsze doświadczenie z muzyką gospel za oceanem miało miejsce w 2007 roku\, kiedy Norris i Clarence zaprosili mnie na największe warsztaty w Stanach\, odbywające się w Orlando na Florydzie. Pojechałem tam\, aby zdobyć nowe doświadczenia i zobaczyć\, jak muzyka gospel funkcjonuje w afroamerykańskiej społeczności. Był to intensywny czas\, podczas którego nie tylko koncertowałem\, ale także chłonąłem wiedzę od Clarence’a\, Norrisa i innych muzyków. Szczególnym wspomnieniem jest wieczór\, kiedy nagrywaliśmy piosenkę w studio Clarence’a z wieloma wokalistami i muzykami. W 2011 roku\, razem z Clarence’em i Norisem\, współtworzyliśmy projekt „Together We Stand” w Fairbanks na Alasce. Była to wyjątkowa inicjatywa\, która zaowocowała naszą współpracą z Mali Music. Singiel nagrany z jego udziałem został w 2012 roku nominowany i umieszczony na amerykańskiej składance 30 najlepszych utworów gospel\, co było dla nas ogromnym wyróżnieniem. Od tamtej pory regularnie odwiedzałem Norrisa w Waszyngtonie\, utrzymując kontakt z Clarence’em przez komunikatory. Clarence był nie tylko utalentowanym kompozytorem\, ale także mądrym i doświadczonym człowiekiem. Jego wpływ na muzykę gospel był ogromny – napisał ponad 300 utworów\, które znalazły się w wielu hymnbukach. Współpracował z wybitnymi muzykami i zdobył wiele prestiżowych nagród – wspomina Szymon Markiewicz. \n\n\nEfekty warsztatów zostaną zaprezentowane podczas Koncertu Finałowego VII Soulwałki Gospel Workshop z Suwalską Orkiestrą Kameralną\, który odbędzie się 9 czerwca o godz. 18.00 w sali im. Andrzeja Wajdy. \n\nTU KUPISZ BILETY NA KONCERT FINAŁOWY i znajdziesz KARTY ZGŁOSZEŃ na warsztaty gospel.
URL:https://www.niebywalesuwalki.pl/wydarzenie/vii-soulwalki-gospel-workshop-koncert-finalowy-w-suwalkach/
END:VEVENT
BEGIN:VEVENT
DTSTART;TZID=Europe/Warsaw:20240609T190000
DTEND;TZID=Europe/Warsaw:20240609T200000
DTSTAMP:20260421T064928
CREATED:20240516T084429Z
LAST-MODIFIED:20240516T084429Z
UID:228076-1717959600-1717963200@www.niebywalesuwalki.pl
SUMMARY:Jerzy Małek Quintet w Rozmarino w Suwałkach
DESCRIPTION:JERZY MAŁEK QUINTET\nJerzy Małek – trąbka\, flugelhorn\nRadek Nowicki- tenor sax\nPiotr Wyleżoł– piano\nAndrzej Święs – bass\nSebastian Frankiewicz- drums\nMuzyka\, którą wykonują\, to fuzja wielu gatunków muzycznych i jazzu połączonych ze sobą niczym nieposkromioną jazzową improwizacją.\nStyl muzyczny\, w którym wypowiadają się można postrzegać wielopoziomowo.\nW warstwie harmonicznej usłyszymy rozbudowane modernistyczne połączenia akordów tworzących wspólną narrację\, której wyróżnikiem jest impresjonistyczne rozbudowywanie formy. Ta cecha pozwala łączyć elementy jazzu nowoczesnego z innymi gatunkami muzycznymi lub też ich składnikami\, które wprawne ucho rozpozna bez trudu.\nWarstwa melodyczna to frazy muzyczne podkreślające sonorystykę harmonii kompozycji\, które można powtórzyć już po pierwszym przesłuchaniu\, co powoduje\, że muzyka\, pomimo swego wysublimowania\, staje się komunikatywna nawet dla niewyrobionego odbiorcy.\nI wreszcie warstwa rytmiczna\, bardzo bogata\, spajająca cały projekt\, tworząc wraz z resztą elementów swoistą kwintesencję tego stylu muzycznego.\n„Idiom\, w którym poruszamy się podczas improwizacji można zakwalifikować do szeroko pojętego modernistycznego jazzu zatem usłyszeć można echa muzyki mistrzów Miles’a Davis’a\, John’a Coltrane’a\, Wayne Shorter’a\, Freddie’go Hubbard’a\, Woody Shaw’a\, Joe Henderson’a\, Herbie Hancock’a\, Kenny Wheeler’a\, Keith’a Jarretta\, Brad’a Mehldau’a i wielu innych”.\nNade wszystko najistotniejszą cechą twórczości Jerzego Małka jest chęć odzwierciedlenia rzeczywistości poprzez dźwięki. Język jazzu jest jakby stworzony do snucia różnego typu opowieści. W każdym utworze poprzez barwę harmonii i jej następstw można wychwycić intencję przekazu\, narracji\, historii\, która wyłania się i poprzez improwizację nabiera pełni.\nImprowizacja\, w przypadku jego twórczości odzwierciedla istotę snutych opowieści. Czasem smutnych\, czasem wesołych\, różnych w swej odmienności i odcieniach… jak w życiu.\nSkład kwintetu to absolutna czołówka polskiego jazzu.\nZapraszamy!!!
URL:https://www.niebywalesuwalki.pl/wydarzenie/jerzy-malek-quintet-w-rozmarino-w-suwalkach/
LOCATION:Ogród „Rozmarino”\, Kościuszki 75\, Suwałki\, 16-400\, Polska
END:VEVENT
END:VCALENDAR