BEGIN:VCALENDAR
VERSION:2.0
PRODID:-//Niebywałe Suwałki - ECPv6.15.20//NONSGML v1.0//EN
CALSCALE:GREGORIAN
METHOD:PUBLISH
X-WR-CALNAME:Niebywałe Suwałki
X-ORIGINAL-URL:https://www.niebywalesuwalki.pl
X-WR-CALDESC:Wydarzenia dla Niebywałe Suwałki
REFRESH-INTERVAL;VALUE=DURATION:PT1H
X-Robots-Tag:noindex
X-PUBLISHED-TTL:PT1H
BEGIN:VTIMEZONE
TZID:Europe/Warsaw
BEGIN:DAYLIGHT
TZOFFSETFROM:+0100
TZOFFSETTO:+0200
TZNAME:CEST
DTSTART:20230326T010000
END:DAYLIGHT
BEGIN:STANDARD
TZOFFSETFROM:+0200
TZOFFSETTO:+0100
TZNAME:CET
DTSTART:20231029T010000
END:STANDARD
BEGIN:DAYLIGHT
TZOFFSETFROM:+0100
TZOFFSETTO:+0200
TZNAME:CEST
DTSTART:20240331T010000
END:DAYLIGHT
BEGIN:STANDARD
TZOFFSETFROM:+0200
TZOFFSETTO:+0100
TZNAME:CET
DTSTART:20241027T010000
END:STANDARD
BEGIN:DAYLIGHT
TZOFFSETFROM:+0100
TZOFFSETTO:+0200
TZNAME:CEST
DTSTART:20250330T010000
END:DAYLIGHT
BEGIN:STANDARD
TZOFFSETFROM:+0200
TZOFFSETTO:+0100
TZNAME:CET
DTSTART:20251026T010000
END:STANDARD
END:VTIMEZONE
BEGIN:VEVENT
DTSTART;TZID=Europe/Warsaw:20240611T100000
DTEND;TZID=Europe/Warsaw:20240611T110000
DTSTAMP:20260421T061436
CREATED:20240603T090405Z
LAST-MODIFIED:20240603T090405Z
UID:228947-1718100000-1718103600@www.niebywalesuwalki.pl
SUMMARY:Przystanek Historia IPN Suwałki - O Suwałkach w Paryżu
DESCRIPTION:Dyrektor Oddziału Instytutu Pamięci Narodowej w Białymstoku\nDr Marek Jedynak\noraz\nDyrektor Muzeum Okręgowego w Suwałkach\nJerzy Brzozowski \nzapraszają na spotkanie z Jarosławem Wasilewskim\nw ramach Przystanku Historia IPN w Suwałkach\nO Suwałkach w Paryżu\nSpór o przynależność państwową\npołudniowej Suwalszczyzny w 1919 r.\n11.06.2024 r godz. 10.00 \nMuzeum Okręgowe w Suwałkach\nul. T. Kościuszki 81
URL:https://www.niebywalesuwalki.pl/wydarzenie/przystanek-historia-ipn-suwalki-o-suwalkach-w-paryzu/
LOCATION:Muzeum Okręgowe\, Kościuszki 81\, Suwałki\, 16-400\, Polska
END:VEVENT
END:VCALENDAR