BEGIN:VCALENDAR
VERSION:2.0
PRODID:-//Niebywałe Suwałki - ECPv6.15.20//NONSGML v1.0//EN
CALSCALE:GREGORIAN
METHOD:PUBLISH
X-ORIGINAL-URL:https://www.niebywalesuwalki.pl
X-WR-CALDESC:Wydarzenia dla Niebywałe Suwałki
REFRESH-INTERVAL;VALUE=DURATION:PT1H
X-Robots-Tag:noindex
X-PUBLISHED-TTL:PT1H
BEGIN:VTIMEZONE
TZID:Europe/Warsaw
BEGIN:DAYLIGHT
TZOFFSETFROM:+0100
TZOFFSETTO:+0200
TZNAME:CEST
DTSTART:20230326T010000
END:DAYLIGHT
BEGIN:STANDARD
TZOFFSETFROM:+0200
TZOFFSETTO:+0100
TZNAME:CET
DTSTART:20231029T010000
END:STANDARD
BEGIN:DAYLIGHT
TZOFFSETFROM:+0100
TZOFFSETTO:+0200
TZNAME:CEST
DTSTART:20240331T010000
END:DAYLIGHT
BEGIN:STANDARD
TZOFFSETFROM:+0200
TZOFFSETTO:+0100
TZNAME:CET
DTSTART:20241027T010000
END:STANDARD
BEGIN:DAYLIGHT
TZOFFSETFROM:+0100
TZOFFSETTO:+0200
TZNAME:CEST
DTSTART:20250330T010000
END:DAYLIGHT
BEGIN:STANDARD
TZOFFSETFROM:+0200
TZOFFSETTO:+0100
TZNAME:CET
DTSTART:20251026T010000
END:STANDARD
END:VTIMEZONE
BEGIN:VEVENT
DTSTART;TZID=Europe/Warsaw:20240612T180000
DTEND;TZID=Europe/Warsaw:20240612T203000
DTSTAMP:20260421T003212
CREATED:20240604T084827Z
LAST-MODIFIED:20240604T152337Z
UID:228981-1718215200-1718224200@www.niebywalesuwalki.pl
SUMMARY:Finał Pucharu Polski na szczeblu województwa podlaskiego; Wigry Suwałki – Olimpia Zambrów
DESCRIPTION:W środę\, 12 czerwca\, na Stadionie Miejskim w Suwałkach odbędzie się finał Pucharu Polski na szczeblu Podlaskiego Związku Piłki Nożnej. O trofeum powalczą drużyny Wigier Suwałki i Olimpii Zambrów. Początek meczu na Zarzeczu o godzinie 18. Triumfator uzyska prawo do uczestniczenia w przyszłej edycji (2024/25) Pucharu Polski na szczeblu centralnym.
URL:https://www.niebywalesuwalki.pl/wydarzenie/final-pucharu-polski-na-szczeblu-wojewodztwa-podlaskiego-wigry-suwalki-olimpia-zambrow/
LOCATION:Stadion Miejski w Suwałkach
ATTACH;FMTTYPE=image/jpeg:https://www.niebywalesuwalki.pl/wp-content/uploads/2021/09/Wigry-Legia_PP_2021-01.jpg
END:VEVENT
END:VCALENDAR