BEGIN:VCALENDAR
VERSION:2.0
PRODID:-//Niebywałe Suwałki - ECPv6.15.20//NONSGML v1.0//EN
CALSCALE:GREGORIAN
METHOD:PUBLISH
X-ORIGINAL-URL:https://www.niebywalesuwalki.pl
X-WR-CALDESC:Wydarzenia dla Niebywałe Suwałki
REFRESH-INTERVAL;VALUE=DURATION:PT1H
X-Robots-Tag:noindex
X-PUBLISHED-TTL:PT1H
BEGIN:VTIMEZONE
TZID:Europe/Warsaw
BEGIN:DAYLIGHT
TZOFFSETFROM:+0100
TZOFFSETTO:+0200
TZNAME:CEST
DTSTART:20230326T010000
END:DAYLIGHT
BEGIN:STANDARD
TZOFFSETFROM:+0200
TZOFFSETTO:+0100
TZNAME:CET
DTSTART:20231029T010000
END:STANDARD
BEGIN:DAYLIGHT
TZOFFSETFROM:+0100
TZOFFSETTO:+0200
TZNAME:CEST
DTSTART:20240331T010000
END:DAYLIGHT
BEGIN:STANDARD
TZOFFSETFROM:+0200
TZOFFSETTO:+0100
TZNAME:CET
DTSTART:20241027T010000
END:STANDARD
BEGIN:DAYLIGHT
TZOFFSETFROM:+0100
TZOFFSETTO:+0200
TZNAME:CEST
DTSTART:20250330T010000
END:DAYLIGHT
BEGIN:STANDARD
TZOFFSETFROM:+0200
TZOFFSETTO:+0100
TZNAME:CET
DTSTART:20251026T010000
END:STANDARD
END:VTIMEZONE
BEGIN:VEVENT
DTSTART;TZID=Europe/Warsaw:20240613T110000
DTEND;TZID=Europe/Warsaw:20240615T143000
DTSTAMP:20260420T223548
CREATED:20240610T095318Z
LAST-MODIFIED:20240610T095318Z
UID:229255-1718276400-1718461800@www.niebywalesuwalki.pl
SUMMARY:XXI Ogólnopolski Festiwal Teatrów Dzieci i Młodzieży Wigraszek w Suwałkach
DESCRIPTION:Serdecznie zapraszamy na Ogólnopolski Festiwal Teatrów Dzieci i Młodzieży Wigraszek.\nOgólnopolski Festiwal Teatrów Dzieci i Młodzieży Wigraszek popularyzuje amatorskie teatry dziecięce i młodzieżowe. Po raz dwudziesty pierwszy na suwalskich scenach młodzi aktorzy dokonają podsumowania swoich dokonań artystycznych\, skonfrontują się z adeptami teatru z innych zakątków Polski. W programie festiwalu\, oprócz spektakli konkursowych i towarzyszących\, znajdą się również spotkania warsztatowe i animacje artystyczne. \n13-15.06.2024 r.\nSala im. A. Wajdy\, Sala Kameralna SOK\nWstęp wolny \n\nFolder PDF\n\n\nPROGRAM \n13 czerwca 2024 (czwartek) \n11.00 Przylgnięcie\, (40 min)\, Bel Etage\, Sala im. A. Wajdy\n12.30 Popatrz – Trzy historie o tym\, czego nie widzimy\, (25 min)\, Teatr Form Niewielkich\, Sala im. A. Wajdy\n13.30 Metaforząc o rzece\, (25 min)\, Projekt Kontrapunkt\, Sala im. A. Wajdy\n14.00 Omówienie spektakli\, Sala Kameralna\n15.30 (Nie)pokój\, (35 min)\, Teatr za chwilę\, Sala im. A. Wajdy\n18.00 Oficjalne Otwarcie Festiwalu Sala im. A. Wajdy\n18.30 Istny cyrk\, (50 min)\, Teatr Przebudzeni\, spektakl towarzyszący\, Sala im. A. Wajdy \n14 czerwca 2024 (piątek) \n09.00 Bajkowy mix\, (25 min)\, Promyki Dziesiątki\, Sala Kameralna\n10.00 Egzamin\, (1h) Trylogia\, Sala im. A. Wajdy\n11.15 Orkiestra\, (40 min)\, Teatr Kaprys\, Sala Kameralna\n12.20 Omówienie spektakli\, Kawiarenka Festiwalowa – foyer II p.\n14.00 Bajka Alicji?\, (35 min)\, Pierwsze Słyszę\, Sala Kameralna\n14.45 Narzędzia ojca\, (30 min)\, Teatr Sceneria\, Sala im. A. Wajdy\n15.30 Ryby mają głos\, (25 min)\, Młodzieżowe Laboratorium Teatru\, Sala Kameralna\n16.15 Omówienie spektakli\, Kawiarenka Festiwalowa – foyer II p.\n18.00 Warsztaty \n15 czerwca 2024 (sobota) \n09.30 Gołoledź\, (35 min)\, Teatr Kaprys\, Sala Kameralna\n10.45 Dom\, (20 min)\, Teatr Żółtodziób\, Sala Kameralna\n11.15 Omówienie spektakli\, Kawiarenka Festiwalowa – foyer II p.\n12.00 Warsztaty\n14.30 Uroczyste zakończenie Festiwalu \n  \nOrganizator: Suwalski Ośrodek Kultury\nPatronat Honorowy: Prezydent Miasta Suwałki Czesław Renkiewicz \nSponsorzy: Piórnik\, CAL Prawdziwe Drzwi\, Agwo Serwis \nPartnerzy: Łaźnia Cafe\, Przystanek Rozmarino.
URL:https://www.niebywalesuwalki.pl/wydarzenie/xxi-ogolnopolski-festiwal-teatrow-dzieci-i-mlodziezy-wigraszek-w-suwalkach/
END:VEVENT
BEGIN:VEVENT
DTSTART;TZID=Europe/Warsaw:20240614T093000
DTEND;TZID=Europe/Warsaw:20240614T130000
DTSTAMP:20260420T223548
CREATED:20240611T075256Z
LAST-MODIFIED:20240611T075256Z
UID:229324-1718357400-1718370000@www.niebywalesuwalki.pl
SUMMARY:Konferencja "Synergia nauki\, gospodarki i społeczeństwa w dobie dynamicznych zmian. Ujęcie ekonomiczne\, filologiczne i pedagogiczne" w PUZ w Suwałkach
DESCRIPTION:Konferencja – 14 czerwca: „Synergia nauki\, gospodarki i społeczeństwa w dobie dynamicznych zmian. Ujęcie ekonomiczne\, filologiczne i pedagogiczne”. Początek o godz. 9:30. Konferencję otworzy prof. Paweł Rowiński\, dyrektor Instytutu Geofizyki PAN i nowy prezes Europejskiej Federacji Akademii Nauk (ALLEA). All European Academies (ALLEA) to Europejska Federacja Akademii Nauk założona w 1994 roku. Należy do niej ponad 50 akademii nauk i towarzystw naukowych z ponad 40 krajów członkowskich Rady Europy. Misją instytucji jest budowanie współpracy między akademiami poszczególnych krajów\, wspieranie prowadzenia i popularyzacji badań naukowych\, a także współpraca z Komisją Europejską i władzami poszczególnych państw. Warto zauważyć\, że profesor Rowiński jest pierwszym Polakiem\, który staje na czele tej organizacji. Od 2018 roku zasiada w jej Zarządzie. Swoją kadencję rozpoczął 1 czerwca 2024 r.
URL:https://www.niebywalesuwalki.pl/wydarzenie/konferencja-synergia-nauki-gospodarki-i-spoleczenstwa-w-dobie-dynamicznych-zmian-ujecie-ekonomiczne-filologiczne-i-pedagogiczne-w-puz-w-suwalkach/
LOCATION:Państwowa Uczelnia Zawodowa\, Noniewicza 10\, Suwałki\, Poland
END:VEVENT
BEGIN:VEVENT
DTSTART;TZID=Europe/Warsaw:20240614T100000
DTEND;TZID=Europe/Warsaw:20240616T120000
DTSTAMP:20260420T223548
CREATED:20240610T125151Z
LAST-MODIFIED:20240610T125152Z
UID:229294-1718359200-1718539200@www.niebywalesuwalki.pl
SUMMARY:17 Festiwal Oj Wiosna Ty Wiosna 2024 na Buduku
DESCRIPTION:17 festiwal Oj Wiosna Ty Wiosna 2024 \n14-16 czerwca  \nGajówka Buduk \n14.06.2024 – Piątek \n10:00 – 14:00 – Warsztaty dla dzieci  – warsztaty muzyczne / spacer botaniczny po lesie \n15:00 – Wykład  – Gustaw Juzala \n17:00 – Warsztaty muzyczne  – suwalski bęben obręczowy\, skrzypce\, cymbały wileńskie\, harmonia \, śpiew \n19:00 – 20:00 – Warsztaty taneczne \n21:00 – Zabawa taneczna – Kapela Niwińskich\, Chłopcy z Nowoszyszek\, Kapela Burdalskich i goście \n15.06.2024 – Sobota \n10:00-14:00 – Warsztaty dla dzieci – spektakl cieni \n12:00 – Spotkanie z Stanisławem Skindzierem  – śpiewakiem ze Studzianego Lasu \n13:00 – 15:00  -Warsztaty muzyczne  – suwalski bęben obręczowy\, skrzypce\, cymbały wileńskie\, harmonia\, śpiew \n16:00 – Pokaz filmowy  – Kuba Pietrzak \n18:00 – Spektakl cieni \n20:00  – Koncert – Biele \n21:00 – 22:00 – Warsztaty taneczne \n22:00 – Zabawa taneczna – Kapela Niwińskich\, Chłopcy z Nowoszyszek\, Kapela Burdalskich i goście \n16.06.2024 – Niedziela \n12:00 – warsztaty muzyczne – podsumowanie \nProgram może ulec zmianie. \nWarsztaty dla dzieci / spacer botaniczny – piątek  \nRegiony pogranicza zachwycają złożonością\, wielojęzycznością i różnorodnością swojego folkloru. Nie inaczej dzieje się z folklorem dziecięcym\, który pokazuje jak od najmłodszych dni dzieci pograniczy uczyły się żyć otoczone tą mozaikową mieszanką kulturową. Folklor dziecięcy polsko-litewskich pograniczy zawiera zarówno utwory wykonywane dla dzieci przez dorosłych\, jak i te śpiewane przez dzieci dla siebie. Podczas zajęć zapoznamy się pieśniami którymi mali pastuszkowie starali się wpływać na pogodę (szczególnymi rozmowami ze słońcem)\, pieśniami o zwierzętach\, korowodami i tańcami. Na warsztatach postaramy się pokazać to bogactwo w formie zabawy\, więc… raz\, dwa\, trzy przyjdź i ty! \nProwadzący: Gustaw Juzala\, Małgorzata Lewandowska\, Joanna Hołubowicz\,  Jerzy Czyżyński\, Agnieszka Niwińska \nWarsztaty dla dzieci – spektakl cieni – sobota \nMuzyczne zabawy tradycyjne i teatr cieni. Razem z dziećmi stworzymy spektakl cieni oparty na historiach zaczerpniętych z pieśni tradycyjnych. Wspólnie również zostanie stworzona scenografia. Zapraszamy dzieci od 8 roku życia. \nProwadzący:  Marta i Robert Burdalscy\, Agnieszka Niwińska \nWarsztaty tańca \nTaniec zajmuje jedno z ważniejszych miejsc w kulturze tradycyjnej każdej społeczności. Był i nadal jest ogólno dostępny dla każdego. Jest lekarstwem dla duszy i ciała – wentylem bezpieczeństwa dla znużonych zimową szarugą\, albo letnimi pracami na roli. Trzeba mieć smykałkę do smyka czy harmonii\, do tańca wystarczy podstawowe poczucie rytmu\, żeby móc wirować w polkach i oberkach\, albo kroczyć w krakowiakach i polonezach. Przyda się co prawda rozgarnięta kapela lub chociaż przytomny solista\, ale póki muzyka trwa – póty tańczyć będą tancerze. \nW ramach warsztatów nauczymy się tańców charakterystycznych dla terenu pogranicza polsko-litewsko-białoruskiego takich jak polka\, walc\, padespan\, wasadula\, kozak\, kochaneczka czy krakowiak\, a także tańców z Polski centralnej i północnej. \nProwadzący: Gustaw Juzala\, Paweł Luto\, Agnieszka Niwińska\, Marta Urban-Burdalska \nWarsztaty muzyczne \nWarsztaty instrumentalne: \nNa warsztatach instrumentalnych będziemy pracowali nad muzyką nieżyjących już skrzypków z Suwalszczyzny\, Franciszka Racisa i Mieczysława Pachutki a także odkrywali melodie taneczne w pieśniach z Sejneńszczyzny i okolic. \nZajmiemy się również suwalską techniką gry na bębnie obręczowym\, spuścizną Leona Racisa. Przejrzymy archiwa\, obejrzymy dawne instrumenty i spróbujemy stworzyć własne pałki do gry tą techniką. \nProwadzący: Urszula Murawko – cymbały wileńskie\, Piotr Fiedorowicz – skrzypce/dudy\, Mateusz Niwiński – skrzypce\, Paweł Luto – suwalski bęben obręczowy\, Adrian Żukowski – harmonia \nWarsztaty wokalne: \nTematem warsztatów będzie pieśni i spotkanie ze Stanisławem Skindzierem\,  śpiewakiem urodzonym  w 1939. Zamieszkałym w Studzianym Lesie\, powiat sejneński. \nZajmiemy się również pieśniami innych wykonawców z polskiej i litewskiej Suwalszczyzny. \nProwadzący: Julita Charytoniuk\, Gustaw Juzala\, Stanisław Skindzier \nWykład: Pieśni litewskiej Suwalszczyzny – droga od jedno- do wielogłosowości. \nProwadzący: Gustaw Juzala \nPokaz filmowy: Filmy z Archiwum Stowarzyszenia Krusznia. \nProwadzący: Kuba Pietrzak \nPotańcówki \nKapela Niwińskich – Główny trzon kapeli tworzą małżonkowie\, Mateusz i Agnieszka Niwińscy\, współpracując z innymi muzykami\, m.in. Jackiem i Kubą Mielcarkami\, Angelą Zajtsewą\, Marizą Nawrocką\, Magdaleną Sobczak\, Janem Tarkowskim. Niwińscy czerpią repertuar z muzyki Polski centralnej i południowo-wschodniej\, szczególnie z mikroregionu Kajoków i Powiśla Maciejowickiego\, ucząc się od mistrzów i poszukując archiwalnych nagrań oraz zapisów nutowych. Wykonując wiejskie tańce i zabawy sięgają po sprawdzoną przez pokolenia formułę spontanicznego\, wiejskiego muzykowania\, kultywując taneczny kontekst starej muzyki. Grywają najchętniej w formie niearanżowanej\, podczas spontanicznych sytuacji tanecznych. W swoim repertuarze mają starodawne oberki\, powiślaki\, radomskie mazurki\, kujawiaki oraz polki zasłyszane od znamienitych wiejskich skrzypków i harmonistów mazowieckich. Wykonują także melodie obrzędowe. \nChłopcy z Nowoszyszek to zespół założony przez pasjonatów tradycyjnej muzyki z pogranicza polsko-litewsko-białoruskiego. Na repertuar grupy składają się melodie taneczne : polki\, walce\, oberki\, fokstroty\, krakowiaki – niektóre szerzej rozpowszechnione w całej Polsce\, ale również bardziej egzotyczne tańce charakterystyczne dla wielokulturowego tygla dawnej Rzeczpospolitej\, takie jak kochaneczka\, wasadula\, kozak. \nKapela Burdalskich – Od 2018 roku prowadzą ją Robert i Marta Burdalscy\, wraz z grającymi i śpiewającymi muzykę tradycyjną dziećmi: Gabrysią (klarnet)\, Filipem (trąbka\, baraban) i Adamem (akordeon\, baraban\, bęben obręczowy). Orkiestra gra przede wszystkim do tańca i „do posłuchu”\, a także współprowadzi z rodzicami muzyczne warsztaty dotyczące polskiej muzyki tradycyjnej. \nWstęp na wszystkie wydarzenia bezpłatny. \nZapisy na warsztaty do 7.06.2024 : pawel.luto@krusznia.org  – liczba miejsc ograniczona \nZakwaterowanie – pole namiotowe obok gajówki lub kwatery agroturystyczne w okolicy \nWyżywienie – istnieje możliwość zamówienia obiadów na piątek i sobotę – pawel.luto@krusznia.org \nFestiwal dofinansowano ze środków Ministra Kultury i Dziedzictwa Narodowego \nOrganizator : Stowarzyszenie Krusznia \nWspółorganizator: Nadleśnictwo Głęboki Bród
URL:https://www.niebywalesuwalki.pl/wydarzenie/17-festiwal-oj-wiosna-ty-wiosna-2024-na-buduku/
LOCATION:Gajówka Buduk\, Buduk k. Frącek\, Polska
ATTACH;FMTTYPE=image/jpeg:https://www.niebywalesuwalki.pl/wp-content/uploads/2024/06/WIOSNAFEST24_10_small-1-Sredni.jpeg
END:VEVENT
BEGIN:VEVENT
DTSTART;TZID=Europe/Warsaw:20240614T180000
DTEND;TZID=Europe/Warsaw:20240614T190000
DTSTAMP:20260420T223548
CREATED:20240606T105020Z
LAST-MODIFIED:20240606T105020Z
UID:229043-1718388000-1718391600@www.niebywalesuwalki.pl
SUMMARY:Spotkanie z cyklu "Zasłużeni dla Wigier" w Starym Folwarku
DESCRIPTION:Wigierski Park narodowy zapraszana na spotkanie z cyklu \n„Zasłużeni dla Wigier” \nO turystyce w początkach istnienia Wigierskiego Parku Narodowego opowiedzą: \nAlicja Andrulewicz i Jarosław Borejszo \nMiejsce: Muzeum Wigier w Starym Folwarku \nTermin: 14 czerwca 2024\, g. 18.00
URL:https://www.niebywalesuwalki.pl/wydarzenie/spotkanie-z-cyklu-zasluzeni-dla-wigier-w-starym-folwarku/
LOCATION:Muzeum Wigier\, Stary Folwark 50\, Stary Folwark\, Polska
END:VEVENT
BEGIN:VEVENT
DTSTART;TZID=Europe/Warsaw:20240614T190000
DTEND;TZID=Europe/Warsaw:20240614T200000
DTSTAMP:20260420T223548
CREATED:20240520T105416Z
LAST-MODIFIED:20240520T105416Z
UID:228274-1718391600-1718395200@www.niebywalesuwalki.pl
SUMMARY:Koncert zespołu Ponad Chmurami w Olecku
DESCRIPTION:Zapraszamy w czerwcu na KONCERT małe niebo zespołu Ponad Chmurami\n-14 czerwca (piątek) 2024\n-godz. 19.00\n-sala „Kina Mazur”(Plac Wolności 22)\nBILETY dostępne w kasie „Kina Mazur” oran na stronach:\nhttps://www.kupbilecik.pl/…/Zesp%C3%B3%C5%82+Ponad…/#\n\n\nhttps://stage24.pl/…/ponad-chmurami-regionalny-osrodek…\n\n\nhttps://biletyna.pl/koncert/Ponad-Chmurami/Olecko\n\n\nZapraszamy!
URL:https://www.niebywalesuwalki.pl/wydarzenie/koncert-zespolu-ponad-chmurami-w-olecku/
LOCATION:ROK Mazury Garbate\, Olecko\, Olecko\, Polska
END:VEVENT
BEGIN:VEVENT
DTSTART;TZID=Europe/Warsaw:20240614T213000
DTEND;TZID=Europe/Warsaw:20240614T233000
DTSTAMP:20260420T223548
CREATED:20240515T133221Z
LAST-MODIFIED:20240515T133221Z
UID:227973-1718400600-1718407800@www.niebywalesuwalki.pl
SUMMARY:Granie w Bramie: Pokaz filmu „Wilk z Wall Street” w Augustowie
DESCRIPTION:DKF KINOCHŁON – „Wilk z Wall Street” (reż. M. Scorsese\, 2013)\n14 czerwca 2024r. 21:30 \nAugustowskie Placówki Kultury serdecznie zapraszają na kolejne wydarzenie z cyklu Granie w Bramie. Tym razem\, w podwórzu Miejskiego Domu Kultury (Rynek Zygmunta Augusta 9\, wejście przez bramę od strony Rynku lub od ul. Kościelnej) augustowski DKF KINOCHŁON wyświetli film pt. „Wilk z Wall Street” w reż. Martina Scorsese. \nVideoprelekcja – Michał Oleszczyk\, SpoilerMaster – podcast do słuchania po seansie \nJeden z największych reżyserów naszych czasów\, laureat Oscara Martin Scorsese przedstawia prawdziwą historię jednego z najbardziej kontrowersyjnych bohaterów Wall Street. Jordan Belfort był złotym dzieckiem świata amerykańskich finansów. Szybki i oszałamiający sukces przyniósł mu fortunę\, władzę i poczucie bezkarności. Pokusy czaiły się wszędzie\, a Belfort lubił im ulegać i robił to w wielkim stylu. Najpiękniejsze kobiety. Najdroższe jachty. Najbardziej wyszukane narkotyki. Szalona impreza bez cienia poczucia odpowiedzialności. A w ślad za tym nieuniknione błędy i pragnienie jeszcze większego bogactwa. Korupcja\, naginanie prawa i malwersacje podatkowe – w tym także Belfort okazał się mistrzem. Zrealizowana z rozmachem i poczuciem humoru\, urzekająca blichtrem\, a jednak gorzka opowieść o człowieku\, który zawsze chciał więcej\, a dostał to na co zasłużył. \nSerdecznie zapraszamy! \nWstęp wolny. \n*W razie niesprzyjających warunków atmosferycznych wydarzenie będzie przeniesione na inny termin
URL:https://www.niebywalesuwalki.pl/wydarzenie/granie-w-bramie-pokaz-filmu-wilk-z-wall-street-w-augustowie/
LOCATION:Augustowskie Placówki Kultury – Miejski Dom Kultury\, Rynek Zygmunta Augusta\, Augustów\, Polska
END:VEVENT
END:VCALENDAR