BEGIN:VCALENDAR
VERSION:2.0
PRODID:-//Niebywałe Suwałki - ECPv6.15.20//NONSGML v1.0//EN
CALSCALE:GREGORIAN
METHOD:PUBLISH
X-ORIGINAL-URL:https://www.niebywalesuwalki.pl
X-WR-CALDESC:Wydarzenia dla Niebywałe Suwałki
REFRESH-INTERVAL;VALUE=DURATION:PT1H
X-Robots-Tag:noindex
X-PUBLISHED-TTL:PT1H
BEGIN:VTIMEZONE
TZID:Europe/Warsaw
BEGIN:DAYLIGHT
TZOFFSETFROM:+0100
TZOFFSETTO:+0200
TZNAME:CEST
DTSTART:20230326T010000
END:DAYLIGHT
BEGIN:STANDARD
TZOFFSETFROM:+0200
TZOFFSETTO:+0100
TZNAME:CET
DTSTART:20231029T010000
END:STANDARD
BEGIN:DAYLIGHT
TZOFFSETFROM:+0100
TZOFFSETTO:+0200
TZNAME:CEST
DTSTART:20240331T010000
END:DAYLIGHT
BEGIN:STANDARD
TZOFFSETFROM:+0200
TZOFFSETTO:+0100
TZNAME:CET
DTSTART:20241027T010000
END:STANDARD
BEGIN:DAYLIGHT
TZOFFSETFROM:+0100
TZOFFSETTO:+0200
TZNAME:CEST
DTSTART:20250330T010000
END:DAYLIGHT
BEGIN:STANDARD
TZOFFSETFROM:+0200
TZOFFSETTO:+0100
TZNAME:CET
DTSTART:20251026T010000
END:STANDARD
END:VTIMEZONE
BEGIN:VEVENT
DTSTART;TZID=Europe/Warsaw:20240614T100000
DTEND;TZID=Europe/Warsaw:20240616T120000
DTSTAMP:20260420T223533
CREATED:20240610T125151Z
LAST-MODIFIED:20240610T125152Z
UID:229294-1718359200-1718539200@www.niebywalesuwalki.pl
SUMMARY:17 Festiwal Oj Wiosna Ty Wiosna 2024 na Buduku
DESCRIPTION:17 festiwal Oj Wiosna Ty Wiosna 2024 \n14-16 czerwca  \nGajówka Buduk \n14.06.2024 – Piątek \n10:00 – 14:00 – Warsztaty dla dzieci  – warsztaty muzyczne / spacer botaniczny po lesie \n15:00 – Wykład  – Gustaw Juzala \n17:00 – Warsztaty muzyczne  – suwalski bęben obręczowy\, skrzypce\, cymbały wileńskie\, harmonia \, śpiew \n19:00 – 20:00 – Warsztaty taneczne \n21:00 – Zabawa taneczna – Kapela Niwińskich\, Chłopcy z Nowoszyszek\, Kapela Burdalskich i goście \n15.06.2024 – Sobota \n10:00-14:00 – Warsztaty dla dzieci – spektakl cieni \n12:00 – Spotkanie z Stanisławem Skindzierem  – śpiewakiem ze Studzianego Lasu \n13:00 – 15:00  -Warsztaty muzyczne  – suwalski bęben obręczowy\, skrzypce\, cymbały wileńskie\, harmonia\, śpiew \n16:00 – Pokaz filmowy  – Kuba Pietrzak \n18:00 – Spektakl cieni \n20:00  – Koncert – Biele \n21:00 – 22:00 – Warsztaty taneczne \n22:00 – Zabawa taneczna – Kapela Niwińskich\, Chłopcy z Nowoszyszek\, Kapela Burdalskich i goście \n16.06.2024 – Niedziela \n12:00 – warsztaty muzyczne – podsumowanie \nProgram może ulec zmianie. \nWarsztaty dla dzieci / spacer botaniczny – piątek  \nRegiony pogranicza zachwycają złożonością\, wielojęzycznością i różnorodnością swojego folkloru. Nie inaczej dzieje się z folklorem dziecięcym\, który pokazuje jak od najmłodszych dni dzieci pograniczy uczyły się żyć otoczone tą mozaikową mieszanką kulturową. Folklor dziecięcy polsko-litewskich pograniczy zawiera zarówno utwory wykonywane dla dzieci przez dorosłych\, jak i te śpiewane przez dzieci dla siebie. Podczas zajęć zapoznamy się pieśniami którymi mali pastuszkowie starali się wpływać na pogodę (szczególnymi rozmowami ze słońcem)\, pieśniami o zwierzętach\, korowodami i tańcami. Na warsztatach postaramy się pokazać to bogactwo w formie zabawy\, więc… raz\, dwa\, trzy przyjdź i ty! \nProwadzący: Gustaw Juzala\, Małgorzata Lewandowska\, Joanna Hołubowicz\,  Jerzy Czyżyński\, Agnieszka Niwińska \nWarsztaty dla dzieci – spektakl cieni – sobota \nMuzyczne zabawy tradycyjne i teatr cieni. Razem z dziećmi stworzymy spektakl cieni oparty na historiach zaczerpniętych z pieśni tradycyjnych. Wspólnie również zostanie stworzona scenografia. Zapraszamy dzieci od 8 roku życia. \nProwadzący:  Marta i Robert Burdalscy\, Agnieszka Niwińska \nWarsztaty tańca \nTaniec zajmuje jedno z ważniejszych miejsc w kulturze tradycyjnej każdej społeczności. Był i nadal jest ogólno dostępny dla każdego. Jest lekarstwem dla duszy i ciała – wentylem bezpieczeństwa dla znużonych zimową szarugą\, albo letnimi pracami na roli. Trzeba mieć smykałkę do smyka czy harmonii\, do tańca wystarczy podstawowe poczucie rytmu\, żeby móc wirować w polkach i oberkach\, albo kroczyć w krakowiakach i polonezach. Przyda się co prawda rozgarnięta kapela lub chociaż przytomny solista\, ale póki muzyka trwa – póty tańczyć będą tancerze. \nW ramach warsztatów nauczymy się tańców charakterystycznych dla terenu pogranicza polsko-litewsko-białoruskiego takich jak polka\, walc\, padespan\, wasadula\, kozak\, kochaneczka czy krakowiak\, a także tańców z Polski centralnej i północnej. \nProwadzący: Gustaw Juzala\, Paweł Luto\, Agnieszka Niwińska\, Marta Urban-Burdalska \nWarsztaty muzyczne \nWarsztaty instrumentalne: \nNa warsztatach instrumentalnych będziemy pracowali nad muzyką nieżyjących już skrzypków z Suwalszczyzny\, Franciszka Racisa i Mieczysława Pachutki a także odkrywali melodie taneczne w pieśniach z Sejneńszczyzny i okolic. \nZajmiemy się również suwalską techniką gry na bębnie obręczowym\, spuścizną Leona Racisa. Przejrzymy archiwa\, obejrzymy dawne instrumenty i spróbujemy stworzyć własne pałki do gry tą techniką. \nProwadzący: Urszula Murawko – cymbały wileńskie\, Piotr Fiedorowicz – skrzypce/dudy\, Mateusz Niwiński – skrzypce\, Paweł Luto – suwalski bęben obręczowy\, Adrian Żukowski – harmonia \nWarsztaty wokalne: \nTematem warsztatów będzie pieśni i spotkanie ze Stanisławem Skindzierem\,  śpiewakiem urodzonym  w 1939. Zamieszkałym w Studzianym Lesie\, powiat sejneński. \nZajmiemy się również pieśniami innych wykonawców z polskiej i litewskiej Suwalszczyzny. \nProwadzący: Julita Charytoniuk\, Gustaw Juzala\, Stanisław Skindzier \nWykład: Pieśni litewskiej Suwalszczyzny – droga od jedno- do wielogłosowości. \nProwadzący: Gustaw Juzala \nPokaz filmowy: Filmy z Archiwum Stowarzyszenia Krusznia. \nProwadzący: Kuba Pietrzak \nPotańcówki \nKapela Niwińskich – Główny trzon kapeli tworzą małżonkowie\, Mateusz i Agnieszka Niwińscy\, współpracując z innymi muzykami\, m.in. Jackiem i Kubą Mielcarkami\, Angelą Zajtsewą\, Marizą Nawrocką\, Magdaleną Sobczak\, Janem Tarkowskim. Niwińscy czerpią repertuar z muzyki Polski centralnej i południowo-wschodniej\, szczególnie z mikroregionu Kajoków i Powiśla Maciejowickiego\, ucząc się od mistrzów i poszukując archiwalnych nagrań oraz zapisów nutowych. Wykonując wiejskie tańce i zabawy sięgają po sprawdzoną przez pokolenia formułę spontanicznego\, wiejskiego muzykowania\, kultywując taneczny kontekst starej muzyki. Grywają najchętniej w formie niearanżowanej\, podczas spontanicznych sytuacji tanecznych. W swoim repertuarze mają starodawne oberki\, powiślaki\, radomskie mazurki\, kujawiaki oraz polki zasłyszane od znamienitych wiejskich skrzypków i harmonistów mazowieckich. Wykonują także melodie obrzędowe. \nChłopcy z Nowoszyszek to zespół założony przez pasjonatów tradycyjnej muzyki z pogranicza polsko-litewsko-białoruskiego. Na repertuar grupy składają się melodie taneczne : polki\, walce\, oberki\, fokstroty\, krakowiaki – niektóre szerzej rozpowszechnione w całej Polsce\, ale również bardziej egzotyczne tańce charakterystyczne dla wielokulturowego tygla dawnej Rzeczpospolitej\, takie jak kochaneczka\, wasadula\, kozak. \nKapela Burdalskich – Od 2018 roku prowadzą ją Robert i Marta Burdalscy\, wraz z grającymi i śpiewającymi muzykę tradycyjną dziećmi: Gabrysią (klarnet)\, Filipem (trąbka\, baraban) i Adamem (akordeon\, baraban\, bęben obręczowy). Orkiestra gra przede wszystkim do tańca i „do posłuchu”\, a także współprowadzi z rodzicami muzyczne warsztaty dotyczące polskiej muzyki tradycyjnej. \nWstęp na wszystkie wydarzenia bezpłatny. \nZapisy na warsztaty do 7.06.2024 : pawel.luto@krusznia.org  – liczba miejsc ograniczona \nZakwaterowanie – pole namiotowe obok gajówki lub kwatery agroturystyczne w okolicy \nWyżywienie – istnieje możliwość zamówienia obiadów na piątek i sobotę – pawel.luto@krusznia.org \nFestiwal dofinansowano ze środków Ministra Kultury i Dziedzictwa Narodowego \nOrganizator : Stowarzyszenie Krusznia \nWspółorganizator: Nadleśnictwo Głęboki Bród
URL:https://www.niebywalesuwalki.pl/wydarzenie/17-festiwal-oj-wiosna-ty-wiosna-2024-na-buduku/
LOCATION:Gajówka Buduk\, Buduk k. Frącek\, Polska
ATTACH;FMTTYPE=image/jpeg:https://www.niebywalesuwalki.pl/wp-content/uploads/2024/06/WIOSNAFEST24_10_small-1-Sredni.jpeg
END:VEVENT
BEGIN:VEVENT
DTSTART;TZID=Europe/Warsaw:20240615T120000
DTEND;TZID=Europe/Warsaw:20240616T163000
DTSTAMP:20260420T223533
CREATED:20240610T102017Z
LAST-MODIFIED:20240610T102018Z
UID:229260-1718452800-1718555400@www.niebywalesuwalki.pl
SUMMARY:XXIII Piknik Kawaleryjski - Dni Kawaleryjskie w Suwałkach
DESCRIPTION:Szczegóły na plakacie.
URL:https://www.niebywalesuwalki.pl/wydarzenie/xxiii-piknik-kawaleryjski-dni-kawaleryjskie-w-suwalkach/
LOCATION:Suwałki\, skrzyżowanie ul. Utrata i Przytorowa\, Suwałki\, Polska
END:VEVENT
BEGIN:VEVENT
DTSTART;TZID=Europe/Warsaw:20240616T160000
DTEND;TZID=Europe/Warsaw:20240616T170000
DTSTAMP:20260420T223533
CREATED:20240612T145050Z
LAST-MODIFIED:20240612T145050Z
UID:229338-1718553600-1718557200@www.niebywalesuwalki.pl
SUMMARY:Spotkanie z Cezarym Harasimowiczem i Elżbietą Ficowską w Sejnach
DESCRIPTION:
URL:https://www.niebywalesuwalki.pl/wydarzenie/spotkanie-z-cezarym-harasimowiczem-i-elzbieta-ficowska-w-sejnach/
LOCATION:Biała Synagoga\, Sejny\, Polska
END:VEVENT
BEGIN:VEVENT
DTSTART;TZID=Europe/Warsaw:20240616T170000
DTEND;TZID=Europe/Warsaw:20240616T203000
DTSTAMP:20260420T223533
CREATED:20240110T101009Z
LAST-MODIFIED:20240110T101009Z
UID:222231-1718557200-1718569800@www.niebywalesuwalki.pl
SUMMARY:Polska Noc Kabaretowa w Suwałkach
DESCRIPTION:Polska Noc Kabaretowa 2024 – największe widowisko kabaretowe w Polsce wraca do Twojego miasta! Są gibcy\, są silni\, są w olimpijskiej formie! Przybywamy do Was z najbardziej wysportowaną kabaretową ekipą wszech czasów. Po miesiącach treningów\, wycieńczających obozów szkoleniowych i niekończących się przygotowań przedstawiamy program pobijający wszystkie rekordy świata. Będziecie śmiać się najgłośniej\, wzdychać z zachwytu niezliczoną liczbę razy\, bawić się do utraty tchu. Mamy zamiar pokazać Wam kabaretowy program na miarę igrzysk olimpijskich. Łucznicza celność żartów. Sprinterska szybkość reakcji. Gimnastyczna elastyczność interakcji z publicznością. Szachowa mądrość puent. Wielobojowy dobór tematów. Jednym słowem mamy wszystko\, aby zdobyć olimpijski szczyt. Przed Wami: Kabaret Skeczów Męczących\, Kabaret K2\, Kabaret Moralnego Niepokoju\, Kabaret Paranienormalni\, Kabaret Smile\, Szymon Łątkowski i w roli prowadzących – Kabaret Nowaki. Sztafeta najlepszych kabaretowych zawodników w największym maratonie śmiechu. A co najlepsze – uczestnicząc w Polskiej Nocy Kabaretowej będziesz śmiać się tak bardzo\, że sam wyjdziesz z niej jak po niezłym treningu! INFORMACJE ORGANIZACYJNE: • Wydarzenie trwa około 3\,5h (w tym 15min przerwa) • Prosimy o sprawdzenie\, czy maja Państwo poprawnie wydrukowane bilety. • Bramki otwierane są punktualnie na godzinę przed startem imprezy. • Na wydarzenie można zabrać wyłącznie seryjnie zakręconą (0\,5l) wodę w plastikowej butelce. Podczas wydarzenia udostępniane są punkty gastronomiczne. \nCzytaj więcej na: https://www.kupbilecik.pl/imprezy/110461/Suwa%C5%82ki/Polska+Noc+Kabaretowa+2024/
URL:https://www.niebywalesuwalki.pl/wydarzenie/polska-noc-kabaretowa-w-suwalkach-2/
LOCATION:Suwałki Arena
END:VEVENT
END:VCALENDAR