BEGIN:VCALENDAR
VERSION:2.0
PRODID:-//Niebywałe Suwałki - ECPv6.15.20//NONSGML v1.0//EN
CALSCALE:GREGORIAN
METHOD:PUBLISH
X-ORIGINAL-URL:https://www.niebywalesuwalki.pl
X-WR-CALDESC:Wydarzenia dla Niebywałe Suwałki
REFRESH-INTERVAL;VALUE=DURATION:PT1H
X-Robots-Tag:noindex
X-PUBLISHED-TTL:PT1H
BEGIN:VTIMEZONE
TZID:Europe/Warsaw
BEGIN:DAYLIGHT
TZOFFSETFROM:+0100
TZOFFSETTO:+0200
TZNAME:CEST
DTSTART:20230326T010000
END:DAYLIGHT
BEGIN:STANDARD
TZOFFSETFROM:+0200
TZOFFSETTO:+0100
TZNAME:CET
DTSTART:20231029T010000
END:STANDARD
BEGIN:DAYLIGHT
TZOFFSETFROM:+0100
TZOFFSETTO:+0200
TZNAME:CEST
DTSTART:20240331T010000
END:DAYLIGHT
BEGIN:STANDARD
TZOFFSETFROM:+0200
TZOFFSETTO:+0100
TZNAME:CET
DTSTART:20241027T010000
END:STANDARD
BEGIN:DAYLIGHT
TZOFFSETFROM:+0100
TZOFFSETTO:+0200
TZNAME:CEST
DTSTART:20250330T010000
END:DAYLIGHT
BEGIN:STANDARD
TZOFFSETFROM:+0200
TZOFFSETTO:+0100
TZNAME:CET
DTSTART:20251026T010000
END:STANDARD
END:VTIMEZONE
BEGIN:VEVENT
DTSTART;TZID=Europe/Warsaw:20240618T170000
DTEND;TZID=Europe/Warsaw:20240618T180000
DTSTAMP:20260421T003213
CREATED:20240612T172838Z
LAST-MODIFIED:20240612T172838Z
UID:229349-1718730000-1718733600@www.niebywalesuwalki.pl
SUMMARY:Glosy do Miłosza (5) - wieczór literacki w Suwałkach
DESCRIPTION:Dyrektor Muzeum Okręgowego w Suwałkach\nJerzy Brzozowski\ni Dział Kultury Literackiej Suwalszczyzny\nzapraszają na wieczór literacki z cyklu \nGlosy do Miłosza (5) \nProgram:\nPiotr Kłoczkowski\nDorota Fortuna\nAndrzej S. Kowalczyk\nAgnieszka Papieska \nCzesław Miłosz\nŚwiat\npoema naiwne \n18 czerwca 2024 roku g. 17.00\nMuzeum im. Marii konopnickiej w Suwałkach\nul. T. Kościuszki 31
URL:https://www.niebywalesuwalki.pl/wydarzenie/glosy-do-milosza-5-wieczor-literacki-w-suwalkach/
LOCATION:Muzeum im. Marii Kononickiej\, ul. Kościuszki \, Suwałki\, Polska
END:VEVENT
BEGIN:VEVENT
DTSTART;TZID=Europe/Warsaw:20240618T180000
DTEND;TZID=Europe/Warsaw:20240618T190000
DTSTAMP:20260421T003213
CREATED:20240617T102714Z
LAST-MODIFIED:20240617T102715Z
UID:229832-1718733600-1718737200@www.niebywalesuwalki.pl
SUMMARY:Pracownia Muzyki Miejsca: Spotkanie z Robertem Losiakiem w Sejnach
DESCRIPTION:Zapraszamy na kolejne z cyklu otwartych spotkań z muzykami\, artystami dźwiękowymi\, teoretykami i kompozytorami odbywających się w ramach działań Pracowni Muzyki Miejsca Pogranicza.\nWe wtorek\, 18 czerwca\, o godzinie 18:00\, o przeszłości\, teraźniejszości i przyszłości dźwiękowej opowie nam związany z Instytutem Muzykologii Uniwersytetu Wrocławskiego muzykolog\, filozof zajmujący się problematyką ekologii akustycznej i pejzażu dźwiękowego Robert Losiak.\n18 czerwca 2024\ngodz. 18:00\nSejneńska Spółdzielnia Jazzowa\nwstęp wolny\nRobert Losiak – z wykształcenia muzykolog i filozof. Pracuje w Instytucie Muzykologii Uniwersytetu Wrocławskiego. Od 2004 zajmuje się problematyką ekologii akustycznej i pejzażu dźwiękowego\, prowadząc badania własne\, a także zajęcia dydaktyczne na studiach muzykologicznych i kulturoznawczych oraz edukacyjne warsztaty słuchowe i nagrania terenowe. W 2009 na Uniwersytecie Wrocławskim zorganizował Pracownię Badań Pejzażu Dźwiękowego. Autor projektu badań poświęconych audiosferze Wrocławia\, realizowanych w latach 2011-2014. Współredaktor kilku książek (m.in. „Audiosfera Wrocławia”\, 2014) i monograficznych numerów czasopism (m.in.”Glissando”#B\, 2021)\, autor kilkudziesięciu artykułów naukowych i popularnonaukowych.\n_______\nDofinansowano ze środków Ministra Kultury i Dziedzictwa Narodowego w ramach programu własnego Centrum Rozwoju Przemysłów Kreatywnych: Rozwój Sektorów Kreatywnych.
URL:https://www.niebywalesuwalki.pl/wydarzenie/pracownia-muzyki-miejsca-spotkanie-z-robertem-losiakiem-w-sejnach/
LOCATION:Sejneńska Spółdzielnia Jazzowa\, Sejny\, Polska
END:VEVENT
BEGIN:VEVENT
DTSTART;TZID=Europe/Warsaw:20240618T180000
DTEND;TZID=Europe/Warsaw:20240618T200000
DTSTAMP:20260421T003213
CREATED:20240603T092516Z
LAST-MODIFIED:20240617T103329Z
UID:228954-1718733600-1718740800@www.niebywalesuwalki.pl
SUMMARY:Pokaz filmu "Do granic" w cyklu Kino konesera w Cinema Lumiere w Suwałkach
DESCRIPTION:„Do granic” to hiszpański thriller psychologiczny\, który zamyka się w zaledwie 77 minutach i niemal w całości rozgrywa się w jednej przestrzeni\, a mimo to nie można oderwać od niego oczu. Ten festiwalowy przebój zdobył niemal 30 nagród na całym świecie. Krytyka okrzyknęła go „masterclassem z suspensu”\, a na portalu Rotten Tomatoes ma obecnie ocenę 100% – zarówno od krytyków filmowych\, jak i od widzów.
URL:https://www.niebywalesuwalki.pl/wydarzenie/pokaz-filmu-do-granic-w-cyklu-kino-konesera-w-cinema-lumiere-w-suwalkach/
LOCATION:Cinema Lumiere\, Dwernickiego 15\, Suwałki\, 16-400\, Polska
END:VEVENT
BEGIN:VEVENT
DTSTART;TZID=Europe/Warsaw:20240618T180000
DTEND;TZID=Europe/Warsaw:20240618T200000
DTSTAMP:20260421T003213
CREATED:20240610T110204Z
LAST-MODIFIED:20240610T110204Z
UID:229282-1718733600-1718740800@www.niebywalesuwalki.pl
SUMMARY:Rezerwat IT: Kolejne spotkanie programistów dla programistów w Suwałkach
DESCRIPTION:Zapraszamy serdecznie na najbliższe spotkanie Rezerwat.IT\, organizowane przez programistów dla programistów. Niezależnie od tego\, czy dopiero zaczynacie swoją przygodę z programowaniem\, czy realizujecie zaawansowane projekty\, znajdziecie tu coś dla siebie. Naszym celem jest\, abyście czuli się u nas dobrze\, wychodzili ze spotkań zadowoleni i pełni nowych perspektyw. \nRezerwat.IT to przestrzeń\, gdzie można dzielić się swoimi doświadczeniami\, ostrzegać przed problemami i zachęcać do korzystania z różnych technologii. Spotkania te są doskonałą okazją do nawiązywania nowych znajomości\, promocji siebie oraz swojej firmy. Jesteśmy tu dla Was i mamy nadzieję\, że wspólnie zrewolucjonizujemy suwalski świat IT. Naszą ambicją jest rozwój technologiczny naszego regionu. \nData i miejsce: 18 czerwca o godzinie 18:00\nLokalizacja: Park Naukowo-Technologiczny Polska-Wschód w Suwałkach sp. z o.o. ul. Innowacyjna 1 \nTemat: Czy lama ocali nas podczas apokalipsy zombie? – O modelach językowych na ciężkie czasy\nPrelegent: Marek Żelichowski ma 31 lat\, z wykształcenia jest ekonomistą\, ale zawodowo realizuje się jako programista. Od 7 lat prowadzi własną działalność\, wdrażając zaawansowane systemy finansowe dla czołowych globalnych firm\, takich jak Roche czy ABB. Jego unikalne połączenie wiedzy ekonomicznej i programistycznej przekłada się na sukcesy w realizacji międzynarodowych projektów. \nDlaczego warto wziąć udział? \n\nWszystkie nasze spotkania są całkowicie bezpłatne.\nCzęść merytoryczna z udziałem ekspertów z globalnych i lokalnych firm IT.\nCzęść nieformalna\, idealna do nawiązywania kontaktów i wymiany doświadczeń.\n\nZAREJESTRUJ SIĘ i dołącz do nas\, aby być częścią dynamicznie rozwijającej się społeczności IT w Suwałkach!
URL:https://www.niebywalesuwalki.pl/wydarzenie/rezerwat-it-kolejne-spotkanie-programistow-dla-programistow-w-suwalkach/
LOCATION:Park Naukowo-Technologiczny Polska- Wschód\, ul. Innowacyjna 1\, Suwałki\, Polska
END:VEVENT
END:VCALENDAR