BEGIN:VCALENDAR
VERSION:2.0
PRODID:-//Niebywałe Suwałki - ECPv6.15.20//NONSGML v1.0//EN
CALSCALE:GREGORIAN
METHOD:PUBLISH
X-WR-CALNAME:Niebywałe Suwałki
X-ORIGINAL-URL:https://www.niebywalesuwalki.pl
X-WR-CALDESC:Wydarzenia dla Niebywałe Suwałki
REFRESH-INTERVAL;VALUE=DURATION:PT1H
X-Robots-Tag:noindex
X-PUBLISHED-TTL:PT1H
BEGIN:VTIMEZONE
TZID:Europe/Warsaw
BEGIN:DAYLIGHT
TZOFFSETFROM:+0100
TZOFFSETTO:+0200
TZNAME:CEST
DTSTART:20230326T010000
END:DAYLIGHT
BEGIN:STANDARD
TZOFFSETFROM:+0200
TZOFFSETTO:+0100
TZNAME:CET
DTSTART:20231029T010000
END:STANDARD
BEGIN:DAYLIGHT
TZOFFSETFROM:+0100
TZOFFSETTO:+0200
TZNAME:CEST
DTSTART:20240331T010000
END:DAYLIGHT
BEGIN:STANDARD
TZOFFSETFROM:+0200
TZOFFSETTO:+0100
TZNAME:CET
DTSTART:20241027T010000
END:STANDARD
BEGIN:DAYLIGHT
TZOFFSETFROM:+0100
TZOFFSETTO:+0200
TZNAME:CEST
DTSTART:20250330T010000
END:DAYLIGHT
BEGIN:STANDARD
TZOFFSETFROM:+0200
TZOFFSETTO:+0100
TZNAME:CET
DTSTART:20251026T010000
END:STANDARD
END:VTIMEZONE
BEGIN:VEVENT
DTSTART;TZID=Europe/Warsaw:20240620T163000
DTEND;TZID=Europe/Warsaw:20240620T180000
DTSTAMP:20260420T223331
CREATED:20240618T134948Z
LAST-MODIFIED:20240618T134948Z
UID:229879-1718901000-1718906400@www.niebywalesuwalki.pl
SUMMARY:Spotkanie konsultacyjne w sprawie budowy Mediateki w Suwałkach
DESCRIPTION:Zapraszamy na spotkanie konsultacyjne w sprawie budowy Mediateki\, które odbędzie się 20 czerwca (czwartek) o godzinie 16.30 w Szkole Podstawowej nr 4 przy ul. Wojska Polskiego 13. \nW lipcu zaplanowano spotkanie konsultacyjne w budynku Biblioteki przy ul. E. Plater 33A
URL:https://www.niebywalesuwalki.pl/wydarzenie/spotkanie-konsultacyjne-w-sprawie-budowy-mediateki-w-suwalkach/
LOCATION:Szkoła Podstawowa nr 4\, ul. Wojska Polskiego\, Suwałki\, Polska
END:VEVENT
BEGIN:VEVENT
DTSTART;TZID=Europe/Warsaw:20240620T190000
DTEND;TZID=Europe/Warsaw:20240620T200000
DTSTAMP:20260420T223331
CREATED:20240612T173143Z
LAST-MODIFIED:20240617T103611Z
UID:229355-1718910000-1718913600@www.niebywalesuwalki.pl
SUMMARY:Spotkanie i koncert Teoniki Rożynek w Białej Synagodze w Sejnach
DESCRIPTION:Pracownia Muzyki Miejsca zaprasza do Białej Synagogi w Sejnach na koncert Teoniki Rożynek – kompozytorki tworzącej muzykę elektroniczną i elektroakustyczną\, skoncentrowanej na nasłuchiwaniu rzeczywistości będącej jej głównym źródłem materiału dźwiękowego. \nO godz. 18.00 odbędzie się spotkanie przed koncertem!!!\n20 czerwca 2024 (czwartek)\ngodz. 19:00\nBiała Synagoga w Sejnach\nwstęp wolny\nKoncert odbędzie się w ramach cyklu profesjonalnych koncertów nowej muzyki polskiej i europejskiej organizowanych przez młodzieżową pracownię nagrań terenowych „Muzyka Miejsca” w Sejnach. Pracownię tworzą młodzi mieszkańcy Sejneńszczyzny\, którzy na co dzień pracują nad sejneńskim fieldrecordingiem. Muzyka Miejsca\, goszcząc twórców dźwiękowych\, pragnie przygotować mieszkańców okolicy do odbioru eksperymentalnej muzyki niosącej nową opowieść o teraźniejszym świecie\, która zabrzmi w ważnych symbolicznie i zarazem ciekawych akustycznie miejscach naszego polsko-litewskiego pogranicza.\nTeoniki Rożynek – kompozytorka z wyraźnym zamiłowaniem do sound designu. Skoncentrowana na nasłuchiwaniu rzeczywistości\, będącej jej głównym źródłem materiału dźwiękowego. Kolekcjonerka odpadów dźwiękowych\, a także śmieciowych obiektów\, które mogą się przysłużyć do generowania dźwięku. Tworzy muzykę elektroniczną i elektroakustyczną\, solowo oraz w kolektywach. Gra na skrzypcach\, elektronikaliach i znalezionych przypadkowo przedmiotach. Chętnie współpracuje z artystami innych dziedzin\, współtworząc filmy\, spektakle i multimedialne instalacje. Fanatyczka kociarstwa.\n________\nDofinansowano ze środków Ministra Kultury i Dziedzictwa Narodowego pochodzących z Funduszu Promocji Kultury.
URL:https://www.niebywalesuwalki.pl/wydarzenie/koncert-teoniki-rozynek-w-bialej-synagodze-w-sejnach/
LOCATION:Biała Synagoga\, Sejny\, Polska
END:VEVENT
END:VCALENDAR