BEGIN:VCALENDAR
VERSION:2.0
PRODID:-//Niebywałe Suwałki - ECPv6.15.20//NONSGML v1.0//EN
CALSCALE:GREGORIAN
METHOD:PUBLISH
X-ORIGINAL-URL:https://www.niebywalesuwalki.pl
X-WR-CALDESC:Wydarzenia dla Niebywałe Suwałki
REFRESH-INTERVAL;VALUE=DURATION:PT1H
X-Robots-Tag:noindex
X-PUBLISHED-TTL:PT1H
BEGIN:VTIMEZONE
TZID:Europe/Warsaw
BEGIN:DAYLIGHT
TZOFFSETFROM:+0100
TZOFFSETTO:+0200
TZNAME:CEST
DTSTART:20230326T010000
END:DAYLIGHT
BEGIN:STANDARD
TZOFFSETFROM:+0200
TZOFFSETTO:+0100
TZNAME:CET
DTSTART:20231029T010000
END:STANDARD
BEGIN:DAYLIGHT
TZOFFSETFROM:+0100
TZOFFSETTO:+0200
TZNAME:CEST
DTSTART:20240331T010000
END:DAYLIGHT
BEGIN:STANDARD
TZOFFSETFROM:+0200
TZOFFSETTO:+0100
TZNAME:CET
DTSTART:20241027T010000
END:STANDARD
BEGIN:DAYLIGHT
TZOFFSETFROM:+0100
TZOFFSETTO:+0200
TZNAME:CEST
DTSTART:20250330T010000
END:DAYLIGHT
BEGIN:STANDARD
TZOFFSETFROM:+0200
TZOFFSETTO:+0100
TZNAME:CET
DTSTART:20251026T010000
END:STANDARD
END:VTIMEZONE
BEGIN:VEVENT
DTSTART;TZID=Europe/Warsaw:20240624T110000
DTEND;TZID=Europe/Warsaw:20240624T130000
DTSTAMP:20260420T223543
CREATED:20240617T135850Z
LAST-MODIFIED:20240617T135851Z
UID:229844-1719226800-1719234000@www.niebywalesuwalki.pl
SUMMARY:Grill&Fun w Lipniaku
DESCRIPTION:Powiat Suwalski wraz z Zakładem Aktywności Zawodowej SOWA\, pozyskał środki z Krajowego Planu Odbudowy na przedsięwzięcie pn. \,\,Wsparcie usług społecznych – szansą na sukces” realizowanego w ramach Programu \,\,Odporność oraz rozwój ekonomii społecznej i przedsiębiorczości społecznej” na lata 2022-2025. \nDotychczas w ramach przedsięwzięcia zakupiono mobilną grillo-wędzarnię oraz komorę hiperbaryczną\, dlatego też chcielibyśmy serdecznie zaprosić Państwa do udziału w wydarzeniu promującym zrealizowane działania. \nEvent pn. \,\,Grill&Fun” promujący dotychczasową realizację przedsięwzięcia\, odbędzie się 24 czerwca 2024 r (poniedziałek) w ogrodach Zakładu Aktywności Zawodowej SOWA w Lipniaku\, Lipniak 3\, 16-402 Suwałki o godz. 11.00.
URL:https://www.niebywalesuwalki.pl/wydarzenie/grillfun-w-lipniaku/
LOCATION:SOWA Suwałki\, Innowacyjna 1\, Suwałki\, Poland
END:VEVENT
END:VCALENDAR