BEGIN:VCALENDAR
VERSION:2.0
PRODID:-//Niebywałe Suwałki - ECPv6.15.20//NONSGML v1.0//EN
CALSCALE:GREGORIAN
METHOD:PUBLISH
X-WR-CALNAME:Niebywałe Suwałki
X-ORIGINAL-URL:https://www.niebywalesuwalki.pl
X-WR-CALDESC:Wydarzenia dla Niebywałe Suwałki
REFRESH-INTERVAL;VALUE=DURATION:PT1H
X-Robots-Tag:noindex
X-PUBLISHED-TTL:PT1H
BEGIN:VTIMEZONE
TZID:Europe/Warsaw
BEGIN:DAYLIGHT
TZOFFSETFROM:+0100
TZOFFSETTO:+0200
TZNAME:CEST
DTSTART:20230326T010000
END:DAYLIGHT
BEGIN:STANDARD
TZOFFSETFROM:+0200
TZOFFSETTO:+0100
TZNAME:CET
DTSTART:20231029T010000
END:STANDARD
BEGIN:DAYLIGHT
TZOFFSETFROM:+0100
TZOFFSETTO:+0200
TZNAME:CEST
DTSTART:20240331T010000
END:DAYLIGHT
BEGIN:STANDARD
TZOFFSETFROM:+0200
TZOFFSETTO:+0100
TZNAME:CET
DTSTART:20241027T010000
END:STANDARD
BEGIN:DAYLIGHT
TZOFFSETFROM:+0100
TZOFFSETTO:+0200
TZNAME:CEST
DTSTART:20250330T010000
END:DAYLIGHT
BEGIN:STANDARD
TZOFFSETFROM:+0200
TZOFFSETTO:+0100
TZNAME:CET
DTSTART:20251026T010000
END:STANDARD
END:VTIMEZONE
BEGIN:VEVENT
DTSTART;TZID=Europe/Warsaw:20240626T180000
DTEND;TZID=Europe/Warsaw:20240626T190000
DTSTAMP:20260421T041217
CREATED:20240618T123159Z
LAST-MODIFIED:20240618T123159Z
UID:229874-1719424800-1719428400@www.niebywalesuwalki.pl
SUMMARY:Krajobraz naszej pamięci - wernisaż wystawy w Sejnach
DESCRIPTION:
URL:https://www.niebywalesuwalki.pl/wydarzenie/krajobraz-naszej-pamieci-wernisaz-wystawy-w-sejnach/
LOCATION:Biała Synagoga\, Sejny\, Polska
ATTACH;FMTTYPE=image/jpeg:https://www.niebywalesuwalki.pl/wp-content/uploads/2024/06/Sejny_zaproszenie.jpeg
END:VEVENT
BEGIN:VEVENT
DTSTART;TZID=Europe/Warsaw:20240626T190000
DTEND;TZID=Europe/Warsaw:20240626T200000
DTSTAMP:20260421T041217
CREATED:20240618T134841Z
LAST-MODIFIED:20240618T134841Z
UID:229877-1719428400-1719432000@www.niebywalesuwalki.pl
SUMMARY:„WAKACJE WELCOME TO” – spektakl improwizowany Teatru Pneumatycznego w Augustowie
DESCRIPTION:Augustowskie Placówki Kultury i Teatr Pneumatyczny serdecznie zapraszają w środę 26 czerwca 2024 o godz. 19:00 do sali widowiskowej Miejskiego Domu Kultury (Rynek Zygmunta Augusta 9\, wejście od ul. Kościelnej\, II piętro) na kolejną odsłonę spektaklu improwizowanego Teatru Pneumatycznego. \nPowitajmy razem wakacje! Będzie to równocześnie zakończenie sezonu teatralnego 2023/2024 w Teatrze Pneumatycznym. Przed nami zatem WIECZÓR GIER IMPRO\, co oznacza\, że występujący zmierzą się z odgórnymi regułami kilku widowiskowych gier\, prezentując sceny\, których tematykę oraz inne założenia podpowie im widownia. Będziecie mogli zobaczyć\, jak improwizatorzy radzą sobie z flirtem na najdziwniejszych na świecie randkach w ciemno\, jak pokonują abstrakcyjne przeszkody\, by dotrzeć do ukochanych miejsc pracy oraz przyglądać się innym szalonym zadaniom\, które zostaną przed nimi postawione. Każda ze scen zostanie zagrana po raz pierwszy i nigdy się już nie powtórzy! \nBądźcie z nami. \nAPK \n– – – \nSpektakl trwa ok. 70 minut. \nUWAGA! Wydarzenie skierowane jest do widzów powyżej 16. roku życia. \nBilet: 20 zł \nSprzedaż i rezerwacje: Augustowskie Placówki Kultury\, Rynek Zygmunta Augusta 9\, tel. 87 643 36 59
URL:https://www.niebywalesuwalki.pl/wydarzenie/wakacje-welcome-to-spektakl-improwizowany-teatru-pneumatycznego-w-augustowie/
LOCATION:Augustowskie Placówki Kultury – Miejski Dom Kultury\, Rynek Zygmunta Augusta\, Augustów\, Polska
END:VEVENT
END:VCALENDAR