BEGIN:VCALENDAR
VERSION:2.0
PRODID:-//Niebywałe Suwałki - ECPv6.15.20//NONSGML v1.0//EN
CALSCALE:GREGORIAN
METHOD:PUBLISH
X-ORIGINAL-URL:https://www.niebywalesuwalki.pl
X-WR-CALDESC:Wydarzenia dla Niebywałe Suwałki
REFRESH-INTERVAL;VALUE=DURATION:PT1H
X-Robots-Tag:noindex
X-PUBLISHED-TTL:PT1H
BEGIN:VTIMEZONE
TZID:Europe/Warsaw
BEGIN:DAYLIGHT
TZOFFSETFROM:+0100
TZOFFSETTO:+0200
TZNAME:CEST
DTSTART:20230326T010000
END:DAYLIGHT
BEGIN:STANDARD
TZOFFSETFROM:+0200
TZOFFSETTO:+0100
TZNAME:CET
DTSTART:20231029T010000
END:STANDARD
BEGIN:DAYLIGHT
TZOFFSETFROM:+0100
TZOFFSETTO:+0200
TZNAME:CEST
DTSTART:20240331T010000
END:DAYLIGHT
BEGIN:STANDARD
TZOFFSETFROM:+0200
TZOFFSETTO:+0100
TZNAME:CET
DTSTART:20241027T010000
END:STANDARD
BEGIN:DAYLIGHT
TZOFFSETFROM:+0100
TZOFFSETTO:+0200
TZNAME:CEST
DTSTART:20250330T010000
END:DAYLIGHT
BEGIN:STANDARD
TZOFFSETFROM:+0200
TZOFFSETTO:+0100
TZNAME:CET
DTSTART:20251026T010000
END:STANDARD
END:VTIMEZONE
BEGIN:VEVENT
DTSTART;TZID=Europe/Warsaw:20240627T183000
DTEND;TZID=Europe/Warsaw:20240627T220000
DTSTAMP:20260421T003207
CREATED:20240610T090947Z
LAST-MODIFIED:20240610T090947Z
UID:229246-1719513000-1719525600@www.niebywalesuwalki.pl
SUMMARY:Pokaz filmu "Perfect Days" w cyklu "DKF Kinochłon" w Augustowie
DESCRIPTION:Ten film dobrze robi…\nNa samopoczucie\, na duszę\, na ciało.\nJeśli oczekujesz wartkiej akcji\, intryg\, nieoczekiwanych zwrotów – w tym filmie tego nie znajdziesz.\nO tym filmie napisano już dużo dobrego. Ze strony widza\, dziennikarza\, krytyka.\nIleż można czytać?!\nCzas obejrzeć film.\nMieszkający we współczesnym Tokio Hirayama (w tej roli fantastyczny Kōji Yakusho\, nagrodzony za swoją rolę na festiwalu w Cannes) to człowiek małomówny i zamknięty w sobie\, jednak przepełniony miłością do świata i innych. Podążając za bohaterem\, odkrywamy kolejne rytuały\, w które angażuje się on z całkowitym oddaniem. Z czasem nawet prozaiczna praca Hirayamy\, porządkującego miejskie toalety (każda jest architektonicznym arcydziełem)\, okazuje się niezwykłym ceremoniałem.\nGośćmi widowni będą miłośnicy kina o których TU jeszcze napiszemy: Łukasz Mańkowski i Tomasz Adamski\nZakup biletów w MDK lub w kinie na godzinę przed seansem.
URL:https://www.niebywalesuwalki.pl/wydarzenie/pokaz-filmu-perfect-days-w-cyklu-dkf-kinochlon-w-augustowie/
LOCATION:Kino Iskra\, Augustów\, Polska
END:VEVENT
END:VCALENDAR