BEGIN:VCALENDAR
VERSION:2.0
PRODID:-//Niebywałe Suwałki - ECPv6.15.20//NONSGML v1.0//EN
CALSCALE:GREGORIAN
METHOD:PUBLISH
X-ORIGINAL-URL:https://www.niebywalesuwalki.pl
X-WR-CALDESC:Wydarzenia dla Niebywałe Suwałki
REFRESH-INTERVAL;VALUE=DURATION:PT1H
X-Robots-Tag:noindex
X-PUBLISHED-TTL:PT1H
BEGIN:VTIMEZONE
TZID:Europe/Warsaw
BEGIN:DAYLIGHT
TZOFFSETFROM:+0100
TZOFFSETTO:+0200
TZNAME:CEST
DTSTART:20230326T010000
END:DAYLIGHT
BEGIN:STANDARD
TZOFFSETFROM:+0200
TZOFFSETTO:+0100
TZNAME:CET
DTSTART:20231029T010000
END:STANDARD
BEGIN:DAYLIGHT
TZOFFSETFROM:+0100
TZOFFSETTO:+0200
TZNAME:CEST
DTSTART:20240331T010000
END:DAYLIGHT
BEGIN:STANDARD
TZOFFSETFROM:+0200
TZOFFSETTO:+0100
TZNAME:CET
DTSTART:20241027T010000
END:STANDARD
BEGIN:DAYLIGHT
TZOFFSETFROM:+0100
TZOFFSETTO:+0200
TZNAME:CEST
DTSTART:20250330T010000
END:DAYLIGHT
BEGIN:STANDARD
TZOFFSETFROM:+0200
TZOFFSETTO:+0100
TZNAME:CET
DTSTART:20251026T010000
END:STANDARD
END:VTIMEZONE
BEGIN:VEVENT
DTSTART;TZID=Europe/Warsaw:20240628T153000
DTEND;TZID=Europe/Warsaw:20240630T200000
DTSTAMP:20260421T003127
CREATED:20240624T093629Z
LAST-MODIFIED:20240624T115626Z
UID:230004-1719588600-1719777600@www.niebywalesuwalki.pl
SUMMARY:Wielkie Xięstwo Poezji 2024 w Sejnach i Krasnogrudzie
DESCRIPTION:Serdecznie zapraszamy na Wielkie Xięstwo Poezji – coroczny cykl spotkań odbywający się w rocznicę urodzin Czesława Miłosza. W tym roku wydarzenia odbywać się będą od 28 do 30 czerwca w Krasnogrudzie\, Sejnach\, Bokszach Starych\, Maćkowej Rudzie i Bierżałowcach. Na wszystkie wydarzenia wstęp wolny. \nWspólne obchodzenie kolejnych rocznic zapoczątkowane zostało w Krasnogrudzie w 2011 roku\, gdy Dwór Miłosza ponownie otwarto w 100. rocznicę urodzin Poety. Spotkania są nawiązaniem do tradycji tego pogranicza\, do tradycji ziem Wielkiego Księstwa Litewskiego. Jest to wspólne międzynarodowe święto czytania poezji z udziałem twórców słowa poetyckiego\, przekładu\, książki i recytacji z krajów sąsiedzkich Litwy\, Białorusi\, Ukrainy i Polski. \nPROGRAM WIELKIEGO XIĘSTWA POEZJI 2024\n28 czerwca (piątek)\n15.30-16.30\nKRASNOGRUDZKA POESIS\, czyli o Wielkim Xięstwie między Litwą a poezją. Opowieść Krzysztofa Czyżewskiego\n(Krasnogruda\, Mały Ganek Dworu Miłosza)\n17.00-19.00\nOD REKONSTRUKCJI NARODÓW DO WOLNOŚCI\nZ Timothy Snyderem\, autorem książki O wolności\nrozmawia Krzysztof Czyżewski\n(Krasnogruda\, Duży Ganek Dworu Miłosza)\n19.30 – 21.00\nPOESIS MORIENDI\nWieczór poetycki dedykowany pamięci Wiktorii Ameliny i Maksyma Krywcowa. Udział wezmą: Julija Stachiwska\, Andrej Chadanowicz\, Krzysztof Czyżewski\, Timothy Snyder\nProwadzenie: Iryna Mularczuk\, Marci Shore\n(Krasnogruda\, Kawiarnia literacka „Piosenka o porcelanie” w Dworze Miłosza) \n29 czerwca (sobota)\n12.00-13.30\nMOCNE SŁOWA ZAWSZE SĄ ZBYT SŁABE\nO poezji w obliczu wojny rozmawiają i wiersze czytają Jaryna Czarnohuz\, Iryna Mularczuk i Julija Stachiwska.\nProwadzenie: Mindaugas Kvietkauskas\n(Krasnogruda\, Kawiarnia literacka „Piosenka o porcelanie” w Dworze Miłosza\, )\n15.00-16.30\nKULBAK\, CZYLI MISTYKA POGRANICZA\nO Mosze Kulbaku\, poecie jidysz\, rozmawiają: Andrej Chadanowicz\, Mindaugas Kvietkauskas i Siarhiej Šupa.\nProwadzenie: Krzysztof Czyżewski\n(Krasnogruda \, Sala Powrotu w Dworze Miłosza)\n17.00-18.30\nROZSTRZELANI POECI\nWykład mistrzowski: Andrej Chadanowicz\n(Krasnogruda\, Duży Ganek Dworu Miłosza)\n19.00-20.30\nCZARNE POETKI AMERYKAŃSKIE\nWieczór poetycki połączony z promocją książki Czarne diamenty. Toni Morrison i 9 innych poetek afroamerykańskich w przekładzie Haliny Cieplińskiej.\nUdział wezmą: Halina Cieplińska oraz Krystyna Dąbrowska i Barbara Piórkowska.\nProwadzenie: Krzysztof Czyżewski\nSaksofon: Radek Nowicki\n(Krasnogruda\, Kawiarnia literacka „Piosenka o porcelanie”) \n30 czerwca (niedziela)\n11.00-12.30\nPOESIS LOCI I – MAĆKOWA RUDA\nSpotkanie autorskie w Miejscu Poetyckim: Marzanna Bogumiła Kielar\nProwadzenie: Krzysztof Czyżewski\n(Maćkowa Ruda\, Galeria Andrzeja Strumiłły)\n13.00-13.30\nPOESIS LOCI II – BOKSZE STARE\nW Miejscu Poetyckim Morrisa Rosenfelda wiersze czytają\nBarbara Piórkowska i Michał Fałtynowicz\n14.15-15.00\nPOESIS LOCI III – BERŻAŁOWCE\nW miejscu poetyckim Krzysztofa Gedroycia wiersze czytają:\nKrystyna Dąbrowska i Marius Burokas\n18.30-20.00\nCAFÉ EUROPA\nLatająca Kawiarnia Literacka z udziałem poetów i tłumaczy z Ukrainy\, Białorusi\, Litwy i Polski: Krystyna Dąbrowska\, Michał Fałtynowicz\, Marius Burokas\, Marzanna Bogumiła Kielar\, Barbara Piórkowska i Julija Stachiwska.\nProwadzenie: Krzysztof Czyżewski i Iryna Mularczuk.\n(Sejny\, Biała Synagoga)\n20.30-21.30\nMISTERIUM POESIS\nZbiorowe czytanie poezji w amfiteatrze Niewidzialnego Mostu w Krasnogrudzie
URL:https://www.niebywalesuwalki.pl/wydarzenie/wielkie-xiestwo-poezji-2024-w-sejnach-i-krasnogrudzie/
LOCATION:Sejny\, Krasnogruda\, Sejny\, Krasnogruda\, Polska
END:VEVENT
BEGIN:VEVENT
DTSTART;TZID=Europe/Warsaw:20240629T100000
DTEND;TZID=Europe/Warsaw:20240629T200000
DTSTAMP:20260421T003127
CREATED:20240610T080955Z
LAST-MODIFIED:20240610T080955Z
UID:229244-1719655200-1719691200@www.niebywalesuwalki.pl
SUMMARY:Skate Festyn w Augustowie
DESCRIPTION:Zapraszamy na kolejną edycję naszej imprezy deskorolkowej Skate Festyn! Pod patronatem Miasta Augustów !\nW tym roku nasza formuła rozrasta się o koncert zespołu Osyda i spot Aut zabytkowych!!\nWięc czeka was wiele atrakcji i emocji związanych z naszą imprezą!!\n10:00 zapraszamy na zapisy zawodników zawodów deskorolkowych\n12:00 ruszamy z przejazdami\n15:00 zaczynamy best trick\nprzed finałem zapraszamy uczestników na poczęstunek od\n@podklosem_suwalki\n16:00 finały i rozdanie nagród od Pogo 3012  \, Euro Windows Karol Kamiński\n18:00 na skate park wchodzi zespół OSYDA\n18:30 spot oraz walka o tytuł best car i nagrody od Retro WARsztat Suwałki \,Katusze – studio tatuażu  Abre Piercing\npodczas zawodów nawadniać nas będzie Augustowianka \, a energii doda nam Monster Energy\nPatronat : Augustów\nPatront medialni : Polskie Radio Białystok\nSponsorzy:\n@pogo3012 @katuszetattoo @eurowindowspl @augustow_miasto @monsterenergy @podklosem_suwalki @augustowianka_official @abre_piercing @retro_warsztat_suwalki
URL:https://www.niebywalesuwalki.pl/wydarzenie/skate-festyn-w-augustowie/
LOCATION:Augustów\, Augustów\, Polska
END:VEVENT
BEGIN:VEVENT
DTSTART;TZID=Europe/Warsaw:20240629T110000
DTEND;TZID=Europe/Warsaw:20240629T130000
DTSTAMP:20260421T003127
CREATED:20240618T200309Z
LAST-MODIFIED:20240618T200309Z
UID:229893-1719658800-1719666000@www.niebywalesuwalki.pl
SUMMARY:Razem. Z mamą i tatą – papierowe dziwaki: warsztaty rodzinne w Suwałkach
DESCRIPTION:Dzieci wraz z rodzicami zrobią bajkowe\, fantastyczne stwory\, nie z tego świata\, z materiałów dostępnych w każdym domu. 29 czerwca spotykamy się w Pracowni Plastycznej CENTRUM. \nZapraszamy do zapisów\, ilość miejsc na warsztaty jest ograniczona. \n29.06.2024\, godzina 11.00-13.00 \nPracownia Plastyczna Centrum\, ul. T. Noniewicza 71\nwstęp wolny\, zapisy tel.: 87 563 85 43
URL:https://www.niebywalesuwalki.pl/wydarzenie/razem-z-mama-i-tata-papierowe-dziwaki-warsztaty-rodzinne-w-suwalkach/
LOCATION:SOK\, Noniewicza\, ul. Noniewicza 71\, Suwałki\, Polska
END:VEVENT
BEGIN:VEVENT
DTSTART;TZID=Europe/Warsaw:20240629T120000
DTEND;TZID=Europe/Warsaw:20240629T140000
DTSTAMP:20260421T003127
CREATED:20240624T092903Z
LAST-MODIFIED:20240624T092903Z
UID:230001-1719662400-1719669600@www.niebywalesuwalki.pl
SUMMARY:Spotkanie poetyckie wokół ukraińskiej poezji w obliczu wojny w Krasnogrudzie
DESCRIPTION:Zapraszamy na spotkanie poetyckie wokół ukraińskiej poezji w obliczu wojny. rozmawiają i wiersze czytają Jaryna Czarnohuz\, Iryna Mularczuk i Julija Stachiwska. Rozmowę poprowadzi Mindaugas Kvietkauskas. Wstęp wolny\, serdecznie zapraszamy!\n\n29 czerwca 2024 (sobota)godz. 12:00Kawiarnia „Piosenka o Porcelanie”\, Dwór Miłosza w Krasnogrudzie\n\nIRYNA MULARCZUK (1992) – Ukraińska poetka\, tłumaczka\, literaturoznawczyni. Absolwentka filologii ukraińskiej Uniwersytetu Narodowego im. Iwana Franki we Lwowie. Nauczycielka ukraińskiego dla cudzoziemców oraz nauczycielka jogi. Autorka pięciu tomików poetyckich: Degustacja uczuć (2010)\, Refleksje z jabłkami [Słownik kuszonej] (2013)\, Świat(ło) (2021)\, w dOMu (2022)\, tylko nie zabieraj (w spółautorstwie z Krzysztofem Michem\, 2023).Przełożyła z języka polskiego wiersze Czesława Miłosza\, Krzysztofa Czyżewskiego\, Krzysztofa Micha\, Katarzyny Szwedy\, Anety Kamińskiej\, Urszuli Zajączkowskiej\, dramat Dom kobiet Zofii Nałkowskiej oraz spektakl Romans Natalii Sakowicz.\nJARYNA CZORNOHUZ (1995) – Poetka\, tłumaczka\, aktywistka społeczna\, żołnierka Brygady Piechoty Morskiej Sił Zbrojnych Ukrainy w służbie czynnej. Urodziła się 18 maja 1995 roku w Kijowie. W latach 2013–2014 była aktywną uczestniczką studenckiego Euromajdanu i Rewolucji Godności. Od 2015 roku koordynowała projekty promujące język ukraiński wśród rosyjskojęzycznych mieszkańców Ukrainy: Przejdź na ukraiński oraz Maraton językowy. W 2019 roku ukończyła wydział nauk humanistycznych Akademii Kijowsko-Mohylańskiej. W 2019 roku\, po ukończeniu bazowego kursu pierwszej pomocy\, została ratownikiem medycznym ochotniczego Batalionu Medycznego „Szpitalnicy”\, z którym jeździła na front. Wiosną 2020 roku była inicjatorką trzymiesięcznego samotnego protestu „Wiosna_na_granicie”\, skierowanego przeciwporozumieniom mińskim i prorosyjskiej polityce ówczesnychwładz\, legitymizującej rosyjską okupację obwodów donieckiego\, ługańskiego oraz Krymu\, a także przeciw polityce zapomnienia o ofiarach rosyjskiej okupacji i cenie jaką zapłacili walczący z nią żołnierze armii ukraińskiej. W maju 2020 podpisała kontrakt na służbę w Piechocie Morskiej Sił Zbrojnych Ukrainy. Najpierw służyła w 503 Samodzielnym Batalionie Dowództwa Korpusu Morskiego\,a od 2020 roku podjęła służbę w 140 Samodzielnym Zwiadowczym Batalionie Morskim\, w którym obecnie walczy jako medyk bojowy plutonu oraz harcerka. Od sierpnia 2021 roku jej batalion toczy walki na froncie w obwodach ługańskim i donieckim. Służbę wojskową pełni w randze starszego marynarza. W maju 2022 roku została odznaczona nagrodą „Za uratowane życie”. Jako poetka zadebiutowała w 2020 roku tomem Jak wygina się krąg wojskowy. Wkrótce ukaże się drugi tom jej wierszy pt. Dasein: obrona obecności. Jest laureatką nagrody poetyckiej wydawnictwa Smołoskyp.\nJULIJA STACHIWSKA (1985) Poetka i ilustratorka z Żytomierza. Absolwentka filologii ukraińskiej Akademii Kijowsko-Mohylańskiej. Pracowała jako kierowniczka artystyczna w sieci księgarń Je oraz koordynatorka programów w Czeskim Centrum i Instytucie Polskim w Kijowie. Współredaktorka (razem z Ołehem Kocarewem) antologii Ukrajinśka awanhardna poezija: 1910-1930 roky (2014) oraz Ukrajinśkyj poetycznyj awanhard (dla Bułgarskiej Akademii Nauk\, 2018). Autorka tomów poetyckich: Czerwoni czołowiczky (2009)oraz Verde (2015). W Polsce ukazał się tom poezji w przekładzie Anety Kamińskiej Wszystkie możliwe rzeczy (Poznań\, 2019). Jej wiersze ukazywały się również w antologiach: 30 wierszy zza granicy. Młoda poezja ukraińska (2012)\, Portret kobiecy w odwróconej perspektywie. 12 poetek z Czech\, Słowenii i Ukrainy (2013)\,Listy z Ukrainy (2016). Jest autorką książek dla dzieci: Tajemnycia Mohylanky i znykłyj klucz (2020)\, Misiać nad Kinburnom (2020)\, Sonia ta hra koloriw (2022). Zilustrowała książkę dla dzieci Andreja Chadanowicza Tatkowi notatky.\n\n\nWydarzenie jest częścią Wielkiego Xięstwa Poezji 2024 – cyklu spotkań odbywających się w co roku w Krasnogrudzie i Sejnach w rocznicę urodzin Czesława Miłosza. Cały program Wielkiego Xięstwa Poezji: https://www.pogranicze.sejny.pl/…/wielkie-xiestwo…/
URL:https://www.niebywalesuwalki.pl/wydarzenie/spotkanie-poetyckie-wokol-ukrainskiej-poezji-w-obliczu-wojny-w-krasnogrudzie/
LOCATION:Dwór Miłosza – Kawiarnia Piosenka  o porcelanie\, Krasnogruda\, Polska
END:VEVENT
BEGIN:VEVENT
DTSTART;TZID=Europe/Warsaw:20240629T150000
DTEND;TZID=Europe/Warsaw:20240629T230000
DTSTAMP:20260421T003127
CREATED:20240618T135156Z
LAST-MODIFIED:20240618T135157Z
UID:229881-1719673200-1719702000@www.niebywalesuwalki.pl
SUMMARY:Odlotowe Suwałki Air Show 2024
DESCRIPTION:
URL:https://www.niebywalesuwalki.pl/wydarzenie/odlotowe-suwalki-air-show-2024/
LOCATION:Lotnisko Suwałki\, Suwałki\, Polska
END:VEVENT
BEGIN:VEVENT
DTSTART;TZID=Europe/Warsaw:20240629T183000
DTEND;TZID=Europe/Warsaw:20240629T220000
DTSTAMP:20260421T003127
CREATED:20240610T091230Z
LAST-MODIFIED:20240610T091230Z
UID:229249-1719685800-1719698400@www.niebywalesuwalki.pl
SUMMARY:Reggae pod Gwiazdami - koncerty w Olecku
DESCRIPTION:Daj się ponieść aż do gwiazd! Naładuj się pozytywnymi dźwiękami. \nWpadaj na REGGAE POD GWIAZDAMI – czyli dobrze uzbrojone basy (DUB) od zmierzchu do świtu! \nChyba nikogo nie trzeba specjalnie zamawiać do udziału w tym muzycznym wydarzeniu…wystarczy spojrzeć na line up. Będzie się działo! \n29 czerwca\ngodzina 18.30\nCamping MOSiR Olecko\nWstęp wolny\nWystąpią zespoły: \n2nd Hand Beatnix (Punk Beat Poetry with Zen\, Warszawa)\nTytus & The Left-Handers (Free-Jazz-Dub-Impro\, Warszawa)\nKoOpeRacJa (Weird Reggae\, Olecko-Reszel-Biskupiec)\nMary Mount Dub Station (Dub Reggae\, Warszawa)\nSelektorzy: \nGrowingSound Boguś Selekta + EMI + NIKO (Warszawa)\nAtof – Roots Vibracja Sound System (Wolne)\nDźwięk: \nSubnation Sound System i RadarOne (PraCoVnia Art-Club/KingsTone Studio)\nPatronat medialny: Radio Zamek Nadaje
URL:https://www.niebywalesuwalki.pl/wydarzenie/reggae-pod-gwiazdami-koncerty-w-olecku/
LOCATION:Olecko\, Olecko\, Polska
END:VEVENT
END:VCALENDAR