BEGIN:VCALENDAR
VERSION:2.0
PRODID:-//Niebywałe Suwałki - ECPv6.15.20//NONSGML v1.0//EN
CALSCALE:GREGORIAN
METHOD:PUBLISH
X-WR-CALNAME:Niebywałe Suwałki
X-ORIGINAL-URL:https://www.niebywalesuwalki.pl
X-WR-CALDESC:Wydarzenia dla Niebywałe Suwałki
REFRESH-INTERVAL;VALUE=DURATION:PT1H
X-Robots-Tag:noindex
X-PUBLISHED-TTL:PT1H
BEGIN:VTIMEZONE
TZID:Europe/Warsaw
BEGIN:DAYLIGHT
TZOFFSETFROM:+0100
TZOFFSETTO:+0200
TZNAME:CEST
DTSTART:20230326T010000
END:DAYLIGHT
BEGIN:STANDARD
TZOFFSETFROM:+0200
TZOFFSETTO:+0100
TZNAME:CET
DTSTART:20231029T010000
END:STANDARD
BEGIN:DAYLIGHT
TZOFFSETFROM:+0100
TZOFFSETTO:+0200
TZNAME:CEST
DTSTART:20240331T010000
END:DAYLIGHT
BEGIN:STANDARD
TZOFFSETFROM:+0200
TZOFFSETTO:+0100
TZNAME:CET
DTSTART:20241027T010000
END:STANDARD
BEGIN:DAYLIGHT
TZOFFSETFROM:+0100
TZOFFSETTO:+0200
TZNAME:CEST
DTSTART:20250330T010000
END:DAYLIGHT
BEGIN:STANDARD
TZOFFSETFROM:+0200
TZOFFSETTO:+0100
TZNAME:CET
DTSTART:20251026T010000
END:STANDARD
END:VTIMEZONE
BEGIN:VEVENT
DTSTART;TZID=Europe/Warsaw:20240628T153000
DTEND;TZID=Europe/Warsaw:20240630T200000
DTSTAMP:20260420T231301
CREATED:20240624T093629Z
LAST-MODIFIED:20240624T115626Z
UID:230004-1719588600-1719777600@www.niebywalesuwalki.pl
SUMMARY:Wielkie Xięstwo Poezji 2024 w Sejnach i Krasnogrudzie
DESCRIPTION:Serdecznie zapraszamy na Wielkie Xięstwo Poezji – coroczny cykl spotkań odbywający się w rocznicę urodzin Czesława Miłosza. W tym roku wydarzenia odbywać się będą od 28 do 30 czerwca w Krasnogrudzie\, Sejnach\, Bokszach Starych\, Maćkowej Rudzie i Bierżałowcach. Na wszystkie wydarzenia wstęp wolny. \nWspólne obchodzenie kolejnych rocznic zapoczątkowane zostało w Krasnogrudzie w 2011 roku\, gdy Dwór Miłosza ponownie otwarto w 100. rocznicę urodzin Poety. Spotkania są nawiązaniem do tradycji tego pogranicza\, do tradycji ziem Wielkiego Księstwa Litewskiego. Jest to wspólne międzynarodowe święto czytania poezji z udziałem twórców słowa poetyckiego\, przekładu\, książki i recytacji z krajów sąsiedzkich Litwy\, Białorusi\, Ukrainy i Polski. \nPROGRAM WIELKIEGO XIĘSTWA POEZJI 2024\n28 czerwca (piątek)\n15.30-16.30\nKRASNOGRUDZKA POESIS\, czyli o Wielkim Xięstwie między Litwą a poezją. Opowieść Krzysztofa Czyżewskiego\n(Krasnogruda\, Mały Ganek Dworu Miłosza)\n17.00-19.00\nOD REKONSTRUKCJI NARODÓW DO WOLNOŚCI\nZ Timothy Snyderem\, autorem książki O wolności\nrozmawia Krzysztof Czyżewski\n(Krasnogruda\, Duży Ganek Dworu Miłosza)\n19.30 – 21.00\nPOESIS MORIENDI\nWieczór poetycki dedykowany pamięci Wiktorii Ameliny i Maksyma Krywcowa. Udział wezmą: Julija Stachiwska\, Andrej Chadanowicz\, Krzysztof Czyżewski\, Timothy Snyder\nProwadzenie: Iryna Mularczuk\, Marci Shore\n(Krasnogruda\, Kawiarnia literacka „Piosenka o porcelanie” w Dworze Miłosza) \n29 czerwca (sobota)\n12.00-13.30\nMOCNE SŁOWA ZAWSZE SĄ ZBYT SŁABE\nO poezji w obliczu wojny rozmawiają i wiersze czytają Jaryna Czarnohuz\, Iryna Mularczuk i Julija Stachiwska.\nProwadzenie: Mindaugas Kvietkauskas\n(Krasnogruda\, Kawiarnia literacka „Piosenka o porcelanie” w Dworze Miłosza\, )\n15.00-16.30\nKULBAK\, CZYLI MISTYKA POGRANICZA\nO Mosze Kulbaku\, poecie jidysz\, rozmawiają: Andrej Chadanowicz\, Mindaugas Kvietkauskas i Siarhiej Šupa.\nProwadzenie: Krzysztof Czyżewski\n(Krasnogruda \, Sala Powrotu w Dworze Miłosza)\n17.00-18.30\nROZSTRZELANI POECI\nWykład mistrzowski: Andrej Chadanowicz\n(Krasnogruda\, Duży Ganek Dworu Miłosza)\n19.00-20.30\nCZARNE POETKI AMERYKAŃSKIE\nWieczór poetycki połączony z promocją książki Czarne diamenty. Toni Morrison i 9 innych poetek afroamerykańskich w przekładzie Haliny Cieplińskiej.\nUdział wezmą: Halina Cieplińska oraz Krystyna Dąbrowska i Barbara Piórkowska.\nProwadzenie: Krzysztof Czyżewski\nSaksofon: Radek Nowicki\n(Krasnogruda\, Kawiarnia literacka „Piosenka o porcelanie”) \n30 czerwca (niedziela)\n11.00-12.30\nPOESIS LOCI I – MAĆKOWA RUDA\nSpotkanie autorskie w Miejscu Poetyckim: Marzanna Bogumiła Kielar\nProwadzenie: Krzysztof Czyżewski\n(Maćkowa Ruda\, Galeria Andrzeja Strumiłły)\n13.00-13.30\nPOESIS LOCI II – BOKSZE STARE\nW Miejscu Poetyckim Morrisa Rosenfelda wiersze czytają\nBarbara Piórkowska i Michał Fałtynowicz\n14.15-15.00\nPOESIS LOCI III – BERŻAŁOWCE\nW miejscu poetyckim Krzysztofa Gedroycia wiersze czytają:\nKrystyna Dąbrowska i Marius Burokas\n18.30-20.00\nCAFÉ EUROPA\nLatająca Kawiarnia Literacka z udziałem poetów i tłumaczy z Ukrainy\, Białorusi\, Litwy i Polski: Krystyna Dąbrowska\, Michał Fałtynowicz\, Marius Burokas\, Marzanna Bogumiła Kielar\, Barbara Piórkowska i Julija Stachiwska.\nProwadzenie: Krzysztof Czyżewski i Iryna Mularczuk.\n(Sejny\, Biała Synagoga)\n20.30-21.30\nMISTERIUM POESIS\nZbiorowe czytanie poezji w amfiteatrze Niewidzialnego Mostu w Krasnogrudzie
URL:https://www.niebywalesuwalki.pl/wydarzenie/wielkie-xiestwo-poezji-2024-w-sejnach-i-krasnogrudzie/
LOCATION:Sejny\, Krasnogruda\, Sejny\, Krasnogruda\, Polska
END:VEVENT
BEGIN:VEVENT
DTSTART;TZID=Europe/Warsaw:20240630T100000
DTEND;TZID=Europe/Warsaw:20240630T120000
DTSTAMP:20260420T231301
CREATED:20240624T114729Z
LAST-MODIFIED:20240624T114730Z
UID:230019-1719741600-1719748800@www.niebywalesuwalki.pl
SUMMARY:Gra terenowa "Żwirek i Muchomorek dbają o środowisko" w Starym Folwarku
DESCRIPTION:WIGIERSKI PARK NARODOWY \nzaprasza do wzięcia udziału w grze terenowej \npt. Żwirek i Muchomorek dbają o środowisko \nMiejsce: Muzeum Wigier w Starym Folwarku \nTermin: 30 czerwca 2024 od godziny 10.00 do godziny 12.00
URL:https://www.niebywalesuwalki.pl/wydarzenie/gra-terenowa-zwirek-i-muchomorek-dbaja-o-srodowisko-w-starym-folwarku/
LOCATION:Muzeum Wigier\, Stary Folwark 50\, Stary Folwark\, Polska
END:VEVENT
BEGIN:VEVENT
DTSTART;TZID=Europe/Warsaw:20240630T100000
DTEND;TZID=Europe/Warsaw:20240630T150000
DTSTAMP:20260420T231301
CREATED:20240619T105706Z
LAST-MODIFIED:20240619T105706Z
UID:229926-1719741600-1719759600@www.niebywalesuwalki.pl
SUMMARY:Odjazdowy Bibliotekarz 2024 - rajd w Suwałkach
DESCRIPTION:Biblioteka Publiczna im. Marii Konopnickiej w Suwałkach zaprasza miłośników rowerów i książek na rajd rowerowy „Odjazdowy bibliotekarz”. Start w niedzielę\, 30 czerwca 2024 r.\, godz. 10.00 przy budynku Biblioteki\, ul. E. Plater 33A. \nTrasa będzie wiodła ulicami Suwałk (głównie wyznaczonymi ścieżkami rowerowymi) do Płociczna i dalej do Leśniczówki Słupie. Rajd zakończy się spotkaniem przy ognisku oraz zabawami dla dzieci\, „kąpielą leśną’\, koncertem Małgorzaty Makowskiej i spotkaniem z suwalską pisarką Vanessą Możdżer – autorką książki „Ślad anioła”. \nW przypadku niekorzystnych prognoz pogody (zapowiedzi ulewnego deszczu) rajd odbędzie się w innym terminie. \nZorganizowano we współpracy z Wigierskim Parkiem Narodowym i Stowarzyszeniem Bibliotekarzy Polskich Oddział w Suwałkach.
URL:https://www.niebywalesuwalki.pl/wydarzenie/odjazdowy-bibliotekarz-2024-rajd-w-suwalkach/
LOCATION:Biblioteka Publiczna im. Marii Konopnickiej\, Emilii Plater 33A\, Suwałki\, Polska
END:VEVENT
BEGIN:VEVENT
DTSTART;TZID=Europe/Warsaw:20240630T110000
DTEND;TZID=Europe/Warsaw:20240630T130000
DTSTAMP:20260420T231301
CREATED:20240625T110719Z
LAST-MODIFIED:20240625T110720Z
UID:230070-1719745200-1719752400@www.niebywalesuwalki.pl
SUMMARY:Spacer z Wieruszem po Suwałkach
DESCRIPTION:
URL:https://www.niebywalesuwalki.pl/wydarzenie/spacer-z-wieruszem-po-suwalkach/
LOCATION:Dom Alfreda Wierusz-Kowalskiego\, ul. Kościuszki 16\, Suwałki\, Poland
END:VEVENT
END:VCALENDAR