BEGIN:VCALENDAR
VERSION:2.0
PRODID:-//Niebywałe Suwałki - ECPv6.15.20//NONSGML v1.0//EN
CALSCALE:GREGORIAN
METHOD:PUBLISH
X-WR-CALNAME:Niebywałe Suwałki
X-ORIGINAL-URL:https://www.niebywalesuwalki.pl
X-WR-CALDESC:Wydarzenia dla Niebywałe Suwałki
REFRESH-INTERVAL;VALUE=DURATION:PT1H
X-Robots-Tag:noindex
X-PUBLISHED-TTL:PT1H
BEGIN:VTIMEZONE
TZID:Europe/Warsaw
BEGIN:DAYLIGHT
TZOFFSETFROM:+0100
TZOFFSETTO:+0200
TZNAME:CEST
DTSTART:20230326T010000
END:DAYLIGHT
BEGIN:STANDARD
TZOFFSETFROM:+0200
TZOFFSETTO:+0100
TZNAME:CET
DTSTART:20231029T010000
END:STANDARD
BEGIN:DAYLIGHT
TZOFFSETFROM:+0100
TZOFFSETTO:+0200
TZNAME:CEST
DTSTART:20240331T010000
END:DAYLIGHT
BEGIN:STANDARD
TZOFFSETFROM:+0200
TZOFFSETTO:+0100
TZNAME:CET
DTSTART:20241027T010000
END:STANDARD
BEGIN:DAYLIGHT
TZOFFSETFROM:+0100
TZOFFSETTO:+0200
TZNAME:CEST
DTSTART:20250330T010000
END:DAYLIGHT
BEGIN:STANDARD
TZOFFSETFROM:+0200
TZOFFSETTO:+0100
TZNAME:CET
DTSTART:20251026T010000
END:STANDARD
END:VTIMEZONE
BEGIN:VEVENT
DTSTART;TZID=Europe/Warsaw:20240703T170000
DTEND;TZID=Europe/Warsaw:20240703T180000
DTSTAMP:20260420T061653
CREATED:20240627T090745Z
LAST-MODIFIED:20240627T090745Z
UID:230084-1720026000-1720029600@www.niebywalesuwalki.pl
SUMMARY:Działo się w Suwałkach... Spotkanie z Marcinem Bobowiczem w Suwałkach
DESCRIPTION:Muzeum Okręgowe w Suwałkach\ni Augustowsko-Suwalskie Towarzystwo Naukowe\nzapraszają na pierwsze w tegorocznej edycji spotkanie z cyklu \n„Działo się w Suwałkach…\nśrodowe opowieści o historii\, kulturze i sztuce”.\nNaszym gościem będzie Marcin Bobowicz\,\npasjonat historii Suwalszczyzny i autor książki\n„Co to było za piekło… Suwałki i okolice w wojennej rzeczywistości 1939–1945″\n3 lipca (środa)\, godzina 17.00\nMuzeum im. Marii Konopnickiej\, ul. T. Kościuszki 31
URL:https://www.niebywalesuwalki.pl/wydarzenie/dzialo-sie-w-suwalkach-spotkanie-z-marcinem-bobowiczem-w-suwalkach/
LOCATION:Muzeum im. Marii Konopnickiej\, ul. Kościuszki 32\, Suwałki\, Polska
END:VEVENT
BEGIN:VEVENT
DTSTART;TZID=Europe/Warsaw:20240703T180000
DTEND;TZID=Europe/Warsaw:20240703T190000
DTSTAMP:20260420T061653
CREATED:20240627T091006Z
LAST-MODIFIED:20240627T091006Z
UID:230083-1720029600-1720033200@www.niebywalesuwalki.pl
SUMMARY:Gawędy o przyrodzie: Świat Ważek - spotkanie w Słupiu
DESCRIPTION:Zapraszamy na gawędy o przyrodzie:\nŚwiat Ważek\n3 lipca 2024 (środa)\, godz. 18.00\nSłupie – Ośrodek Edukacji Środowiskowej\n\n\nNiemal żadne inne owady nie wzbudzają tyle zainteresowania i zachwytu co ważki. Kolorowe\, okazałe\, dynamiczne – przykuwają oko\, inspirują do tworzenia sztuki\, intrygują zarówno naukowców jak i amatorów. Mało kto jednak zdaje sobie sprawę\, że to tylko jedna z dwóch stron tych zwierząt. Zanim wylecą na ląd\, prowadzą tajemnicze życie pod wodą\, gdzie najważniejszą zasadą jest polować i nie zostać samemu upolowanym. W ramach wykładu uczestnicy będą mieli szansę poznać najciekawsze aspekty życia ważek jako larwy: – gdzie i jak żyją? – jakie czyhają na nie niebezpieczeństwa? – i jak to się dzieje\, że taki podwodny „potwór” w końcu przybiera swoją kolorową latającą formę?\n\n\nNikola Góral – doktorantka Szkoły Doktorskiej Nauk Przyrodniczych Uniwersytetu Adama Mickiewicza w Poznaniu\, badająca w ramach swojej pracy doktorskiej zdolności ważek do lotu na duże odległości. Członek Sekcji Odonatologicznej Polskiego Towarzystwa Entomologicznego. W wolnym czasie zajmuje się fotografią przyrodniczą oraz wędrówkami po bagnach.\n\n\nWstęp bezpłatny\n\n\nWydarzenie jest zrealizowane w ramach projektu pt. „Wyjdź Przyrodzie na Spotkanie” – WPN 2023-2026 dofinansowanego ze środków NFOŚiGW w ramach programu priorytetowego Edukacja Ekologiczna.
URL:https://www.niebywalesuwalki.pl/wydarzenie/gawedy-o-przyrodzie-swiat-wazek-spotkanie-w-slupiu/
LOCATION:Ośrodek Edukacji Środowiskowej Wigierskiego Parku Narodowego nad Zatoką Słupiańską\, Wigierski Park Narodowy\, Polska
END:VEVENT
END:VCALENDAR