BEGIN:VCALENDAR
VERSION:2.0
PRODID:-//Niebywałe Suwałki - ECPv6.15.20//NONSGML v1.0//EN
CALSCALE:GREGORIAN
METHOD:PUBLISH
X-ORIGINAL-URL:https://www.niebywalesuwalki.pl
X-WR-CALDESC:Wydarzenia dla Niebywałe Suwałki
REFRESH-INTERVAL;VALUE=DURATION:PT1H
X-Robots-Tag:noindex
X-PUBLISHED-TTL:PT1H
BEGIN:VTIMEZONE
TZID:Europe/Warsaw
BEGIN:DAYLIGHT
TZOFFSETFROM:+0100
TZOFFSETTO:+0200
TZNAME:CEST
DTSTART:20230326T010000
END:DAYLIGHT
BEGIN:STANDARD
TZOFFSETFROM:+0200
TZOFFSETTO:+0100
TZNAME:CET
DTSTART:20231029T010000
END:STANDARD
BEGIN:DAYLIGHT
TZOFFSETFROM:+0100
TZOFFSETTO:+0200
TZNAME:CEST
DTSTART:20240331T010000
END:DAYLIGHT
BEGIN:STANDARD
TZOFFSETFROM:+0200
TZOFFSETTO:+0100
TZNAME:CET
DTSTART:20241027T010000
END:STANDARD
BEGIN:DAYLIGHT
TZOFFSETFROM:+0100
TZOFFSETTO:+0200
TZNAME:CEST
DTSTART:20250330T010000
END:DAYLIGHT
BEGIN:STANDARD
TZOFFSETFROM:+0200
TZOFFSETTO:+0100
TZNAME:CET
DTSTART:20251026T010000
END:STANDARD
END:VTIMEZONE
BEGIN:VEVENT
DTSTART;TZID=Europe/Warsaw:20240704T180000
DTEND;TZID=Europe/Warsaw:20240704T200000
DTSTAMP:20260420T192553
CREATED:20240628T124925Z
LAST-MODIFIED:20240628T124925Z
UID:230152-1720116000-1720123200@www.niebywalesuwalki.pl
SUMMARY:Sejneńskie Spotkania z Nauką: Nanotechnologia – szansa na lepsze jutro?
DESCRIPTION:Przebywający na wakacjach na Suwalszczyźnie fizycy\, biolodzy i humaniści\, głównie z warszawskich uczelni i ośrodków naukowych\, będą w każdy czwartek dzielić się z Państwem swoim oczarowaniem nauką i opowiadać o tajemnicach atomu i Wszechświata\, zagadkach kodu genetycznego\, sekretach mikroorganizmów\, tajemnicach dawnych cywilizacji czy wreszcie o najnowszych urządzeniach badawczych świata i o wyzwaniach technologii komputerowych. Wykłady będą miały charakter popularny\, a po każdym z nich będzie czas na pytania i dyskusje. Nie trzeba żadnego specjalnego wykształcenia ścisłego aby móc przeżyć wspaniały wieczór\, wiele się dowiedzieć i poznać ciekawych ludzi.Spotkania odbywają się w Sejnach\, w Ośrodku Kultury (sala kinowa)\, ul. 1 Maja 17\,\n\n4 lipca: prof. Andrzej Wysmołek\, Wydział Fizyki\, Uniwersytet Warszawski \,\,Nanotechnologia – szansa na lepsze jutro?”\n11 lipca: mgr Halina Przychodzeń\, Wydział Fizyki\, Uniwersytet Warszawski \,\,CSI: kryminalne zagadki starożytnego Egiptu”\n18 lipca: prof. Barbara Badełek\, Wydział Fizyki\, Uniwersytet Warszawski \,\,Zagadki materii i Wszechświata”\n25 lipca: prof. Jolanta Gałązka-Friedman\, Wydział Fizyki\, Politechnika Warszawska \,\,Kamienie z nieba – opowieść o meteorytach”\n1 sierpnia: mgr Sebastian Piskorski\, Wydział Biologii i Ochrony Środowiska\, Uniwersytet Łódzki \,\,W mroku piwnicy: pająki\, grzyby i ich tajemnice”\n8 sierpnia: dr Adrianna Tartas\, Wydział Fizyki\, Uniwersytet Warszawski \,\,Promieniowanie w służbie medycyny”\n22 sierpnia: prof. Wiktor Kotowski\, Wydział Biologii\, Uniwersytet Warszawski \,\,Tajemnice mokradeł”\n29 sierpnia: prof. Agnieszka Korgul\, Wydział Fizyki\, Uniwersytet Warszawski \,\,Nie bójmy się elektrowni jądrowej”\nWSTĘP WOLNY!
URL:https://www.niebywalesuwalki.pl/wydarzenie/sejnenskie-spotkania-z-nauka-nanotechnologia-szansa-na-lepsze-jutro/
LOCATION:Ośrodek Kultury w Sejnach\, Sejny\, Polska
END:VEVENT
END:VCALENDAR