BEGIN:VCALENDAR
VERSION:2.0
PRODID:-//Niebywałe Suwałki - ECPv6.15.20//NONSGML v1.0//EN
CALSCALE:GREGORIAN
METHOD:PUBLISH
X-WR-CALNAME:Niebywałe Suwałki
X-ORIGINAL-URL:https://www.niebywalesuwalki.pl
X-WR-CALDESC:Wydarzenia dla Niebywałe Suwałki
REFRESH-INTERVAL;VALUE=DURATION:PT1H
X-Robots-Tag:noindex
X-PUBLISHED-TTL:PT1H
BEGIN:VTIMEZONE
TZID:Europe/Warsaw
BEGIN:DAYLIGHT
TZOFFSETFROM:+0100
TZOFFSETTO:+0200
TZNAME:CEST
DTSTART:20230326T010000
END:DAYLIGHT
BEGIN:STANDARD
TZOFFSETFROM:+0200
TZOFFSETTO:+0100
TZNAME:CET
DTSTART:20231029T010000
END:STANDARD
BEGIN:DAYLIGHT
TZOFFSETFROM:+0100
TZOFFSETTO:+0200
TZNAME:CEST
DTSTART:20240331T010000
END:DAYLIGHT
BEGIN:STANDARD
TZOFFSETFROM:+0200
TZOFFSETTO:+0100
TZNAME:CET
DTSTART:20241027T010000
END:STANDARD
BEGIN:DAYLIGHT
TZOFFSETFROM:+0100
TZOFFSETTO:+0200
TZNAME:CEST
DTSTART:20250330T010000
END:DAYLIGHT
BEGIN:STANDARD
TZOFFSETFROM:+0200
TZOFFSETTO:+0100
TZNAME:CET
DTSTART:20251026T010000
END:STANDARD
END:VTIMEZONE
BEGIN:VEVENT
DTSTART;TZID=Europe/Warsaw:20240706T170000
DTEND;TZID=Europe/Warsaw:20240706T180000
DTSTAMP:20260420T044349
CREATED:20240624T120544Z
LAST-MODIFIED:20240624T120544Z
UID:230027-1720285200-1720288800@www.niebywalesuwalki.pl
SUMMARY:Moje fascynacje\, moje inspiracje: Wernisaż Lidii Kornelius w Augustowie
DESCRIPTION:Moje fascynacje\, moje inspiracje\n06 lipca 2024r. 17:00 \nWernisaż Lidii Kornelius w Małej Galerii APK\, Rynek Zygmunta Augusta 9\, „Moje fascynacje\, moje inspiracje”\nOtwarcie wystawy 6 lipca\, godz. 17:00. \nOd urodzenia związana jestem z Augustowem. Przez większość życia towarzyszyło mi zamiłowanie do malarstwa\, dizajnu i ogólnie do rzeczy pięknych\, dekoracyjnych. Jakiś czas kształciłam się w Liceum Plastycznym w Supraślu.\nSzybko stałam się mamą i poświęciłam się rodzinie. Od kiedy nagle owdowiałam\, malarstwo stało się moją pasją. Ukończyłam kurs pisania ikon\, dużo rysuję ołówkiem. Akwarela również nie jest mi obca\, jednakże malarstwo olejne wciągnęło mnie najbardziej. Poszukuję kolorów i ciągle jestem „głodna” efektów związanych z tą techniką. Mam za sobą kilka zbiorowych wystaw w Osiedlowym Domu Kultury w Augustowie oraz indywidualne: „Wachlarz twórczości”\, otwierającą tam nową galerię\, Miejski Dom Kultury Mała Galeria\, Gminny Ośrodek Kultury w Raczkach.\nMoje prace znajdują odbiorców w Polsce jak i zagranicą.
URL:https://www.niebywalesuwalki.pl/wydarzenie/moje-fascynacje-moje-inspiracje-wernisaz-lidii-kornelius-w-augustowie/
LOCATION:Augustowskie Placówki Kultury – Miejski Dom Kultury\, Rynek Zygmunta Augusta\, Augustów\, Polska
END:VEVENT
BEGIN:VEVENT
DTSTART;TZID=Europe/Warsaw:20240706T180000
DTEND;TZID=Europe/Warsaw:20240706T190000
DTSTAMP:20260420T044349
CREATED:20240701T091430Z
LAST-MODIFIED:20240701T091431Z
UID:230479-1720288800-1720292400@www.niebywalesuwalki.pl
SUMMARY:Na Dywaniku u Marii - koncert w Suwałkach
DESCRIPTION:Letnie koncerty na Dywaniku u Marii to już tradycja! Serdecznie zapraszamy do centrum Suwałk\, gdzie artyści umilą nam ciepłe wieczory. \n6.07.2024 r. godz. 18.00\nPlac Marii Konopnickiej w Suwałkach\nWstęp wolny
URL:https://www.niebywalesuwalki.pl/wydarzenie/na-dywaniku-u-marii-koncert-w-suwalkach-3/
LOCATION:Plac im. Marii Konopnickiej\, Suwałki\, Polska
END:VEVENT
BEGIN:VEVENT
DTSTART;TZID=Europe/Warsaw:20240706T200000
DTEND;TZID=Europe/Warsaw:20240706T220000
DTSTAMP:20260420T044349
CREATED:20240624T122335Z
LAST-MODIFIED:20240624T122336Z
UID:230033-1720296000-1720303200@www.niebywalesuwalki.pl
SUMMARY:5. edycja Festiwalu WIGROSFERA na Suwalszczyźnie
DESCRIPTION:Zapraszamy na wyjątkowe wydarzenie muzyczne\, które odbędzie się 5 lipca w Suwalskim Ośrodku Kultury oraz 6 lipca w Wigierskim Parku Narodowym. Podczas piątej edycji festiwalu „Wigrosfera” będziemy mieli okazję doświadczyć niezapomnianych emocji i odkryć harmonię pomiędzy dźwiękiem a otaczającym nas światem. \nWystąpią: \n5 lipca – Suwalski Ośrodek Kultury \n\nJoanna Duda solo oraz Anna Szafranowska – godz. 19.00\n\n\nMIR (Bartosz Weber\, Miłosz Pękala) – godz. 20.00\n\n6 lipca – Wigry\, Tawerna przy Klasztorze Pokamedulskim \n\nBLED (Emil Miszk – trąbka; Sławek Koryzno – perkusja) – godz. 20.00\n\n\nEnsemble Gamut! (Aino Peltomaa – wokal; Ilkka Heinonen – lira; Juho Myllylä – flety) – godz. 21.00\n\nFundacja Art-S.O.S Alicji Roszkowskiej – Adam Roszkowski\, Jan Roszkowski\, Paweł Kapica oraz Suwalski Ośrodek Kultury i Wigierski Park Narodowy serdecznie zapraszają wszystkich miłośników muzyki na wyjątkowe wydarzenie muzyczne – na 5. edycję Festiwalu „Wigrosfera”\, który odbędzie się w dniach 5 lipca oraz 6 lipca. \nProgram wydarzenia został starannie dobrany\, aby zapewnić publiczności niezwykłe emocje i artystyczną rozrywkę. W pierwszym dniu festiwalu\, czyli 5 lipca\, wydarzenia będą miały miejsce w Suwalskim Ośrodku Kultury. Na scenie zaprezentuje się Joanna Duda\, utalentowana pianistka\, kompozytorka i improwizatorka\, która w swojej twórczości łączy jazz i klasykę. Artystką\, która będzie jej towarzyszyć jest Anna Szafranowska\, która swoim głosem porusza serca słuchaczy. Wieczór zakończy koncert zespołu MIR\, który tworzą Bartosz Weber i Miłosz Pękala\, doskonali muzycy\, łączący elektronikę i muzykę instrumentalną\, nawiązujący w swojej twórczości do Raymonda Scotta\, norweskiego jazzu i minimalistycznego post rocka z Chicago. \nDrugiego dnia festiwalu\, czyli 6 lipca\, wydarzenia przeniosą się do Wigierskiego Parku Narodowego. Na scenie zaprezentuje się zespół BLED\, który tworzą Emil Miszk i Sławek Koryzno. Ich muzyka\, oparta na współbrzmieniu trąbki i perkusji\, przeniesie słuchaczy w zupełnie inny wymiar dźwięków. Kolejnym zespołem\, który wystąpi tego dnia\, będzie Ensemble Gamut!\, fiński eksperymentalny kolektyw specjalistów od muzyki dawnej i ludowej. \nFestiwal „Wigrosfera” to nie tylko wyjątkowe wydarzenie muzyczne\, ale również doskonała okazja do doświadczenia harmonii dźwięku i natury. Suwalszczyzna\, z jej malowniczymi krajobrazami i pięknymi terenami przyrodniczymi\, stanowi idealne tło dla tego festiwalu. Dźwięki muzyki\, które rozbrzmiewać będą w otoczeniu przyrody\, pozwolą słuchaczom na pełne zanurzenie się w tym doświadczeniu.
URL:https://www.niebywalesuwalki.pl/wydarzenie/5-edycja-festiwalu-wigrosfera-na-suwalszczyznie-2/
LOCATION:Ogrody Klasztoru Wigierskiego\, Wigry\, Polska
ATTACH;FMTTYPE=image/jpeg:https://www.niebywalesuwalki.pl/wp-content/uploads/2024/06/Wigrosfera_zmn.jpg
END:VEVENT
END:VCALENDAR