BEGIN:VCALENDAR
VERSION:2.0
PRODID:-//Niebywałe Suwałki - ECPv6.15.20//NONSGML v1.0//EN
CALSCALE:GREGORIAN
METHOD:PUBLISH
X-WR-CALNAME:Niebywałe Suwałki
X-ORIGINAL-URL:https://www.niebywalesuwalki.pl
X-WR-CALDESC:Wydarzenia dla Niebywałe Suwałki
REFRESH-INTERVAL;VALUE=DURATION:PT1H
X-Robots-Tag:noindex
X-PUBLISHED-TTL:PT1H
BEGIN:VTIMEZONE
TZID:Europe/Warsaw
BEGIN:DAYLIGHT
TZOFFSETFROM:+0100
TZOFFSETTO:+0200
TZNAME:CEST
DTSTART:20230326T010000
END:DAYLIGHT
BEGIN:STANDARD
TZOFFSETFROM:+0200
TZOFFSETTO:+0100
TZNAME:CET
DTSTART:20231029T010000
END:STANDARD
BEGIN:DAYLIGHT
TZOFFSETFROM:+0100
TZOFFSETTO:+0200
TZNAME:CEST
DTSTART:20240331T010000
END:DAYLIGHT
BEGIN:STANDARD
TZOFFSETFROM:+0200
TZOFFSETTO:+0100
TZNAME:CET
DTSTART:20241027T010000
END:STANDARD
BEGIN:DAYLIGHT
TZOFFSETFROM:+0100
TZOFFSETTO:+0200
TZNAME:CEST
DTSTART:20250330T010000
END:DAYLIGHT
BEGIN:STANDARD
TZOFFSETFROM:+0200
TZOFFSETTO:+0100
TZNAME:CET
DTSTART:20251026T010000
END:STANDARD
END:VTIMEZONE
BEGIN:VEVENT
DTSTART;VALUE=DATE:20240709
DTEND;VALUE=DATE:20240713
DTSTAMP:20260420T061624
CREATED:20240613T111014Z
LAST-MODIFIED:20240613T111014Z
UID:229501-1720483200-1720828799@www.niebywalesuwalki.pl
SUMMARY:Warsztaty fotograficzne z Piotrem Malczewskim w Wigierskim Parku Narodowym
DESCRIPTION:Zapraszamy na 4-dniowy warsztat „Jak patrzeć obrazem fotograficznym” w dniach 9 – 12 lipca 2024. \n☘️ Prowadzący Piotr Malczewski – fotografik przyrody i krajobrazu. \n☘️ Zapisy: edukacja@wigry.org.pl\, tel. 87 5632554. Liczba miejsc ograniczona. \nWarsztat jest organizowany w ramach projektu pt. „Wyjdź Przyrodzie na Spotkanie” – WPN 2023-2026 dofinansowanego ze środków NFOŚiGW w ramach programu priorytetowego Edukacja Ekologiczna.
URL:https://www.niebywalesuwalki.pl/wydarzenie/warsztaty-fotograficzne-z-piotrem-malczewskim-w-wigierskim-parku-narodowym/
LOCATION:Wigierski Park Narodowy\, Muzeum Wigier\, WPN\, Polska
END:VEVENT
BEGIN:VEVENT
DTSTART;VALUE=DATE:20240711
DTEND;VALUE=DATE:20240714
DTSTAMP:20260420T061624
CREATED:20240516T084532Z
LAST-MODIFIED:20240516T084532Z
UID:228077-1720656000-1720915199@www.niebywalesuwalki.pl
SUMMARY:Koncerty SBF 2024 w Browarze Północnym w Suwałkach
DESCRIPTION:Nadchodzi SBF 2024! Jak co roku\, mamy wielką przyjemność zaprosić Was do naszego lokalu\, aby wspólnie cieszyć się bluesowym brzmieniem. Gęsia Skórka\, Art Band Blues i Kasa Chorych – oto tegoroczny line-up. Jedno jest pewne. W lipcu znów połączy nas blues\n11 lipca (czwartek)\nwieczorny koncert — 22:30\nGęsia Skórka   50 zł\n12 lipca (piątek)\nśniadania bluesowe — 11:00\nGęsia Skórka – wstęp wolny\nwieczorny koncert — 22:30\nArt Band Blues   70 zł\n13 lipca (sobota)\nśniadania bluesowe — 11:00\nArt Band Blues – wstęp wolny\nwieczorny koncert — 22:30\nKasa Chorych   80 zł\nBilety dostępne w naszym lokalu.\nDowiedz się więcej ➟ 502 699 399
URL:https://www.niebywalesuwalki.pl/wydarzenie/koncerty-sbf-2024-w-browarze-polnocnym-w-suwalkach/
LOCATION:Browar Północny\, ul. Noniewicza\, Suwałki\, Polska
END:VEVENT
BEGIN:VEVENT
DTSTART;VALUE=DATE:20240711
DTEND;VALUE=DATE:20240714
DTSTAMP:20260420T061624
CREATED:20240603T080039Z
LAST-MODIFIED:20240603T080039Z
UID:228916-1720656000-1720915199@www.niebywalesuwalki.pl
SUMMARY:SBF 2024 w Hotelu Velvet w Suwałkach - koncerty
DESCRIPTION:Dla Suwałk to siedemnasty raz\, dla Hotelu Velvet dopiero drugi. Tym razem na naszej scenie pojawią się trzy zespoły: z Suwałk\, z Węgorzewa i z okolic Trójmiasta.\nPrzygotujcie się na koncerty\, które rozgrzeją Wasze serca i sprawią\, że nie będziecie mogli przestać poruszać się w rytm bluesowych dźwięków. Czekają na Was solidne brzmienia\, energia i świetna zabawa! Nie możecie tego przegapić! Zapraszamy do 'Velvetu’.\nZagrają:\n11.07.2024 godz 22:30 – 'Blues Project’ Bluesmani rodem z\nWęgorzewa i Mazur. Wielokrotni bywalcy SBF i scen klubowych oraz festiwalowych północnej Polski. Grają 'siermiężnego\, sycącego’ bluesa wykonawców anglo-amerykańskich\, w aranżacjach autorskich.\n12.07.2024 godz 11:00-13:00- Śniadanie Bluesowe z 'Blues Project’\n12.07.2024 godz 22:30 – 'Reymond’ czyli Panowie łączący\nblues/southern rocka z grunge’owym 'brudem i drapieżnością’. Uwaga! Może być głośno\n13.07.2024 godz 11:00-13:00- Śniadanie Bluesowe z 'Reymond’\n13.07.2024 godz 22:30 – 'Dreszcz Blues Band’ Suwalskiej\npubliczności przedstawiać \, a tym bardziej zachwalać nie trzeba. Gościom niezaznajomionym z 'Dreszczem’ napiszemy tylko: „jest dobrze’.\nBilety na koncerty w cenie 35zł dostępne w recepcji Hotelu Velvet\,\npod numerem telefonu: 87 563 52 52\npod adresami email: recepcja@hotelvelvet.pl\nrestauracja@hotelvelvet.pl\nNa Śniadania Bluesowe wstęp wolny.
URL:https://www.niebywalesuwalki.pl/wydarzenie/sbf-2024-w-hotelu-velvet-w-suwalkach-koncerty/
LOCATION:Hote Velvet\, ul. Kościuszki 128\, Suwałki\, Polska
END:VEVENT
BEGIN:VEVENT
DTSTART;VALUE=DATE:20240711
DTEND;VALUE=DATE:20240714
DTSTAMP:20260420T061624
CREATED:20240709T104105Z
LAST-MODIFIED:20240709T104106Z
UID:230768-1720656000-1720915199@www.niebywalesuwalki.pl
SUMMARY:SUWAŁKI BLUES FESTIVAL 2024
DESCRIPTION:SUWAŁKI BLUES FESTIVAL 2024\nPROGRAM\n11 lipca 2024 r. (czwartek)\n15:30 odsłonięcie 15. tablicy w Alei Gwiazd Bluesa\, ul. Chłodna\nhappening bluesowy / wstęp wolny\n16:00 – 20.00 50 YEARS LATER (PL)\, PBK BLUES (CZ)\, PIANO BLUES BAND (PL)\nscena na pl. M. Konopnickiej\n20.00 – 22.00 GOLD HARP BLUES (PL)\, pl. M. Konopnickiej \nKONCERT OTWARCIA / biletowany\n19:00 koncert zespołu ZALEWSKI (PL)\, support NOA & THE HELL DRINKERS (ES)\, Suwałki Arena\, ul. Zarzecze 26 \nKONCERTY KLUBOWE TOWARZYSZĄCE / biletowane\n22.30 HECTOR CASTILLO BAND (VEN/LT)\, Rozmarino\n22.30 GĘSIA SKÓRKA BLUES BAND (PL)\, Browar Północny\n22.30 LADY BIRD (PL)\, Black Pub Komin\n22.30 BLUES PROJECT (PL)\, Hotel Velvet \n12 lipca 2024 r. (piątek)\nŚNIADANIA BLUESOWE / wstęp wolny\n11.00 – 13.00 HECTOR CASTILLO BAND (VEN/LT)\, Rozmarino\n11.00 – 13.00 GĘSIA SKÓRKA BLUES BAND (PL)\, Browar Północny\n11.00 – 13.00 LADY BIRD (PL)\, Black Pub Komin\n11.00 – 13.00 BLUES PROJECT (PL)\, Hotel Velvet\n11.00 – 13.00 ADAM ZALEWSKI TRIO (PL)\, Piwiarnia\n11.00 – 13.00 PO 50-CE (PL)\, Kura na Chłodnej \nKONCERTY i IMPREZY TOWARZYSZĄCE / wstęp wolny\n13:00 – 14:00 DOUBLE CRAFTER (PL)\, scena na ul. Chłodna 2\n14:00 – 15:00 LITTLE DEVILS (FR)\, scena na pl. M. Konopnickiej\n15:15 – 16:00 CAROLINE & THE LUCKY ONES (PL)\, scena na pl. M. Konopnickiej\n15.00 – 15.30 Suwałki Blues Drift 2024\, ul. Kościuszki\n16.00 – 17.00 wernisaż wystawy „Bluesowe portrety – Aigars Lapsa\, Galeria Chłodna 20\, SOK\, ul. Noniewicza 71\n16:00 – 17:00 KAMIL WOJ (PL)\, scena na ul. Chłodna 2\n16:15 – 17:00 LATINO BLUES (LT)\, scena na pl. M. Konopnickiej\n17:30 – 18:45 MAZINGO (FR)\, scena na pl. M. Konopnickiej\n19.00 – 20.00 otwarta scena bluesowa OPEN BLUES\, scena na pl. M. Konopnickiej\n20.00 – 22.00 GOLD HARP BLUES (PL)\, pl. M. Konopnickiej \n18.00 – 22.00 Blues na Bulwarach\, przy Łaźni Cafe\, ul. A. Wajdy 3\n19.00 – 22.00 Retro Blues w Stodole\, ul. Noniewicza 107 / biletowane \nKONCERTY GŁÓWNE\, scena w parku Konstytucji 3 Maja / wstęp wolny\n15:30 – 16:30 ANDREA DE LUCA (IT)\n17:00 – 18:00 ELLIS MANO BAND (CH)\n19:10 – 19:25 otwarcie festiwalu\n19:25 – 20:25 LA PERRA BLANCO (ES) \nKONCERTY GŁÓWNE\, scena przy Ratuszu\, ul. Kościuszki / wstęp wolny\n18:10 – 19:10 WHEN RIVERS MEET (UK)\n20:30 – 22:15 Jan Chojnacki przedstawia – VOO VOO & DZIECI BLUESA: Anna Rusowicz\, Maciej Maleńczuk\, Tomasz „Titus” Pukacki\, WaluśKraksaKryzys \nKONCERTY KLUBOWE / biletowane\n22:30 ADEAMA & WILD FLAME (UK/PL)\, Rozmarino\n22:30 ART BLUES BAND (PL)\, Browar Północny\n22:30 BLUE CARD (PL)\, Black Pub Komin\n22:30 REYMOND (PL)\, Hotel Velvet\n22:30 ADAM ZALEWSKI TRIO (PL)\, Piwiarnia\n22:30 PO 50-CE (PL)\, Kura na Chłodnej \n13 lipca 2024 r. (sobota)\nŚNIADANIA BLUESOWE / wstęp wolny\n11.00 – 13.00 ADEAMA & WILD FLAME (UK/PL)\, Rozmarino\n11.00 – 13.00 ART BLUES BAND (PL)\, Browar Północny\n11.00 – 13.00 BLUE CARD (PL)\, Black Pub Komin\n11.00 – 13.00 REYMOND (PL)\, Hotel Velvet\n11.00 – 13.00 RENE LACKO & DOWNTOWN (SK)\, Piwiarnia\n11.00 – 13.00 HARDY BLUES BAND (PL)\, Kura na Chłodnej \n\nKONCERTY i IMPREZY TOWARZYSZĄCE / wstęp wolny\n13:00 – 14:00 BELKIN & SOCHIN BLUES DUO (LT)\,\, ul. Chłodna 2\n14:00 – 15:00 TANDETA BLUES BAND (PL)\, scena na pl. M. Konopnickiej\n15:15 – 16:00 JUTA BLUES (LT)\, scena na pl. M. Konopnickiej\n16:00 – 17:00 DIGMAN & VILEP (UK/EE)\, ul. Chłodna 2\n16:15 – 17:00 ERIC HANSSON BLUES BAND (SE/PL)\, scena na pl. M. Konopnickiej\n17:30 – 18:45 LAVRIX BAND (LV)\, scena na pl. M. Konopnickiej\n19.00 – 20.00 otwarta scena bluesowa OPEN BLUES\, scena na pl. M. Konopnickiej \n17.00 – 17.30 koncert na mobilnej platformie (przejazd w centrum miasta)\n18.00 – 22.00 Blues na Bulwarach\, przy Łaźni Cafe\, ul. A. Wajdy 3 \nKONCERTY GŁÓWNE\, scena w parku Konstytucji 3 Maja / wstęp wolny\n15:30 – 17:00 Polish Blues Challenge 2025\, kwalifikacje do European Blues Challenge 2025\n17:30 – 18:30 IAN PARKER BAND (UK)\n19:40 – 20:40 BERNARD ALLISON  (USA) \nKONCERTY GŁÓWNE\, scena przy Ratuszu\, ul. Kościuszki / wstęp wolny\n18:35 – 19:35 DEBORAH BONHAM (UK)\n20:45 – 22:15 ANA POPOVIC BAND (SRB/USA) \nKONCERTY KLUBOWE / biletowane\n22:30 SARI SCHORR (USA)\, Rozmarino\n22:30 KASA CHORYCH (PL)\, Browar Północny\n22:30 COTTON WING (PL)\, Black Pub Komin\n22:30 DRESZCZ BLUES BAND (PL)\, Hotel Velvet\n22:30 RENE LACKO & DOWNTOWN (SK)\n22:30 HARDY BLUES BAND (PL)\, Kura na Chłodnej \n\nprowadzenie koncertów głównych:  Jan Chojnacki i Jakub Michałek \n*Organizator zastrzega sobie prawo zmian w programie.
URL:https://www.niebywalesuwalki.pl/wydarzenie/suwalki-blues-festival-2024/
LOCATION:Suwałki\, skrzyżowanie ul. Utrata i Przytorowa\, Suwałki\, Polska
ATTACH;FMTTYPE=image/jpeg:https://www.niebywalesuwalki.pl/wp-content/uploads/2024/07/SBF_2024_ulotka_A5_PL-1-Sredni.jpeg
END:VEVENT
BEGIN:VEVENT
DTSTART;VALUE=DATE:20240712
DTEND;VALUE=DATE:20240714
DTSTAMP:20260420T061624
CREATED:20240517T082833Z
LAST-MODIFIED:20240517T082833Z
UID:228100-1720742400-1720915199@www.niebywalesuwalki.pl
SUMMARY:Koncerty SBF 2024 w Piwiarni Warka w Suwałkach
DESCRIPTION:Weekend w rytmie Blues \n12.07.2024 – 13.07.20024\nNIE MOŻE CIĘ ZABRAKNĄĆ\nKONCERTY KLUBOWE\nSUWAŁKI BLUES FESTIVAL 2022 \n________________________________________________________________\nPiątek\, 12 lipca\n11:00 ŚNIADANIE BLUESOWE /wstęp wolny/ scena na dużej sali w PIWIARNI\nADAM ZALEWSKI TRIO\nWe wrześniu 2021 roku Adam Zalewski Trio nagrał drugi autorski materiał.\nMaking off ze studia: \n\nPłyta „W drodze” została zarejestrowana w studio\, ale na żywo w składzie:\nAdam Zalewski – gitara elektroakustyczna\, wokal\, instr. perkusyjne\nArtur Głowacki – gitara elektroakustyczna\nMariusz „Kudłaty” Wojewoda – instr. perkusyjne.\nUczestnicy : Suwałki Blues Festival\, Blues nad Bobrem\, Rawa Blues Festival\, Ochota Blues Festival\, Blues na Trawie.\nPłyta ” W drodze” w rankingu czasopisma Twój Blues otrzymała 6. miejsce w kategorii PŁYTA ROKU Blues Top 2021\nStrona wykonawcy:\nhttps://www.facebook.com/adamzalewski.muzyka\nOficjalny profil You Tube:\nhttps://www.youtube.com/c/AdamZalewski-muzyka\n22:00 KONCERT KLUBOWY /biletowany/\nADAM ZALEWSKI TRIO \n_____________________________________________________________________\nSobota\, 13 lipca\n11:00 ŚNIADANIE BLUESOWE /wstęp wolny/ scena na dużej sali w PIWIARNI\nRENE LACKO & DOWNTOWN BAND (SK)\nhttps://www.facebook.com/renelackodowntown \n22:00 KONCERT KLUBOWY /biletowany/\nRENE LACKO & DOWNTOWN BAND (SK)\nhttps://www.facebook.com/renelackodowntown\nscena na dużej sali w PIWIARNI\nilość miejsc ograniczona
URL:https://www.niebywalesuwalki.pl/wydarzenie/koncerty-sbf-2024-w-piwiarni-warka-w-suwalkach/
LOCATION:Piwiarnia Warka\, Chłodna 2\, Suwałki\, Polska
END:VEVENT
BEGIN:VEVENT
DTSTART;VALUE=DATE:20240712
DTEND;VALUE=DATE:20240714
DTSTAMP:20260420T061624
CREATED:20240624T120709Z
LAST-MODIFIED:20240624T120710Z
UID:230028-1720742400-1720915199@www.niebywalesuwalki.pl
SUMMARY:Augustów is the future FESTIVAL
DESCRIPTION:Przed nami druga edycja Augustów is the future Festival. Wydarzenia\, którym budujemy partnerską relacje człowieka z przyrodą. Przeżyj\, poczuj\, pomyśl i podaj dalej. Małymi krokami zmienia się świat. 2 dni koncertów w samym sercu Puszczy Augustowskiej. W otoczeniu zieleni naszych drzew\, które są motywem przewodnim II edycji Augustów is The Future Festivalu. \n\nNa naszej scenie zagrają: \n\nDzień 1 – 12 lipca (piątek): Lor\, Daria ze Śląska\, Natalia Szroeder\, Fisz Emade Tworzywo\, Artur Rojek\,\nDzień 2 – 13 lipca (sobota): PAT\, Łona/Konieczny/Krupa\, Dawid Tyszkowski\, Kamil Bednarek\, Strachy na Lachy.\nBilet jednodniowy: 200 zł\nKarnet na dwa dni: 300 zł\nDziecko do 12 roku życia – wstęp gratis z opiekunem posiadającym bilet.\n\nNie czekaj i kup bilet już teraz! Link do zakupu biletów:https://bkb.pl/130684-6ea6a \nBilet kupisz taniej z Kartą Mieszkańca – kod zniżkowy wygenerujesz na swoim koncie TAK. Pamiętaj również\, aby przy wejściu na koncert mieć ze sobą Kartę!
URL:https://www.niebywalesuwalki.pl/wydarzenie/augustow-is-the-future-festival-2/
LOCATION:Augustów\, Augustów\, Polska
END:VEVENT
BEGIN:VEVENT
DTSTART;TZID=Europe/Warsaw:20240712T110000
DTEND;TZID=Europe/Warsaw:20240712T140000
DTSTAMP:20260420T061624
CREATED:20240711T102833Z
LAST-MODIFIED:20240711T102834Z
UID:230797-1720782000-1720792800@www.niebywalesuwalki.pl
SUMMARY:Obchody 79 Rocznicy Ofiar Obławy Augustowskiej 1945 roku w Gibach
DESCRIPTION:W imieniu Prezesa Związku Pamięci Ofiar Obławy Augustowskiej Księdza Prałata Stanisława Wysockiego oraz Przewodniczącego Społecznego Komitetu Organizacji Świąt Państwowych i Rocznic Historycznych Posła Jarosława Zielińskiego uprzejmie zapraszamy na Obchody Ustawowego Dnia Pamięci Ofiar Obławy Augustowskiej\, które odbędą się 12 lipca 2024 roku w Gibach. Uroczystość odbędzie się pod Patronatem Honorowym Prezydenta Rzeczypospolitej Polskiej Pana Andrzeja Dudy. \nZapraszam zatem 12 lipca 2024 roku (piątek) o godz. 11:00 przed Kościół pw. św. Anny w Gibach\, by po wspólnym przejściu na symboliczne Wzgórze Krzyży uczestniczyć w przygotowanym programie uroczystości.
URL:https://www.niebywalesuwalki.pl/wydarzenie/obchody-79-rocznicy-ofiar-oblawy-augustowskiej-1945-roku-w-gibach/
LOCATION:Giby\, Giby\, Polska
END:VEVENT
BEGIN:VEVENT
DTSTART;TZID=Europe/Warsaw:20240712T160000
DTEND;TZID=Europe/Warsaw:20240712T170000
DTSTAMP:20260420T061624
CREATED:20240625T104418Z
LAST-MODIFIED:20240625T104418Z
UID:230063-1720800000-1720803600@www.niebywalesuwalki.pl
SUMMARY:Wystawa Aigars Lapsa -  Bluesowe portrety w galerii Chłodna 20 w Suwałkach
DESCRIPTION:Wystawa Aigars Lapsa –  Bluesowe portrety\nZapraszamy na wernisaż do Galerii Sztuki Współczesnej Chłodna 20. \nAigars Lapsa jest jednym z czołowych bluesowych fotografów na świecie. Laureat nagrody „Keeping the Blues Alive” w kategorii „Sztuka i Fotografia” przyznawanej przez Blues Foundation w Memphis w USA oraz nagrody „The Blues Behind the Scene” w kategorii „Media” przyznawanej przez Europejską Unię Bluesa\, a także innych międzynarodowych nagród\, w tym nagród czytelników polskiego magazynu bluesowego „Twój Blues”.\n12.07.2024\, godz.16.00\, Galeria Sztuki Współczesnej\, Chłodna 20\, ul. Noniewicza 71\, wstęp wolny\nLink do wydarzenia: https://soksuwalki.eu/class/bluesowe-portrety-aigars-lapsa/
URL:https://www.niebywalesuwalki.pl/wydarzenie/wystawa-aigars-lapsa-bluesowe-portrety-w-galerii-chlodna-20-w-suwalkach/
LOCATION:Galeria Chłodna 20\, Noniewicza 71\, Suwałki\, 16-400\, Polska
END:VEVENT
BEGIN:VEVENT
DTSTART;TZID=Europe/Warsaw:20240712T180000
DTEND;TZID=Europe/Warsaw:20240712T190000
DTSTAMP:20260420T061624
CREATED:20240624T095810Z
LAST-MODIFIED:20240624T095811Z
UID:230011-1720807200-1720810800@www.niebywalesuwalki.pl
SUMMARY:Finisaż wystawy "RUNK - Buntownicy Łączą się przez Nową Wiedzę"
DESCRIPTION:Victor Davies prezentuje swoją nadchodzącą wystawę sztuki pod tytułem: RUNK – Buntownicy Łączą się przez Nową Wiedzę. Wystawa ta\, inaugurująca równocześnie Fundację RUNK\, uosabia tematy pozytywności\, inkluzyjności i dobrostanu\, które są ożywione dzięki użyciu przez Victora jaskrawych\, śmiałych\, ekspresyjnych kolorów. Fundacja RUNK\, współzałożona przez Victora Daviesa i Mikę Urbaniak\, świętuje różnorodność i różnice\, oferując platformę dla jedności i wyrazu artystycznego. Mika Urbaniak\, odgrywając kluczową rolę w kuracji wystawy\, wspólnie z Victorem\, wzbogaci wydarzenie o ich muzyczny pejzaż poprzez fascynujący występ na żywo podczas otwarcia wystawy.\n12.07.2024\, godzina 18.00\, wstęp wolnyGaleria Sztuki Stara Łaźnia\, ul. A. Wajdy 3\nwystawa dostępna od: 28.06.2024
URL:https://www.niebywalesuwalki.pl/wydarzenie/finisaz-wystawy-runk-buntownicy-lacza-sie-przez-nowa-wiedze/
LOCATION:Galeria Sztuki Stara Łaźnia\, Bulwary nad Czarną Hańczą\, Suwałki\, Poland
ATTACH;FMTTYPE=image/jpeg:https://www.niebywalesuwalki.pl/wp-content/uploads/2024/06/runk.jpg
END:VEVENT
BEGIN:VEVENT
DTSTART;TZID=Europe/Warsaw:20240712T180000
DTEND;TZID=Europe/Warsaw:20240712T220000
DTSTAMP:20260420T061624
CREATED:20240618T104512Z
LAST-MODIFIED:20240618T104512Z
UID:229869-1720807200-1720821600@www.niebywalesuwalki.pl
SUMMARY:Retro Blues w Stodole - koncerty w RETROwarsztacie w Suwałkach
DESCRIPTION:„Retro Blues w Stodole” to wydarzenie w scenerii Blues – Rock and Muscle Cars  \, które odbędzie się podczas tegorocznego Suwałki Blues Festiwal!\nW ramach wydarzenia wstąpią:\n[ER. BLUES BAND]\nMuzycy poruszają się w konwencji bluesa\, a szczególnie nurtu chill country blues.\nSkład:\nRobert Bodzioch – śpiew\, gitary\nPiotr Zaj – gitara basowa\nTymo – perkusja\nWięcej:\nhttps://www.facebook.com/erbluess/\n[DEERKA]\nTrio muzyczne\, które z pasją w rękach\, głosie i w sercu wykonują własne aranżacje znanych utworów i kompozycje autorskie.\nSkład:\nDominika Szyszko – śpiew\, skrzypce\nKacper Skrodzki – gitara\nRafał Marczyk – perkusja\nWięcej:\nhttps://www.facebook.com/DeerkaBand/\n[THE BOARS]\nTo czwórka nastolatków\, uczniów augustowskich i suwalskich szkół średnich\, których łączy pasja do muzyki. Zespół The Boars to dla nich drugie życie\, dużo mniej monotonne i stresujące niż to pierwsze- szkolne. Dzięki muzyce i koncertom zapominają o codziennych zmartwieniach. Wydali już swoją debiutancką płytę pod tytułem „Latami”\, z którego to utwory będzie można usłyszeć na koncercie.\nSkład:\nTomasz Kopecki – śpiew\, gitara\nWojciech Łabacz – gitara\nSebastian Szyperek – gitara basowa\nBartosz Gajewicz – perkusja\nWięcej:\nhttps://www.facebook.com/The.Boars.Banddd/\nImpreza jest biletowana – koszt biletu to 50 zł od osoby\n(wstęp na koncert dla osób od 18 roku życia. Osoby nieletnie mogą uczestniczyć w koncercie tylko i wyłącznie w obecności rodziców.)\nBilety są dostępne w przedsprzedaży – sklep „Western Suwałki” przy ulicy Noniewicza 107.\nW dniu imprezy bilety będzie można kupić przy wejściu na wydarzenie.\nMile widziany własny leżak plażowy.\nImpreza będzie formą integracji i wypoczynku na wolnym powietrzu.\nMaksymalna ilość uczestników to 200 osób.
URL:https://www.niebywalesuwalki.pl/wydarzenie/retro-blues-w-stodole-koncerty-w-retrowarsztacie-w-suwalkach/
LOCATION:RETROwarsztat\, ul. T. Noniewicza 107\, Suwałki\, Poland
END:VEVENT
END:VCALENDAR