BEGIN:VCALENDAR
VERSION:2.0
PRODID:-//Niebywałe Suwałki - ECPv6.15.20//NONSGML v1.0//EN
CALSCALE:GREGORIAN
METHOD:PUBLISH
X-WR-CALNAME:Niebywałe Suwałki
X-ORIGINAL-URL:https://www.niebywalesuwalki.pl
X-WR-CALDESC:Wydarzenia dla Niebywałe Suwałki
REFRESH-INTERVAL;VALUE=DURATION:PT1H
X-Robots-Tag:noindex
X-PUBLISHED-TTL:PT1H
BEGIN:VTIMEZONE
TZID:Europe/Warsaw
BEGIN:DAYLIGHT
TZOFFSETFROM:+0100
TZOFFSETTO:+0200
TZNAME:CEST
DTSTART:20230326T010000
END:DAYLIGHT
BEGIN:STANDARD
TZOFFSETFROM:+0200
TZOFFSETTO:+0100
TZNAME:CET
DTSTART:20231029T010000
END:STANDARD
BEGIN:DAYLIGHT
TZOFFSETFROM:+0100
TZOFFSETTO:+0200
TZNAME:CEST
DTSTART:20240331T010000
END:DAYLIGHT
BEGIN:STANDARD
TZOFFSETFROM:+0200
TZOFFSETTO:+0100
TZNAME:CET
DTSTART:20241027T010000
END:STANDARD
BEGIN:DAYLIGHT
TZOFFSETFROM:+0100
TZOFFSETTO:+0200
TZNAME:CEST
DTSTART:20250330T010000
END:DAYLIGHT
BEGIN:STANDARD
TZOFFSETFROM:+0200
TZOFFSETTO:+0100
TZNAME:CET
DTSTART:20251026T010000
END:STANDARD
END:VTIMEZONE
BEGIN:VEVENT
DTSTART;VALUE=DATE:20240714
DTEND;VALUE=DATE:20240721
DTSTAMP:20260420T075739
CREATED:20240710T095512Z
LAST-MODIFIED:20240710T095513Z
UID:230780-1720915200-1721519999@www.niebywalesuwalki.pl
SUMMARY:31. Przystanek Olecko 2024
DESCRIPTION:PROGRAM 31.PRZYSTANKU OLECKO 2024\n(Udział we wszystkich wydarzeniach jest bezpłatny. Na warsztaty\, oraz szachy obowiązują zapisy) \n NIEDZIELA 14.07.2024\n22.00 – SPEKTAKL PLENEROWY “ARCHIPELAG” w ramach projektu “Oleckie melodie – międzypokoleniowy plener artystyczny” – Fundacja Akademia Radosnej Twórczości\, Plac Wolności. (Spektakl współfinansowany ze środków z budżetu Gminy Olecko) \n PONIEDZIAŁEK 15.07.2024\n9.30 – 12.30 – WARSZTATY WOKALNE z Marcinem Pyciakiem\, sala Kina Mazur. \nZapisy tel. 87 520 20 59 (pon.-pt. w godz. 8.00-15.00)\n10.00 – 14.00 –  WARSZTATY BĘBNIARSKIE z Michałem Matysiukiem\, \n“Amfiteatr Podzamcze” (polana boczna). Od 8 roku życia\nZapisy tel. 602 844 706 (pon.-pt. w godz. 8.00-15.00)\n12.00 – 17.00 –  WARSZTATY CERAMICZNE z Izabelą Czerwińską – lepienie w glinie\, poznanie techniki \, “Teatr AGT od nowa” (parking przed budynkiem). \nUdział od 10 roku życia\nZapisy tel. 87 520 20 59 (pon.-pt. w godz. 8.00-15.00)\n16:00 – 17.30 – WARSZTATY TEATRALNE: BIOMECHANIKA z Pawłem Urbanowiczem\, skierowane do amatorów: tancerzy\, aktorów. Sala “Teatru AGT od nowa”. \nPoziom: OPEN\nUdział od 16 roku życia\nZapisy tel. 602 844 706 (pon.-pt. w godz. 8.00-15.00)\n17.00 – SCENA KONESERA – koncert LUTEDUO – barokowa muzyka lutniowa\,\npolana przy Skate Parku.\n18.30 – OTWARCIE WYSTAWY CERAMIKI\, Izabela Czerwińska „Mentalna Podróż”\, Galeria Prawdziwej Sztuki im. A. Legusa (ROK „MG”\, Plac Wolności 22\, I piętro). \nWystawa dostępna po otwarciu wernisażu od pon. do pt. w godzinach 8.00-15.30\n19.00-22.00 – SCENA OTWARTA – MOCNE BRZMIENIA\, mała scena \, Plac Wolności.\n19:00 – QVAZAR\n20:00 – THE ROSEMARY\n21:00 – RUSTY DUSTY \nGODZINY POPOŁUDNIOWE  – TEATR WĘDROWNY “ŚWIATŁO-MROKI” w wykonaniu Młodzieżowego Klubu Rozwoju „Strefa Młodych”. Pojawi się w nieoczekiwanym momencie na ulicach miasta. \n WTOREK 16.07.2024\n9.30 – 12.30 – WARSZTATY WOKALNE z Marcinem Pyciakiem\, sala Kina Mazur . \nZapisy tel. 87 520 20 59 (pon.-pt. w godz. 8.00-15.00)\n10.00 – 14.00 – WARSZTATY BĘBNIARSKIE z Michałem Matysiukiem\,\n“Amfiteatr Podzamcze” (polana boczna). \nOd 8 roku życia\nZapisy tel. 602 844 706 (pon.-pt. w godz. 8.00-15.00)\n14.00 – 17.00 – WARSZTATY CERAMICZNE RAKU z Izabelą Czerwińską oraz\nOlgą Filipiak – japońska technika wypału ceramiki (wypalanie oraz szkliwienie).\nParking Teatru AGT od nowa. \nUdział od 10 roku życia\nZapisy tel. 87 520 20 59 (pon.-pt. w godz. 8.00-15.00)\n16:00 – 17.30 – WARSZTATY TAŃCA WSPÓŁCZESNEGO z Pawłem Urbanowiczem\,\nsala baletowa (duża) ROK „Mazury Garbate”. \nPoziom: OPEN\nUdział od 12 roku życia\nZapisy tel. 602 844 706 (pon.-pt. w godz. 8.00-15.00)\n17.00 -SCENA KONESERA – koncert Suwałki Etno Band (akordeon\, klarnet\, perkusjonalia\, kontrabas)\, polana przy Skate Parku.\n19.00-22.00 – SCENA OTWARTA – RAP/HIP-HOP\, mała scena \, Plac Wolności\n19:00 – JOSHUASVKO\n19:30 – AMADEJSON & VESPUCCI\n20:00 – NA POMOŚCIE\n20:30 – PENSA IL SUONO\n21:00 – RÓŻA PAŁKA & MICHAŁ PAWŁOWSKI\n21:30 – ASPECT SOUND \nGODZINY POPOŁUDNIOWE: TEATR WĘDROWNY “ŚWIATŁO-MROKI” w wykonaniu Młodzieżowego Klubu Rozwoju „Strefa Młodych”. Pojawi się w nieoczekiwanym momencie na ulicach miasta. \n ŚRODA 17.07.2024\n9.30 – 12.30 – WARSZTATY WOKALNE z Marcinem Pyciakiem\, sala Kina Mazur. \nZapisy tel. 87 520 20 59 (pon.-pt. w godz. 8.00-15.00)\n10.00 – 14.00 WARSZTATY BĘBNIARSKIE z Michałem Matysiukiem\,\n“Amfiteatr Podzamcze” (polana boczna). \nOd 8 roku życia\nZapisy tel. 602 844 706 (pon.-pt. w godz. 8.00-15.00)\n14.00 – WARSZTATY CERAMICZNE STAREJ TECHNIKI MLEKOWANIA z Izabelą Czerwińską oraz Olgą Filipiak. Parking “Teatru AGT od nowa”. \nUdział od 10 roku życia\nZapisy tel. 87 520 20 59 (pon.-pt. w godz. 8.00-15.00)\n16:00 – 17.30 – WARSZTATY TEATRALNE: BIOMECHANIKA z Pawłem Urbanowiczem\, skierowane do amatorów: tancerzy\, aktorów. Sala “Teatru AGT od nowa”. \nPoziom: OPEN\nUdział od 16 roku życia\nZapisy tel. 602 844 706 (pon.-pt. w godz. 8.00-15.00)\n17.00 – SCENA KONESERA – koncert Łukasz Dębiński & Szymon Chudy (handpan\, gitara)\, polana przy Skate Parku.\n19.00-22.00 – SCENA OTWARTA – POEZJA\, mała scena \, Plac Wolności\n19:00 – ZESPÓŁ WOKALNOINSTRUMENTALNY Z BURSY SZKOLNEJ W EŁKU\,\n19:45 – ZBIGNIEW SIEŃCZUK\,\n20:30 – ZUZIA JAROSZ\,\n21:00 – DOMINIKA BARABAS \nGODZINY POPOŁUDNIOWE: TEATR WĘDROWNY “ŚWIATŁO-MROKI” w wykonaniu Młodzieżowego Klubu Rozwoju „Strefa Młodych”. Pojawi się w nieoczekiwanym momencie na ulicach miasta. \n CZWARTEK 18.07.2024\n9.30 – 12.30 –  WARSZTATY WOKALNE z Marcinem Pyciakiem\, sala Kina Mazur. \nZapisy tel. 87 520 20 59 (pon.-pt. w godz. 8.00-15.00)\n10.00 – 14.00 – WARSZTATY BĘBNIARSKIE z Michałem Matysiukiem\,\n“Amfiteatr Podzamcze” (polana boczna). \nOd 8 roku życia\nZapisy tel. 602 844 706 (pon.-pt. w godz. 8.00-15.00)\n14.00 – 17.00 – WARSZTATY CERAMICZNE MIESZANE TECHNIKI (raku\, mlekowanie) z Izabelą Czerwińską oraz Olgą Filipiak. Parking Teatru AGT od nowa. \nUdział od 10 roku życia\nZapisy tel. 87 520 20 59 (pon.-pt. w godz. 8.00-15.00)\n16:00 – 17.30 – WARSZTATY TAŃCA WSPÓŁCZESNEGO z Pawłem Urbanowiczem\,\nsala baletowa (duża) ROK „Mazury Garbate”. \nPoziom: OPEN\nUdział od 12 roku życia\nZapisy tel. 602 844 706 (pon.-pt. w godz. 8.00-15.00)\n17:30 – KONCER FINAŁOWY WARSZTATÓW BĘNIARSKICH Michała Matysiuka \nPlaża Miejska\, molo „Skocznia”\n19.00-22.00- SCENA OTWARTA – MUZYCZNY MIX\, mała scena \, Plac Wolności.\n19:00 – FINAŁOWY WYSTĘP UCZESTNIKÓW WARSZTATÓW WOKALNYCH Z MARCINEM PYCIAKIEM\n20:00 – RADIOAKTYWNI\n21:00 – KOOPERACJA \nGODZINY POPOŁUDNIOWE: TEATR WĘDROWNY “ŚWIATŁO-MROKI” w wykonaniu Młodzieżowego Klubu Rozwoju „Strefa Młodych”. Pojawi się w nieoczekiwanym momencie na ulicach miasta. \n PIĄTEK 19.07.2024\n10.00 – VI RODZINNE MISTRZOSTWA PRZYSTANKOWE OLECKA W SZACHACH SZYBKICH\, Park Miejski w centrum. \nZapisy 578 454 782 lub krzysztofszachy@wp.pl\n16:00 – 17.30 – WARSZTATY TEATRALNE: BIOMECHANIKA z Pawłem Urbanowiczem\,\nskierowane do amatorów: tancerzy\, aktorów. Sala “Teatru AGT od nowa”. \nPoziom: OPEN\nUdział od 16 roku życia\nZapisy tel. 602 844 706 (pon.-pt. w godz. 8.00-15.00)\n20.00 – EX MAANAM – KONCERT\, scena główna\, Plac Wolności\n21:30 – MICHAŁ SZPAK – KONCERT\, scena główna\, Plac Wolności\n23:30 – TEATR KTO – SPEKTKL” ARCADIA”\, Amfiteatr Podzamcze\n(spektakl rozpocznie się po zakończeniu koncertu Michała Szpaka) \n SOBOTA 20.07.2024\n16:45 – VIII PARADA MOTOCYKLI\, start z targowiska „Mój Rynek”\n20.00 – CHŁOPCY Z PLACU BRONI – KONCERT\, scena główna\, Plac Wolności\n21:30 – AFROMENTAL – KONCERT\, scena główna\, Plac Wolności
URL:https://www.niebywalesuwalki.pl/wydarzenie/31-przystanek-olecko-2024/
LOCATION:Olecko\, Olecko\, Polska
END:VEVENT
BEGIN:VEVENT
DTSTART;VALUE=DATE:20240719
DTEND;VALUE=DATE:20240721
DTSTAMP:20260420T075739
CREATED:20240708T091844Z
LAST-MODIFIED:20240708T091845Z
UID:230752-1721347200-1721519999@www.niebywalesuwalki.pl
SUMMARY:Festiwal podróżniczy w Starym Folwarku
DESCRIPTION:Wigierski Park Narodowy zaprasza na na piątą edycję Festiwalu Podróżniczego. \nZaproszeni goście będą mówili o rzekach. \nMiejsce: Muzeum Wigier w Starym Folwarku \nTermin: 19-20 lipca 2024\, pierwsze spotkanie zaczyna się od godziny 17.00 \nWstęp wolny!
URL:https://www.niebywalesuwalki.pl/wydarzenie/festiwal-podrozniczy-w-starym-folwarku/
LOCATION:Muzeum Wigier\, Stary Folwark 50\, Stary Folwark\, Polska
END:VEVENT
BEGIN:VEVENT
DTSTART;TZID=Europe/Warsaw:20240719T180000
DTEND;TZID=Europe/Warsaw:20240719T190000
DTSTAMP:20260420T075739
CREATED:20240704T121953Z
LAST-MODIFIED:20240704T121954Z
UID:230583-1721412000-1721415600@www.niebywalesuwalki.pl
SUMMARY:Mały Cud - wernisaż wystawy fotografii Anety Stabińskiej w Suwałkach
DESCRIPTION:MAŁY CUD to wystawa fotografii opowiadająca o przestrzeni codziennej\, zwyczajnej\, czasem banalnej\, czasem zaskakującej. To kadry z mojego najbliższego otoczenia oraz z miejsc\, które najczęściej odwiedzam. Można te przestrzenie podzielić na kręgi wokół mnie: przestrzeń osiedlową mojego bloku mieszkalnego i innych budynków skupionych wokół\, krąg przestrzeni małomiasteczkowej oraz wiejskiej. Poruszając się stałymi\, wydeptanymi ścieżkami\, z jednej strony możemy przestać to otoczenie zauważać – opatrzone i nudne ignorować\, omijać wzrokiem. Może też być inaczej – mając nasze okolice opatrzone i obejrzane na wylot\, możemy być wyczuleni na wszelkie najdrobniejsze nawet zmiany wokół\, mikro zakłócenia porządku\, do którego nasz wzrok przywykł.Zdarza mi się być po obu stronach\, bywa\, że nie mam czasu i nastroju\, żeby się czemuś przyjrzeć\, innym razem przypatruję się\, idę niespiesznie\, uważnie\, żeby przyjąć to\, co mój wzrok napotka\, czasem dociekam\, szukam\, drążę dalej i dalej – wyławiam ciekawostki\, powtarzalności\, niespodzianki\, absurdy\, inną perspektywę\, zrządzenia losu na styku natury z cywilizacją\, lub zaskakujące wytwory człowieka – Małe Cuda codzienności. Dla mnie ten Mały Cud przejawia się często w błahych i mało zauważalnych drobiazgach – wystarczy mi nagłe poczucie zaskoczenia\, euforii\, lekkiego rozbawienia\, albo że się objawiło mnie\, lub właśnie w tym jednym momencie.\nAneta Stabińska – Sejnianka\, fotografka\, która fascynuje się wieloma obszarami fotografii – duża część jej pracy to portrety artystyczne\, stylizowane\, reportażowe\, które publikuje na profilu People I Have Met. Wykonuje reportaże\, dokumentuje codzienność swojego otoczenia – osiedla\, małego miasta i wsi. Z równą pasją fotografuje przyrodę i krajobraz Suwalszczyzny\, a także architekturę. Tym bardziej w podróży też nie rozstaje się z aparatem. Szczęśliwie bez zakłóceń udaje się jej połączyć fotografię zawodową i hobbystyczną\, nie ma wyraźnego podziału. W pracy najczęściej wykonuje reportaże\, sesje indywidualne i grupowe – zarówno na potrzeby wizerunkowo-biznesowe\, jak i prywatne\, a także zdjęcia wnętrz\, architektury\, produktów oraz przyrody.\nDotychczasowe wystawy i prezentacje:Granice Czucia – Oliwski Ratusz Kultury – Gdańsk – 2023Granice Czucia – Augustowskie Placówki Kultury\, Augustów – 2022O Północy – Galeria Jednego Obrazu\, Suwalski Ośrodek Kultury – 2021People I Have Met – Ośrodek Kultury w Sejnach – 2021Pokaz fotografii – Cafe Szwenda\, Sejny – 2020\n\nLinki:facebook.com/PeopleihavemetByAnetaStabinskainstagram: peopleihavemet.fotohttps://www.facebook.com/AnetaStabinska.Photo
URL:https://www.niebywalesuwalki.pl/wydarzenie/maly-cud-wernisaz-wystawy-fotografii-anety-stabinskiej-w-suwalkach/
LOCATION:Galeria Sztuki Stara Łaźnia\, Bulwary nad Czarną Hańczą\, Suwałki\, Poland
ATTACH;FMTTYPE=image/jpeg:https://www.niebywalesuwalki.pl/wp-content/uploads/2024/07/malycud-Sredni.jpeg
END:VEVENT
BEGIN:VEVENT
DTSTART;TZID=Europe/Warsaw:20240719T180000
DTEND;TZID=Europe/Warsaw:20240720T180000
DTSTAMP:20260420T075739
CREATED:20240705T100910Z
LAST-MODIFIED:20240705T100911Z
UID:230586-1721412000-1721498400@www.niebywalesuwalki.pl
SUMMARY:Transgraniczny weekend modowy w Suwałkach
DESCRIPTION:Muzeum Okręgowe w Suwałkach\nzaprasza do udziału w \n„Transgranicznym weekendzie modowym”\, \nrealizowanym w ramach projektu\n„Transgraniczna droga do nieskończoności wspomnień”\nLT-PL 00009\, dofinansowanego ze środków programu\nInterreg Litwa-Polska. \nPartnerami projektu są\nMuzeum Okręgowe w Suwałkach\nwraz z Muzeum Regionalnym w Alytus\ni Muzeum Regionalnym w Łoździejach. \nProgram: \n19 lipca\ngodz. 18.00 – otwarcie wystawy „Kobiety i mężczyźni pogranicza”\, bulwary nad Czarną Hańczą  – deptak pomiędzy ogrodem\nMuzeum im. Marii Konopnickiej a Starą Łaźnią. \n20 lipca\ngodz. 10.00 –13.00 – spacer historyczny – start Muzeum Okręgowe\nw Suwałkach\, ul. T. Kościuszki 81 godz. 18.00 – Pokaz mody historycznej „Wędrówka przez dzieje pogranicza” –\ndziedziniec Muzeum im. Marii Konopnickiej.
URL:https://www.niebywalesuwalki.pl/wydarzenie/transgraniczny-weekend-modowy-w-suwalkach/
LOCATION:Muzeum im. Marii Konopnickiej\, ul. Kościuszki 32\, Suwałki\, Polska
ATTACH;FMTTYPE=image/jpeg:https://www.niebywalesuwalki.pl/wp-content/uploads/2024/07/fashionweek-Duzy.jpeg
END:VEVENT
BEGIN:VEVENT
DTSTART;TZID=Europe/Warsaw:20240719T190000
DTEND;TZID=Europe/Warsaw:20240719T200000
DTSTAMP:20260420T075739
CREATED:20240603T082920Z
LAST-MODIFIED:20240603T082920Z
UID:228933-1721415600-1721419200@www.niebywalesuwalki.pl
SUMMARY:Dziwny jest ten świat - koncert w Suwałkach
DESCRIPTION:
URL:https://www.niebywalesuwalki.pl/wydarzenie/dziwny-jest-ten-swiat-koncert-w-suwalkach/
LOCATION:Salonik muzyczny Fundacji Art-S.O.S.\, ul. Chłodna 12\, Suwałki\, Polska
ATTACH;FMTTYPE=image/jpeg:https://www.niebywalesuwalki.pl/wp-content/uploads/2024/06/muzyczne_perly.jpeg
END:VEVENT
END:VCALENDAR