BEGIN:VCALENDAR
VERSION:2.0
PRODID:-//Niebywałe Suwałki - ECPv6.15.20//NONSGML v1.0//EN
CALSCALE:GREGORIAN
METHOD:PUBLISH
X-WR-CALNAME:Niebywałe Suwałki
X-ORIGINAL-URL:https://www.niebywalesuwalki.pl
X-WR-CALDESC:Wydarzenia dla Niebywałe Suwałki
REFRESH-INTERVAL;VALUE=DURATION:PT1H
X-Robots-Tag:noindex
X-PUBLISHED-TTL:PT1H
BEGIN:VTIMEZONE
TZID:Europe/Warsaw
BEGIN:DAYLIGHT
TZOFFSETFROM:+0100
TZOFFSETTO:+0200
TZNAME:CEST
DTSTART:20230326T010000
END:DAYLIGHT
BEGIN:STANDARD
TZOFFSETFROM:+0200
TZOFFSETTO:+0100
TZNAME:CET
DTSTART:20231029T010000
END:STANDARD
BEGIN:DAYLIGHT
TZOFFSETFROM:+0100
TZOFFSETTO:+0200
TZNAME:CEST
DTSTART:20240331T010000
END:DAYLIGHT
BEGIN:STANDARD
TZOFFSETFROM:+0200
TZOFFSETTO:+0100
TZNAME:CET
DTSTART:20241027T010000
END:STANDARD
BEGIN:DAYLIGHT
TZOFFSETFROM:+0100
TZOFFSETTO:+0200
TZNAME:CEST
DTSTART:20250330T010000
END:DAYLIGHT
BEGIN:STANDARD
TZOFFSETFROM:+0200
TZOFFSETTO:+0100
TZNAME:CET
DTSTART:20251026T010000
END:STANDARD
END:VTIMEZONE
BEGIN:VEVENT
DTSTART;VALUE=DATE:20240722
DTEND;VALUE=DATE:20240725
DTSTAMP:20260420T075736
CREATED:20240409T125008Z
LAST-MODIFIED:20240409T125008Z
UID:226453-1721606400-1721865599@www.niebywalesuwalki.pl
SUMMARY:OSiR On Tour - Rowerowa pielgrzymka z Suwałk do Wilna
DESCRIPTION:
URL:https://www.niebywalesuwalki.pl/wydarzenie/osir-on-tour-rowerowa-pielgrzymka-z-suwalk-do-wilna/
LOCATION:Suwałki\, Suwałki
ATTACH;FMTTYPE=image/jpeg:https://www.niebywalesuwalki.pl/wp-content/uploads/2024/04/osirontour2024.jpg
END:VEVENT
BEGIN:VEVENT
DTSTART;VALUE=DATE:20240722
DTEND;VALUE=DATE:20240725
DTSTAMP:20260420T075736
CREATED:20240703T082549Z
LAST-MODIFIED:20240703T082549Z
UID:230555-1721606400-1721865599@www.niebywalesuwalki.pl
SUMMARY:OSiR On Tour - kierunek Wilno
DESCRIPTION:Już 22 lipca (poniedziałek) w ramach OSiR On Tour odbędzie się trzecia w tym roku rowerowa wyprawa – tym razem w kierunku litewskiego Wilna. Pozycja obowiązkowa dla wszystkich tych\, którzy pragną przeżyć wyjątkową przygodę i oderwać się od codziennej rutyny. \nPodczas wyprawy nie zabraknie czasu na wspólną integrację. Udział w wycieczce to gwarancja dobrze spędzonego czasu na świeżym powietrzu\, podziwiania pięknych krajobrazów i odkrywania fascynujących miejsc. W trakcie jej trwania organizatorzy przewidują kilka postojów\, w tym noclegi w miejscowościach: Metele nad jeziorem Duś (Meteliai\, kemping) oraz Białej Wace (Baltoji Voke\, polska szkoła). Uczestnicy wyprawy zobowiązani są do posiadania namiotu i ważnych dokumentów (dowód osobisty / paszport). Transport wszelkich bagaży zostanie zapewniony przy pomocy samochodu zaopatrzeniowego. \nPRZEBIEG TRASY: Suwałki – Krzywe – Stary Folwark – Krasnopol – Sejny – Łoździeje – Metele nad jeziorem Duś – Olita – Biała Waka – Wilno (dystans 215 km) \nPROGNOZOWANY PROGRAM MINUTOWY: \nDzień I (22.07.2024 r.) Suwałki – Metele (75 km) \n\n8.30 – 9:00 – zbiórka uczestników na parkingu zlokalizowanym przy siedzibie pomysłodawcy (Dział Sportu\, Rekreacji i Marketingu\, ul. Wojska Polskiego 2);\n9:00 – start uczestników wycieczki.\n\nDzień II (23.07.2024 r.) Metele – Biała Waka (110 km) \nDzień III (24.07.2024 r.) Biała Waka – Wilno (30 km) \n• 20:00 – przewidywana godzina powrotu z Wilna do Suwałk (transport autokarowy) \nPomysłodawca informuje\, iż jest to orientacyjny program minutowy i poszczególne godziny mogą ulec modyfikacji. W owym przypadku na stronie pomysłodawcy www.osir.suwalki.pl zostanie zamieszczona stosowna informacja. \nUczestnicy wycieczki zobowiązani są do wniesienia składki w wysokości 200 zł\, która w całości będzie przeznaczona na transport rowerów z Wilna do Suwałk z wykorzystaniem lawety. \nPotwierdzeniem udziału w wycieczce jest złożenie formularza zgłoszeniowego wraz z równowartością składki w nieprzekraczanym terminie do 15.07. w Dziale Sportu\, Rekreacji i Marketingu OSiR\, ul. Wojska Polskiego 2\, 16-400 Suwałki do godziny 16:00. \nZapisy za pośrednictwem systemu dostartu.pl trwają! Bezpośredni odnośnik do formularza zgłoszeniowego: https://dostartu.pl/osir-on-tour-kierunek-wilno-v12441
URL:https://www.niebywalesuwalki.pl/wydarzenie/osir-on-tour-kierunek-wilno/
LOCATION:OSiR Suwałki\, ul. Wojska Polskiego 2\, Suwałki\, Polska
END:VEVENT
BEGIN:VEVENT
DTSTART;TZID=Europe/Warsaw:20240723T163000
DTEND;TZID=Europe/Warsaw:20240723T200000
DTSTAMP:20260420T075736
CREATED:20240719T075626Z
LAST-MODIFIED:20240719T075626Z
UID:231374-1721752200-1721764800@www.niebywalesuwalki.pl
SUMMARY:"Pamiętanie Ireny Veisaitė" - Pogranicze zaprasza na spotkanie do Sejn i Krasnogrudy
DESCRIPTION:16.30 POKÓJ IRENY \nInauguracja miejsca dedykowanego Irenie Veisaitė\, „Człowiekowi Pogranicza” w Dworze Miłosza w Krasnogrudzie\, połączona z uroczystym zawiązaniem współpracy pomiędzy Litewską Biblioteką Narodową im. Martynasa Mažvydasa w Wilnie a Biblioteką Dworu Miłosza w Krasnogrudzie. \nW spotkaniu udział wezmą m.in. Dyrektorka Generalna Litewskiej Biblioteki Narodowej im. Martynasa MažvydasaAušrinė Žilinskienė oraz Wicedyrektorka ds. naukowych i rozwoju strategicznego Litewskiej Biblioteki Narodowej im. Martynasa Mažvydasa dr Ingrida Veliutė. \nMiędzynarodowe Centrum Dialogu w Krasnogrudzie \n17.00 O GODNE ŻYCIE \nRozmowa o życiu i działalności Ireny Veisaitė. \nUdział wezmą: Małgorzata Czyżewska\, Rasa Rimickaitė\, Marina Vildžiūnienė\, Diana Vilytė\, Audra Žukaitytė\, Egidijus Aleksandravičius\, Krzysztof Czyżewski\, Vytautas Toleikis\, Linas Vildžiūnas. \nKawiarnia Literacka „Piosenka o Porcelanie”\, Dwór Miłosza w Krasnogrudzie \n19.30 DEDYKACJA \nKoncert fortepianowy Onutė Gražinytė\, dedykowany pamięci Ireny Veisaitė. \nW programie Mikalojus Konstantinas Čiurlionis\, Ludwig van Beethoven\, Mieczysław Wajnberg\, Jörg Widmann oraz Grażyna Bacewicz. \nBiała Synagoga w Sejnach \nSpotkanie organizowane we współpracy z Litewskim Instytutem Kultury w Wilnie oraz Ambasadą Republiki Litewskiej w Polsce. \n16.30 IRENOS KAMBARYS \nIrenos Veisaitės\, „Paribio žmogaus” kambario Milošo dvare Krasnogrūdoje atidarymas bei iškilmės\, skirtos Lietuvos nacionalinės Martyno Mažvydo bibliotekos Vilniuje ir Milošo dvaro bibliotekos Krasnogrūdoje bendradarbiavimo užmezgimui. \nIškilmėse be kitų dalyvauja Lietuvos nacionalinės Martyno Mažvydo bibliotekos generalinė direktorė Aušrinė Žilinskienė ir Lietuvos nacionalinės Martyno Mažvydo bibliotekos direktoriaus pavaduotoja mokslui ir strateginei plėtrai dr. Ingrida Veliutė. \nTarptautinis dialogo centras Krasnogrūdoje \n17.00 GYVENIMAS TURĖTŲ BŪTI SKAIDRUS \nPokalbis apie Irenos Veisaitės gyvenimą ir veiklą. \nDalyvauja: Małgorzata Czyżewska\, Rasa Rimickaitė\, Marina Vildžiūnienė\, Diana Vilytė\, Audra Žukaitytė\, Egidijus Aleksandravičius\, Krzysztof Czyżewski\, Vytautas Toleikis\, Linas Vildžiūnas. \nKavinė „Piosenka o Porcelanie”\, Milošo dvaras Krasnogrūdoje \n19.30 DEDIKACIJA \nPianistės Onutės Gražinytės koncertas\, skirtas Irenai Veisaitei atminti. \nProgramoje išgirsime Mikalojaus Konstantino Čiurlionio\, Ludwigo van Beethoveno\, Mieczysławo Wajnbergo\, Jörgo Widmanno ir Grażynos Bacewicz kūrinius. \nBaltoji sinagoga Seinuose \nSpotkanie organizowane we współpracy z Litewskim Instytutem Kultury w Wilnie oraz Ambasadą Republiki Litewskiej w Polsce. \nIrena Veisaitė w Pograniczu
URL:https://www.niebywalesuwalki.pl/wydarzenie/pamietanie-ireny-veisaite-pogranicze-zaprasza-na-spotkanie-do-sejn-i-krasnogrudy/
LOCATION:Sejny\, Krasnogruda\, Sejny\, Krasnogruda\, Polska
END:VEVENT
END:VCALENDAR