BEGIN:VCALENDAR
VERSION:2.0
PRODID:-//Niebywałe Suwałki - ECPv6.15.20//NONSGML v1.0//EN
CALSCALE:GREGORIAN
METHOD:PUBLISH
X-ORIGINAL-URL:https://www.niebywalesuwalki.pl
X-WR-CALDESC:Wydarzenia dla Niebywałe Suwałki
REFRESH-INTERVAL;VALUE=DURATION:PT1H
X-Robots-Tag:noindex
X-PUBLISHED-TTL:PT1H
BEGIN:VTIMEZONE
TZID:Europe/Warsaw
BEGIN:DAYLIGHT
TZOFFSETFROM:+0100
TZOFFSETTO:+0200
TZNAME:CEST
DTSTART:20230326T010000
END:DAYLIGHT
BEGIN:STANDARD
TZOFFSETFROM:+0200
TZOFFSETTO:+0100
TZNAME:CET
DTSTART:20231029T010000
END:STANDARD
BEGIN:DAYLIGHT
TZOFFSETFROM:+0100
TZOFFSETTO:+0200
TZNAME:CEST
DTSTART:20240331T010000
END:DAYLIGHT
BEGIN:STANDARD
TZOFFSETFROM:+0200
TZOFFSETTO:+0100
TZNAME:CET
DTSTART:20241027T010000
END:STANDARD
BEGIN:DAYLIGHT
TZOFFSETFROM:+0100
TZOFFSETTO:+0200
TZNAME:CEST
DTSTART:20250330T010000
END:DAYLIGHT
BEGIN:STANDARD
TZOFFSETFROM:+0200
TZOFFSETTO:+0100
TZNAME:CET
DTSTART:20251026T010000
END:STANDARD
END:VTIMEZONE
BEGIN:VEVENT
DTSTART;VALUE=DATE:20240725
DTEND;VALUE=DATE:20240810
DTSTAMP:20260420T061809
CREATED:20240716T112810Z
LAST-MODIFIED:20240716T112811Z
UID:231331-1721865600-1723247999@www.niebywalesuwalki.pl
SUMMARY:11. Suwalskie Teatr-Akcje 2024 „Powroty do domu”
DESCRIPTION:11. Suwalskie Teatr-Akcje 2024 „Powroty do domu” – PROGRAM \nNa niektóre spektakle i pokazy obowiązują wejściówki do odbioru w miejscu wydarzenia na godzinę przed rozpoczęciem. \n25.07. (CZWARTEK) \n   18:00 „Showtime” – Teatr Form Czarno-Białych “Plama”\, reż. M. Krymska (PREMIERA) \n   Sala Kameralna SOK\, ul. Jana Pawła II 5 (wejściówki) \n26.07. (PIĄTEK) \n   15:00 Performensy Miejskie – reż. Oskar Pawełko (PREMIERA) \n   dawne Kino Bałtyk\, ul. Kościuszki 24 \n   18:00 Kino Teatr-Akcjowe – „Obrzęd\, atak\, jazda” (16+) – Oskar Pawełko\, Weronika Wasilewska \n   Sala Kameralna SOK\, ul. Jana Pawła II 5 (wejściówki) \n   19:00 Przegadajmy to! Rozmowa z artystami \n   Sala Kameralna SOK\, ul. Jana Pawła II 5 \n27.07. (SOBOTA) \n   18:00 „Wiwisekcja” – reż. Joanna Rutkowska \n   Sala Granatowa SOK\, ul. Noniewicza 71 (wejściówki) \n   19:00 Impro Show – prowadzenie: Joanna Lewoc \n   Sala Granatowa SOK\, ul. Noniewicza 71 (wejściówki) \n   20:00 Przegadajmy to! Rozmowa z artystami \n   Dom Festiwalowy\, ul. Chłodna 1 \n28.07. (NIEDZIELA) \n  13:00 spektakl dla dzieci “Przygoda Alladyna” (3-9) – Katarzyna Wyrzykowska \n   PIU – Centrum Aktywności i Arteterapii\, ul. Noniewicza 79 c (wejściówki) \n   13:50 Domowe przedszkole – gry integracyjne dla dzieci \n   PIU – Centrum Aktywności i Arteterapii\, ul. Noniewicza 79 c \n   18:00 „Powroty” – reż. Paweł Urbanowicz (PREMIERA) \n   Dawne Kino Bałtyk\, ul. Kościuszki 24 \n29.07. (PONIEDZIAŁEK) \n   18:00 „Żyjesz naprawdę w innym świecie” – Hubert Fiebig\, Daniel Namiotko\, Jagoda Stanicka \n   Sala Kameralna SOK\, ul. Jana Pawła II 5 (wejściówki) \n   19:00 Przegadajmy to! Rozmowa z artystami \n   Sala Kameralna SOK\, ul. Jana Pawła II 5 \n30.07. (WTOREK) \n   16:00 Akcja teatralna „Stoły” – kreacja zbiorowa \n   ul. Chłodna \n   18:00 performens „Don Lis” (16+) – Radosław Lis \n   podwórko przy ul. Daszyńskiego 1 w Suwałkach \n   19:00 Przegadajmy to! Rozmowa z twórcą \n   podwórko przy ul. Daszyńskiego 1 w Suwałkach \n31.07. (ŚRODA) \n   18:00 „Schwarzcharakterki” (16+) – reż. Julia Mark \n   Sala Granatowa SOK\, ul. Noniewicza 71 (wejściówki) \n   19:30 Kino Teatr-Akcjowe – „Królestwo za konia” – reż. Grzegorz Falkowski \n   Dom Festiwalowy\, ul. Chłodna 1 \n   21:00 Przegadajmy to! Rozmowa z artystami \n   Dom Festiwalowy\, ul. Chłodna 1 \n01.08. (CZWARTEK) \n   19:00 Slam Freak Night – prowadzenie: Paweł Bydelski \n   Bulwary obok Galerii Sztuki Stara Łaźnia\, ul. Wajdy 3 \n   20:00 Koncert Rusty Dusty Rock Band \n   Bulwary obok Galerii Sztuki Stara Łaźnia\, ul. Wajdy 3 \n02.08. (PIĄTEK) \n   18:00 „Życie Beztlenowe” – Suwalski Klub Seniora\, reż. Krzysztof Rudowicz \n   Sala Granatowa SOK\, ul. Noniewicza 71 (wejściówki) \n   20:00 Przegadajmy to! Rozmowa z artystami \n   Dom Festiwalowy\, ul. Chłodna 1 \n   20:30 Panel dyskusyjny „Wypalenie zawodowe pracowników kultury” – prowadzenie: Pamela Leończyk \n   Dom Festiwalowy\, ul. Chłodna 1 \n03.08. (SOBOTA) \n  18:00 spektakl familijny „Noe” (9+) – Adam Walny \n   dziedziniec Muzeum im. Marii Konopnickiej\, ul. Kościuszki 31 \n04.08. (NIEDZIELA) \n   13:00 spektakl dla dzieci „Przygody Kropli Wody” (3+) – Adam Walny \n   łąka nad Czarną Hańczą obok Galerii Sztuki Stara Łaźnia\, ul. Wajdy 3 \n   14.00 chodzenie na szczudłach – warsztaty dla dzieci (5-12) \n   łąka nad Czarną Hańczą obok Galerii Sztuki Stara Łaźnia\, ul. Wajdy 3 \n05.08. (PONIEDZIAŁEK) \n   18:00 „Wszystko się chwieje według Mistrza Ildefonsa” – Teatr Hybrydowy\, reż. M. Krymska \n   Sala Kameralna SOK\, ul. Jana Pawła II 5 (wejściówki) \n   20:30 Panel dyskusyjny „Powroty do domu” \n   Dom Festiwalowy\, ul. Chłodna 1 \n06.08. (WTOREK) \n   18:00 etiudy studentów Akademii Teatralnej – Filii w Białymstoku (16+) \n   Sala Granatowa SOK\, ul. Noniewicza 71 (wejściówki) \n   20:00 Przegadajmy to! Rozmowa z artystami \n   Dom Festiwalowy\, ul. Chłodna 1 \n07.08. (ŚRODA) \n  20:00 „Kamień na kamieniu” – Teatr Baza \n   Kaczy Dołek\, ul. Ogińskiego \n   21:30 GORE – taniec z ogniem \n   Kaczy Dołek\, ul. Ogińskiego \n08.08. (CZWARTEK) \n   17.00 Pokaz powarsztatowy – prowadzenie: Karolina Gorton \n   sala prób SOK\, ul. Jana Pawła II 5 \n   19:00 Koncert zespołu Same Baby \n   Dom Festiwalowy\, ul. Chłodna 1 \n   20:00 Kino Teatr-Akcjowe – najlepsze momenty w historii festiwalu i Teatru “Plama” \n   Dom Festiwalowy\, ul. Chłodna 1 \n09.08. (PIĄTEK) \n   18:00 „DOM z powyłamywanymi nogami” – Teatr Hybrydowy (PREMIERA) \n   Sala Kameralna SOK\, ul. Jana Pawła II 5 (wejściówki)
URL:https://www.niebywalesuwalki.pl/wydarzenie/11-suwalskie-teatr-akcje-2024-powroty-do-domu/
LOCATION:Suwałki\, skrzyżowanie ul. Utrata i Przytorowa\, Suwałki\, Polska
END:VEVENT
BEGIN:VEVENT
DTSTART;TZID=Europe/Warsaw:20240725T180000
DTEND;TZID=Europe/Warsaw:20240725T200000
DTSTAMP:20260420T061809
CREATED:20240628T125239Z
LAST-MODIFIED:20240628T125239Z
UID:230155-1721930400-1721937600@www.niebywalesuwalki.pl
SUMMARY:Sejneńskie Spotkania z Nauką: Kamienie z nieba – opowieść o meteorytach
DESCRIPTION:Przebywający na wakacjach na Suwalszczyźnie fizycy\, biolodzy i humaniści\, głównie z warszawskich uczelni i ośrodków naukowych\, będą w każdy czwartek dzielić się z Państwem swoim oczarowaniem nauką i opowiadać o tajemnicach atomu i Wszechświata\, zagadkach kodu genetycznego\, sekretach mikroorganizmów\, tajemnicach dawnych cywilizacji czy wreszcie o najnowszych urządzeniach badawczych świata i o wyzwaniach technologii komputerowych. Wykłady będą miały charakter popularny\, a po każdym z nich będzie czas na pytania i dyskusje. Nie trzeba żadnego specjalnego wykształcenia ścisłego aby móc przeżyć wspaniały wieczór\, wiele się dowiedzieć i poznać ciekawych ludzi.Spotkania odbywają się w Sejnach\, w Ośrodku Kultury (sala kinowa)\, ul. 1 Maja 17\,\n\n25 lipca: prof. Jolanta Gałązka-Friedman\, Wydział Fizyki\, Politechnika Warszawska \,\,Kamienie z nieba – opowieść o meteorytach”\n1 sierpnia: mgr Sebastian Piskorski\, Wydział Biologii i Ochrony Środowiska\, Uniwersytet Łódzki \,\,W mroku piwnicy: pająki\, grzyby i ich tajemnice”\n8 sierpnia: dr Adrianna Tartas\, Wydział Fizyki\, Uniwersytet Warszawski \,\,Promieniowanie w służbie medycyny”\n22 sierpnia: prof. Wiktor Kotowski\, Wydział Biologii\, Uniwersytet Warszawski \,\,Tajemnice mokradeł”\n29 sierpnia: prof. Agnieszka Korgul\, Wydział Fizyki\, Uniwersytet Warszawski \,\,Nie bójmy się elektrowni jądrowej”\nWSTĘP WOLNY!
URL:https://www.niebywalesuwalki.pl/wydarzenie/sejnenskie-spotkania-z-nauka-kamienie-z-nieba-opowiesc-o-meteorytach/
LOCATION:Ośrodek Kultury w Sejnach\, Sejny\, Polska
END:VEVENT
BEGIN:VEVENT
DTSTART;TZID=Europe/Warsaw:20240725T191500
DTEND;TZID=Europe/Warsaw:20240725T220000
DTSTAMP:20260420T061809
CREATED:20240715T092834Z
LAST-MODIFIED:20240715T092834Z
UID:231213-1721934900-1721944800@www.niebywalesuwalki.pl
SUMMARY:Pokaz filmu "Wilczyca" z autorską narracją Doroty Masłowskiej w Augustowie
DESCRIPTION:Dyskusyjny Klub Filmowy Kinochłon zaprasza na niezwykłe\, jedyne w swoim rodzaju wydarzenie.Już TU\, w tym miejscu informujemy\, że bilety dostępne są w sprzedaży w MDK lub na godzinę przed seansem w kinie Iskra.\n\n[…] jest to film wspaniały\, fatalny\, nieznośny i skazany na zagładę.Dorota Masłowska\nDla niektórych „Wilczyca” to nielogiczny guilty pleasure\, dla innych piękna pocztówka z polskiego podwórka grozy. To film\, który dywersyfikuje opinie. Sprawdźcie\, czy Wasze serce bije do „Wilczycy”\, czy podczas seansu czujecie się tak\, jakbyście mieli w nim kołek.Ten seans będzie jak róg obfitości dla każdego kinofila!\n\nMarek Piestrak to kultowa postać polskiego kina. Stworzył między innymi „Indiana Jonesa” bloku wschodniego\, czyli „Klątwę Doliny Węży”\, sci-fi\, którego nie powstydziłby się Ridley Scott „Test Pilota Pirxa” i „Wilczycę”\, która tak dużo czerpie z kultury ludowej\, że w dobie współczesnej chłopomanii MUSI wejść do kanonu uwielbianych polskich filmów.\nMasłowska i Piestrak mają coś wspólnego – przecierają szlaki\, wywołują kontrowersje.Pisarka pokazała\, że granice w językowych zabawach zawsze można przesuwać. Udowodniła też\, że awangardowy\, ambitny rap idealnie mieści się na kartach literatury. Piestrak udowodnił\, że w Polsce można tworzyć kino gatunkowe (i to takie\, które niesie przekaz\, a nie jest tylko pustą formą). Twórczość tych twórców to dowód na to\, że nie ma wymówek\, zawsze można znaleźć kreatywne rozwiązania.\n\nFilm komentuje Dorota Masłowska\, kultowa postać polskiej literatury.\nW malowniczej scenerii zaboru austriackiego główny bohater “Wilczycy”\, Kacper Wosiński\, staje przed trudnym wyzwaniem po tajemniczej śmierci swojej żony…Dorota Masłowska w swojej narracji prowadzi groteskowy dialog z filmem. Komentuje\, dopowiada\, zasiewa wątpliwości – nadaje całkowicie nowej perspektywy odbioru. Opowieść “o Wosiu” nabiera nieoczekiwanego kształtu\, dotykając granicy między strachem a… śmiechem.\n\nRezerwacje/informacje: 87 643 36 59 lub 790228560
URL:https://www.niebywalesuwalki.pl/wydarzenie/pokaz-filmu-wilczyca-z-autorska-narracja-doroty-maslowskiej-w-augustowie/
LOCATION:Kino Iskra\, Augustów\, Polska
END:VEVENT
BEGIN:VEVENT
DTSTART;TZID=Europe/Warsaw:20240725T193000
DTEND;TZID=Europe/Warsaw:20240725T203000
DTSTAMP:20260420T061809
CREATED:20240702T114620Z
LAST-MODIFIED:20240702T114620Z
UID:230530-1721935800-1721939400@www.niebywalesuwalki.pl
SUMMARY:Koncert jubileuszowy Andrzeja Poniedzielskiego w Suwałkach
DESCRIPTION:JUBILEUSZ Andrzeja Poniedzielskiego na 50 – lecie pracy twórczej i 70 – lecie urodzin!\nW roku 2024 Andrzej Poniedzielski obchodzi 50-lecie pracy artystycznej i 70-lecie urodzin.\nPopularny satyryk\, aktor\, poeta oraz autor piosenek zaprezentuje publiczności autorski program\, przepełniony inteligentną satyrą oraz łagodnym humorem.\nAndrzej Poniedzielski to postać znana i ceniona w kręgach kabaretowych\, poetyckich\, literackich.\nW trakcie wyjątkowego\, jubileuszowego koncertu ze sceny wybrzmią satyryczne\, liryczne piosenki o miłości\, szczęściu\, upływie czasu napisane przez jubilata\, w nowych aranżacjach okraszone wysublimowanym dowcipem i inteligencją mistrza słowa. Artyście na scenie towarzyszyć będzie muzyk : Paweł Jabłoński-piano.
URL:https://www.niebywalesuwalki.pl/wydarzenie/koncert-jubileuszowy-andrzeja-poniedzielskiego-w-suwalkach/
LOCATION:Ogród „Rozmarino”\, Kościuszki 75\, Suwałki\, 16-400\, Polska
END:VEVENT
END:VCALENDAR