BEGIN:VCALENDAR
VERSION:2.0
PRODID:-//Niebywałe Suwałki - ECPv6.15.20//NONSGML v1.0//EN
CALSCALE:GREGORIAN
METHOD:PUBLISH
X-WR-CALNAME:Niebywałe Suwałki
X-ORIGINAL-URL:https://www.niebywalesuwalki.pl
X-WR-CALDESC:Wydarzenia dla Niebywałe Suwałki
REFRESH-INTERVAL;VALUE=DURATION:PT1H
X-Robots-Tag:noindex
X-PUBLISHED-TTL:PT1H
BEGIN:VTIMEZONE
TZID:Europe/Warsaw
BEGIN:DAYLIGHT
TZOFFSETFROM:+0100
TZOFFSETTO:+0200
TZNAME:CEST
DTSTART:20230326T010000
END:DAYLIGHT
BEGIN:STANDARD
TZOFFSETFROM:+0200
TZOFFSETTO:+0100
TZNAME:CET
DTSTART:20231029T010000
END:STANDARD
BEGIN:DAYLIGHT
TZOFFSETFROM:+0100
TZOFFSETTO:+0200
TZNAME:CEST
DTSTART:20240331T010000
END:DAYLIGHT
BEGIN:STANDARD
TZOFFSETFROM:+0200
TZOFFSETTO:+0100
TZNAME:CET
DTSTART:20241027T010000
END:STANDARD
BEGIN:DAYLIGHT
TZOFFSETFROM:+0100
TZOFFSETTO:+0200
TZNAME:CEST
DTSTART:20250330T010000
END:DAYLIGHT
BEGIN:STANDARD
TZOFFSETFROM:+0200
TZOFFSETTO:+0100
TZNAME:CET
DTSTART:20251026T010000
END:STANDARD
END:VTIMEZONE
BEGIN:VEVENT
DTSTART;VALUE=DATE:20240725
DTEND;VALUE=DATE:20240810
DTSTAMP:20260420T061621
CREATED:20240716T112810Z
LAST-MODIFIED:20240716T112811Z
UID:231331-1721865600-1723247999@www.niebywalesuwalki.pl
SUMMARY:11. Suwalskie Teatr-Akcje 2024 „Powroty do domu”
DESCRIPTION:11. Suwalskie Teatr-Akcje 2024 „Powroty do domu” – PROGRAM \nNa niektóre spektakle i pokazy obowiązują wejściówki do odbioru w miejscu wydarzenia na godzinę przed rozpoczęciem. \n25.07. (CZWARTEK) \n   18:00 „Showtime” – Teatr Form Czarno-Białych “Plama”\, reż. M. Krymska (PREMIERA) \n   Sala Kameralna SOK\, ul. Jana Pawła II 5 (wejściówki) \n26.07. (PIĄTEK) \n   15:00 Performensy Miejskie – reż. Oskar Pawełko (PREMIERA) \n   dawne Kino Bałtyk\, ul. Kościuszki 24 \n   18:00 Kino Teatr-Akcjowe – „Obrzęd\, atak\, jazda” (16+) – Oskar Pawełko\, Weronika Wasilewska \n   Sala Kameralna SOK\, ul. Jana Pawła II 5 (wejściówki) \n   19:00 Przegadajmy to! Rozmowa z artystami \n   Sala Kameralna SOK\, ul. Jana Pawła II 5 \n27.07. (SOBOTA) \n   18:00 „Wiwisekcja” – reż. Joanna Rutkowska \n   Sala Granatowa SOK\, ul. Noniewicza 71 (wejściówki) \n   19:00 Impro Show – prowadzenie: Joanna Lewoc \n   Sala Granatowa SOK\, ul. Noniewicza 71 (wejściówki) \n   20:00 Przegadajmy to! Rozmowa z artystami \n   Dom Festiwalowy\, ul. Chłodna 1 \n28.07. (NIEDZIELA) \n  13:00 spektakl dla dzieci “Przygoda Alladyna” (3-9) – Katarzyna Wyrzykowska \n   PIU – Centrum Aktywności i Arteterapii\, ul. Noniewicza 79 c (wejściówki) \n   13:50 Domowe przedszkole – gry integracyjne dla dzieci \n   PIU – Centrum Aktywności i Arteterapii\, ul. Noniewicza 79 c \n   18:00 „Powroty” – reż. Paweł Urbanowicz (PREMIERA) \n   Dawne Kino Bałtyk\, ul. Kościuszki 24 \n29.07. (PONIEDZIAŁEK) \n   18:00 „Żyjesz naprawdę w innym świecie” – Hubert Fiebig\, Daniel Namiotko\, Jagoda Stanicka \n   Sala Kameralna SOK\, ul. Jana Pawła II 5 (wejściówki) \n   19:00 Przegadajmy to! Rozmowa z artystami \n   Sala Kameralna SOK\, ul. Jana Pawła II 5 \n30.07. (WTOREK) \n   16:00 Akcja teatralna „Stoły” – kreacja zbiorowa \n   ul. Chłodna \n   18:00 performens „Don Lis” (16+) – Radosław Lis \n   podwórko przy ul. Daszyńskiego 1 w Suwałkach \n   19:00 Przegadajmy to! Rozmowa z twórcą \n   podwórko przy ul. Daszyńskiego 1 w Suwałkach \n31.07. (ŚRODA) \n   18:00 „Schwarzcharakterki” (16+) – reż. Julia Mark \n   Sala Granatowa SOK\, ul. Noniewicza 71 (wejściówki) \n   19:30 Kino Teatr-Akcjowe – „Królestwo za konia” – reż. Grzegorz Falkowski \n   Dom Festiwalowy\, ul. Chłodna 1 \n   21:00 Przegadajmy to! Rozmowa z artystami \n   Dom Festiwalowy\, ul. Chłodna 1 \n01.08. (CZWARTEK) \n   19:00 Slam Freak Night – prowadzenie: Paweł Bydelski \n   Bulwary obok Galerii Sztuki Stara Łaźnia\, ul. Wajdy 3 \n   20:00 Koncert Rusty Dusty Rock Band \n   Bulwary obok Galerii Sztuki Stara Łaźnia\, ul. Wajdy 3 \n02.08. (PIĄTEK) \n   18:00 „Życie Beztlenowe” – Suwalski Klub Seniora\, reż. Krzysztof Rudowicz \n   Sala Granatowa SOK\, ul. Noniewicza 71 (wejściówki) \n   20:00 Przegadajmy to! Rozmowa z artystami \n   Dom Festiwalowy\, ul. Chłodna 1 \n   20:30 Panel dyskusyjny „Wypalenie zawodowe pracowników kultury” – prowadzenie: Pamela Leończyk \n   Dom Festiwalowy\, ul. Chłodna 1 \n03.08. (SOBOTA) \n  18:00 spektakl familijny „Noe” (9+) – Adam Walny \n   dziedziniec Muzeum im. Marii Konopnickiej\, ul. Kościuszki 31 \n04.08. (NIEDZIELA) \n   13:00 spektakl dla dzieci „Przygody Kropli Wody” (3+) – Adam Walny \n   łąka nad Czarną Hańczą obok Galerii Sztuki Stara Łaźnia\, ul. Wajdy 3 \n   14.00 chodzenie na szczudłach – warsztaty dla dzieci (5-12) \n   łąka nad Czarną Hańczą obok Galerii Sztuki Stara Łaźnia\, ul. Wajdy 3 \n05.08. (PONIEDZIAŁEK) \n   18:00 „Wszystko się chwieje według Mistrza Ildefonsa” – Teatr Hybrydowy\, reż. M. Krymska \n   Sala Kameralna SOK\, ul. Jana Pawła II 5 (wejściówki) \n   20:30 Panel dyskusyjny „Powroty do domu” \n   Dom Festiwalowy\, ul. Chłodna 1 \n06.08. (WTOREK) \n   18:00 etiudy studentów Akademii Teatralnej – Filii w Białymstoku (16+) \n   Sala Granatowa SOK\, ul. Noniewicza 71 (wejściówki) \n   20:00 Przegadajmy to! Rozmowa z artystami \n   Dom Festiwalowy\, ul. Chłodna 1 \n07.08. (ŚRODA) \n  20:00 „Kamień na kamieniu” – Teatr Baza \n   Kaczy Dołek\, ul. Ogińskiego \n   21:30 GORE – taniec z ogniem \n   Kaczy Dołek\, ul. Ogińskiego \n08.08. (CZWARTEK) \n   17.00 Pokaz powarsztatowy – prowadzenie: Karolina Gorton \n   sala prób SOK\, ul. Jana Pawła II 5 \n   19:00 Koncert zespołu Same Baby \n   Dom Festiwalowy\, ul. Chłodna 1 \n   20:00 Kino Teatr-Akcjowe – najlepsze momenty w historii festiwalu i Teatru “Plama” \n   Dom Festiwalowy\, ul. Chłodna 1 \n09.08. (PIĄTEK) \n   18:00 „DOM z powyłamywanymi nogami” – Teatr Hybrydowy (PREMIERA) \n   Sala Kameralna SOK\, ul. Jana Pawła II 5 (wejściówki)
URL:https://www.niebywalesuwalki.pl/wydarzenie/11-suwalskie-teatr-akcje-2024-powroty-do-domu/
LOCATION:Suwałki\, skrzyżowanie ul. Utrata i Przytorowa\, Suwałki\, Polska
END:VEVENT
BEGIN:VEVENT
DTSTART;VALUE=DATE:20240726
DTEND;VALUE=DATE:20240729
DTSTAMP:20260420T061621
CREATED:20240726T085030Z
LAST-MODIFIED:20240726T085031Z
UID:231673-1721952000-1722211199@www.niebywalesuwalki.pl
SUMMARY:25-lecie poświęcenia pomnika w Burniszkach
DESCRIPTION:
URL:https://www.niebywalesuwalki.pl/wydarzenie/25-lecie-poswiecenia-pomnika-w-burniszkach/
LOCATION:Burniszki\, Burniszki\, Poland
ATTACH;FMTTYPE=image/jpeg:https://www.niebywalesuwalki.pl/wp-content/uploads/2024/07/parafia.jpg
END:VEVENT
BEGIN:VEVENT
DTSTART;TZID=Europe/Warsaw:20240726T103000
DTEND;TZID=Europe/Warsaw:20240726T140000
DTSTAMP:20260420T061621
CREATED:20240724T095629Z
LAST-MODIFIED:20240724T095629Z
UID:231563-1721989800-1722002400@www.niebywalesuwalki.pl
SUMMARY:Zawody w wakeboardzie Wake Cup 2024 w WOSiR Szelment
DESCRIPTION:Zawodnicy zmierzą się w dwóch konkurencjach: \n·         BEST LAP – uczestnicy mają dwa okrążenia\, aby zaprezentować swoje najlepsze triki na dowolnych przeszkodach \nOdbędzie się ono w dwóch kategoriach wiekowych: kategoria do 16 roku życia oraz kategoria 16+. \n·         BEST TRICK ON KICKER – najlepszy trik wykonany na kickerze M . \nKategoria OPEN – wszyscy uczestnicy zmierzą się w jednej kategorii. \nWstęp WOLNY.
URL:https://www.niebywalesuwalki.pl/wydarzenie/zawody-w-wakeboardzie-wake-cup-2024-w-wosir-szelment/
LOCATION:WOSiR „Szelment”\, Szelment\, Polska
END:VEVENT
BEGIN:VEVENT
DTSTART;TZID=Europe/Warsaw:20240726T180000
DTEND;TZID=Europe/Warsaw:20240726T190000
DTSTAMP:20260420T061621
CREATED:20240603T083020Z
LAST-MODIFIED:20240717T133441Z
UID:228934-1722016800-1722020400@www.niebywalesuwalki.pl
SUMMARY:Otwarcie wystawy "VI Salon Sztuki" w Suwałkach
DESCRIPTION:Suwalski Salon Sztuki to swego rodzaju przegląd aktualnych dokonań czynnych twórczo artystów związanych z naszym regionem. Na wystawie zobaczymy prace autorstwa 36 artystów. Prezentowane techniki to: malarstwo\, ilustracja\, rysunek\, grafika warsztatowa\, grafika komputerowa\, rzeźba\, instalacja\, fotografia.\nEkspozycję można oglądać do 13 października 2024.
URL:https://www.niebywalesuwalki.pl/wydarzenie/otwarcie-wystawy-vi-salon-sztuki-w-suwalkach/
LOCATION:Galeria Chłodna 20\, Noniewicza 71\, Suwałki\, 16-400\, Polska
ATTACH;FMTTYPE=image/jpeg:https://www.niebywalesuwalki.pl/wp-content/uploads/2024/06/muzyczne_perly.jpeg
END:VEVENT
BEGIN:VEVENT
DTSTART;TZID=Europe/Warsaw:20240726T180000
DTEND;TZID=Europe/Warsaw:20240726T190000
DTSTAMP:20260420T061621
CREATED:20240722T135153Z
LAST-MODIFIED:20240722T135154Z
UID:231536-1722016800-1722020400@www.niebywalesuwalki.pl
SUMMARY:Otwarcie wystawy "Alfred Wierusz-Kowalski i wilki" w Muzeum Okręgowym w Suwałkach
DESCRIPTION:Będzie o wilku w twórczości Alfreda Wierusza-Kowalskiego. A przy okazji opowieść o wilku\, jego naturze\, dzikości i zwyczajach.\nZapraszam\n26 lipca 2024 r.\, godz. 18.00\nul. T. Kościuszki 81 (Resursa)\nMuzeum Okręgowe w Suwałkach
URL:https://www.niebywalesuwalki.pl/wydarzenie/otwarcie-wystawy-alfred-wierusz-kowalski-i-wilki-w-muzeum-okregowym-w-suwalkach/
LOCATION:Muzeum Okręgowe\, Kościuszki 81\, Suwałki\, 16-400\, Polska
ATTACH;FMTTYPE=image/jpeg:https://www.niebywalesuwalki.pl/wp-content/uploads/2024/07/wilki-Sredni.jpeg
END:VEVENT
BEGIN:VEVENT
DTSTART;TZID=Europe/Warsaw:20240726T203000
DTEND;TZID=Europe/Warsaw:20240726T220000
DTSTAMP:20260420T061621
CREATED:20240515T133448Z
LAST-MODIFIED:20240515T133448Z
UID:227980-1722025800-1722031200@www.niebywalesuwalki.pl
SUMMARY:Granie w Bramie: Iga Posta – koncert w Augustowie
DESCRIPTION:Iga Posta – koncert\n26 lipca 2024r. 20:30 \nAugustowskie Placówki Kultury serdecznie zapraszają na kolejne wydarzenie z cyklu Granie w Bramie. Tym razem\, w podwórzu* Miejskiego Domu Kultury (Rynek Zygmunta Augusta 9\, wejście przez bramę od strony Rynku lub od ul. Kościelnej) zagra Iga Posta. \nIga to polska artystka tworząca i rezydująca na co dzień w słonecznej Italii\, nieopodal Mediolanu. Jej sound można opisać jako alternatywny pop\, unikalny mix ciemnych brzmień\, reggaetonu i elektroniki. Córka skrzypaczki i artystki Teatru Śląskiego. Artystka wyjechała do Włoch jako nastolatka w ślad za mamą\, performerką uliczną\, która wprowadziła córkę w fascynujący świat muzyki na żywo. W wieku dwunastu lat\, zaczęła występować na włoskich ulicach solo z gitarą. Wychowywała się w multikulturowej rodzinie w której doświadczyła różnych sztuk ekspresji artystycznej wywodzącej się od Nepalu\, przez Australię\, aż po Brazylię. Jako czternastolatka rozpoczyna współpracę ze swoim obecnym producentem Francesco Terrana\, który wprowadza ją także w świat produkcji muzycznej. Efektem ich wspólnych muzycznych poszukiwań są “Pazury”- pierwszy singiel po polsku\, który trafia od razu na oficjalną playlistę Spotify “New Music Friday Poland” Po “Pazurach” Iga wydaje również “Zodiak”\, który zostaje umieszczony na światowej playliście Spotify- Equal Global. \nObecnie Iga krąży między Rzymem a północą Włoch\, rozwijając się muzycznie i grając swoje piosenki po polsku\, angielsku i włosku na ulicach różnych miast. Już niedługo zawita i do Augustowa. Obiecujemy wspaniałą atmosferę i świetną muzykę – serdecznie zapraszamy! \nObiecujemy wspaniałą atmosferę i świetną muzykę – serdecznie zapraszamy! \nWstęp wolny. \n*W razie niesprzyjających warunków atmosferycznych wydarzenie będzie przeniesione na inny termin
URL:https://www.niebywalesuwalki.pl/wydarzenie/granie-w-bramie-iga-posta-koncert-w-augustowie/
LOCATION:Augustowskie Placówki Kultury – Miejski Dom Kultury\, Rynek Zygmunta Augusta\, Augustów\, Polska
END:VEVENT
END:VCALENDAR