BEGIN:VCALENDAR
VERSION:2.0
PRODID:-//Niebywałe Suwałki - ECPv6.15.20//NONSGML v1.0//EN
CALSCALE:GREGORIAN
METHOD:PUBLISH
X-ORIGINAL-URL:https://www.niebywalesuwalki.pl
X-WR-CALDESC:Wydarzenia dla Niebywałe Suwałki
REFRESH-INTERVAL;VALUE=DURATION:PT1H
X-Robots-Tag:noindex
X-PUBLISHED-TTL:PT1H
BEGIN:VTIMEZONE
TZID:Europe/Warsaw
BEGIN:DAYLIGHT
TZOFFSETFROM:+0100
TZOFFSETTO:+0200
TZNAME:CEST
DTSTART:20230326T010000
END:DAYLIGHT
BEGIN:STANDARD
TZOFFSETFROM:+0200
TZOFFSETTO:+0100
TZNAME:CET
DTSTART:20231029T010000
END:STANDARD
BEGIN:DAYLIGHT
TZOFFSETFROM:+0100
TZOFFSETTO:+0200
TZNAME:CEST
DTSTART:20240331T010000
END:DAYLIGHT
BEGIN:STANDARD
TZOFFSETFROM:+0200
TZOFFSETTO:+0100
TZNAME:CET
DTSTART:20241027T010000
END:STANDARD
BEGIN:DAYLIGHT
TZOFFSETFROM:+0100
TZOFFSETTO:+0200
TZNAME:CEST
DTSTART:20250330T010000
END:DAYLIGHT
BEGIN:STANDARD
TZOFFSETFROM:+0200
TZOFFSETTO:+0100
TZNAME:CET
DTSTART:20251026T010000
END:STANDARD
END:VTIMEZONE
BEGIN:VEVENT
DTSTART;VALUE=DATE:20240725
DTEND;VALUE=DATE:20240810
DTSTAMP:20260420T103319
CREATED:20240716T112810Z
LAST-MODIFIED:20240716T112811Z
UID:231331-1721865600-1723247999@www.niebywalesuwalki.pl
SUMMARY:11. Suwalskie Teatr-Akcje 2024 „Powroty do domu”
DESCRIPTION:11. Suwalskie Teatr-Akcje 2024 „Powroty do domu” – PROGRAM \nNa niektóre spektakle i pokazy obowiązują wejściówki do odbioru w miejscu wydarzenia na godzinę przed rozpoczęciem. \n25.07. (CZWARTEK) \n   18:00 „Showtime” – Teatr Form Czarno-Białych “Plama”\, reż. M. Krymska (PREMIERA) \n   Sala Kameralna SOK\, ul. Jana Pawła II 5 (wejściówki) \n26.07. (PIĄTEK) \n   15:00 Performensy Miejskie – reż. Oskar Pawełko (PREMIERA) \n   dawne Kino Bałtyk\, ul. Kościuszki 24 \n   18:00 Kino Teatr-Akcjowe – „Obrzęd\, atak\, jazda” (16+) – Oskar Pawełko\, Weronika Wasilewska \n   Sala Kameralna SOK\, ul. Jana Pawła II 5 (wejściówki) \n   19:00 Przegadajmy to! Rozmowa z artystami \n   Sala Kameralna SOK\, ul. Jana Pawła II 5 \n27.07. (SOBOTA) \n   18:00 „Wiwisekcja” – reż. Joanna Rutkowska \n   Sala Granatowa SOK\, ul. Noniewicza 71 (wejściówki) \n   19:00 Impro Show – prowadzenie: Joanna Lewoc \n   Sala Granatowa SOK\, ul. Noniewicza 71 (wejściówki) \n   20:00 Przegadajmy to! Rozmowa z artystami \n   Dom Festiwalowy\, ul. Chłodna 1 \n28.07. (NIEDZIELA) \n  13:00 spektakl dla dzieci “Przygoda Alladyna” (3-9) – Katarzyna Wyrzykowska \n   PIU – Centrum Aktywności i Arteterapii\, ul. Noniewicza 79 c (wejściówki) \n   13:50 Domowe przedszkole – gry integracyjne dla dzieci \n   PIU – Centrum Aktywności i Arteterapii\, ul. Noniewicza 79 c \n   18:00 „Powroty” – reż. Paweł Urbanowicz (PREMIERA) \n   Dawne Kino Bałtyk\, ul. Kościuszki 24 \n29.07. (PONIEDZIAŁEK) \n   18:00 „Żyjesz naprawdę w innym świecie” – Hubert Fiebig\, Daniel Namiotko\, Jagoda Stanicka \n   Sala Kameralna SOK\, ul. Jana Pawła II 5 (wejściówki) \n   19:00 Przegadajmy to! Rozmowa z artystami \n   Sala Kameralna SOK\, ul. Jana Pawła II 5 \n30.07. (WTOREK) \n   16:00 Akcja teatralna „Stoły” – kreacja zbiorowa \n   ul. Chłodna \n   18:00 performens „Don Lis” (16+) – Radosław Lis \n   podwórko przy ul. Daszyńskiego 1 w Suwałkach \n   19:00 Przegadajmy to! Rozmowa z twórcą \n   podwórko przy ul. Daszyńskiego 1 w Suwałkach \n31.07. (ŚRODA) \n   18:00 „Schwarzcharakterki” (16+) – reż. Julia Mark \n   Sala Granatowa SOK\, ul. Noniewicza 71 (wejściówki) \n   19:30 Kino Teatr-Akcjowe – „Królestwo za konia” – reż. Grzegorz Falkowski \n   Dom Festiwalowy\, ul. Chłodna 1 \n   21:00 Przegadajmy to! Rozmowa z artystami \n   Dom Festiwalowy\, ul. Chłodna 1 \n01.08. (CZWARTEK) \n   19:00 Slam Freak Night – prowadzenie: Paweł Bydelski \n   Bulwary obok Galerii Sztuki Stara Łaźnia\, ul. Wajdy 3 \n   20:00 Koncert Rusty Dusty Rock Band \n   Bulwary obok Galerii Sztuki Stara Łaźnia\, ul. Wajdy 3 \n02.08. (PIĄTEK) \n   18:00 „Życie Beztlenowe” – Suwalski Klub Seniora\, reż. Krzysztof Rudowicz \n   Sala Granatowa SOK\, ul. Noniewicza 71 (wejściówki) \n   20:00 Przegadajmy to! Rozmowa z artystami \n   Dom Festiwalowy\, ul. Chłodna 1 \n   20:30 Panel dyskusyjny „Wypalenie zawodowe pracowników kultury” – prowadzenie: Pamela Leończyk \n   Dom Festiwalowy\, ul. Chłodna 1 \n03.08. (SOBOTA) \n  18:00 spektakl familijny „Noe” (9+) – Adam Walny \n   dziedziniec Muzeum im. Marii Konopnickiej\, ul. Kościuszki 31 \n04.08. (NIEDZIELA) \n   13:00 spektakl dla dzieci „Przygody Kropli Wody” (3+) – Adam Walny \n   łąka nad Czarną Hańczą obok Galerii Sztuki Stara Łaźnia\, ul. Wajdy 3 \n   14.00 chodzenie na szczudłach – warsztaty dla dzieci (5-12) \n   łąka nad Czarną Hańczą obok Galerii Sztuki Stara Łaźnia\, ul. Wajdy 3 \n05.08. (PONIEDZIAŁEK) \n   18:00 „Wszystko się chwieje według Mistrza Ildefonsa” – Teatr Hybrydowy\, reż. M. Krymska \n   Sala Kameralna SOK\, ul. Jana Pawła II 5 (wejściówki) \n   20:30 Panel dyskusyjny „Powroty do domu” \n   Dom Festiwalowy\, ul. Chłodna 1 \n06.08. (WTOREK) \n   18:00 etiudy studentów Akademii Teatralnej – Filii w Białymstoku (16+) \n   Sala Granatowa SOK\, ul. Noniewicza 71 (wejściówki) \n   20:00 Przegadajmy to! Rozmowa z artystami \n   Dom Festiwalowy\, ul. Chłodna 1 \n07.08. (ŚRODA) \n  20:00 „Kamień na kamieniu” – Teatr Baza \n   Kaczy Dołek\, ul. Ogińskiego \n   21:30 GORE – taniec z ogniem \n   Kaczy Dołek\, ul. Ogińskiego \n08.08. (CZWARTEK) \n   17.00 Pokaz powarsztatowy – prowadzenie: Karolina Gorton \n   sala prób SOK\, ul. Jana Pawła II 5 \n   19:00 Koncert zespołu Same Baby \n   Dom Festiwalowy\, ul. Chłodna 1 \n   20:00 Kino Teatr-Akcjowe – najlepsze momenty w historii festiwalu i Teatru “Plama” \n   Dom Festiwalowy\, ul. Chłodna 1 \n09.08. (PIĄTEK) \n   18:00 „DOM z powyłamywanymi nogami” – Teatr Hybrydowy (PREMIERA) \n   Sala Kameralna SOK\, ul. Jana Pawła II 5 (wejściówki)
URL:https://www.niebywalesuwalki.pl/wydarzenie/11-suwalskie-teatr-akcje-2024-powroty-do-domu/
LOCATION:Suwałki\, skrzyżowanie ul. Utrata i Przytorowa\, Suwałki\, Polska
END:VEVENT
BEGIN:VEVENT
DTSTART;VALUE=DATE:20240806
DTEND;VALUE=DATE:20240811
DTSTAMP:20260420T103319
CREATED:20240805T102033Z
LAST-MODIFIED:20240805T102033Z
UID:232058-1722902400-1723334399@www.niebywalesuwalki.pl
SUMMARY:XXXI Międzynarodowy Festiwal Organowy Młodych Iuniores Priores Organorium Sejnensis w Sejnach
DESCRIPTION:Zapraszamy na XXXI Międzynarodowy Festiwal Organowy Młodych Iuniores Priores Organorium Sejnensis w dniach 06-10 sierpnia 2024 r. w Bazylice Sejneńskiej\nProgram:\n06.08.2024 r. (wtorek)\n10:00 Kurs mistrzowski – Prof. Julian Gembalski17:30 Msza św. w intencji uczestników19:00 Koncert inauguracyjny – Prof. Julian Gembalski i juniores\n07.08.2024 r. (środa)\n10:00 Kurs mistrzowski – Prof. Martin Schmeding (Niemcy)19:00 Recital organowy – Prof. Martin SchmedingProgram:Feliks Mendelssohn-Bartholdy – Uwertura „Hybrydy” op. 26 (opr. M. Schmeding)Franz Schmidt – Chorał „O\, wie selig seid ihr doch\, ihr Frommen”– Preludium i fuga D-durAugust Gottfried Ritter – II Sonata e-moll op. 19Siegfried Karg-Elert – Osiem krótkich utworów op. 154Percy Whitlock – ScherzettoMax Reger – Fantazja chorałowa „Ein feste Burg”\n08.08.2024 r. (czwartek)\n10:00 Kurs mistrzowski – Prof. Martin Schmeding19:00 Koncert uczestników festiwalu\n09.08.2024 r. (piątek)\n10:00 Kurs mistrzowski – Prof. Julian Gembalski19:00 Koncert – Prof. Józef Serafin i juniores\n10.08.2024 r. (sobota)\n10:00 Kurs mistrzowski – Prof. Jarosław Wróblewski19:00 Koncert- Prof. Jarosław Wróblewski i juniores\nZadanie publiczne pn. XXXI Międzynarodowy Festiwal Organowy Młodych „Iuniores Priores Organorium Sejnensis” jest współfinansowane ze środków Województwa Podlaskiego
URL:https://www.niebywalesuwalki.pl/wydarzenie/xxxi-miedzynarodowy-festiwal-organowy-mlodych-iuniores-priores-organorium-sejnensis-w-sejnach/
LOCATION:Bazylika w Sejnach\, Sejny\, Polska
END:VEVENT
BEGIN:VEVENT
DTSTART;TZID=Europe/Warsaw:20240808T100000
DTEND;TZID=Europe/Warsaw:20240808T140000
DTSTAMP:20260420T103319
CREATED:20240802T081914Z
LAST-MODIFIED:20240802T081915Z
UID:232002-1723111200-1723125600@www.niebywalesuwalki.pl
SUMMARY:Wielki Dzień Pszczół w Krzywem
DESCRIPTION:
URL:https://www.niebywalesuwalki.pl/wydarzenie/wielki-dzien-pszczol-w-krzywem/
LOCATION:Siedziba WPN\, Krzywe 82\, Polska
ATTACH;FMTTYPE=image/jpeg:https://www.niebywalesuwalki.pl/wp-content/uploads/2024/08/dzienpszczol.jpg
END:VEVENT
BEGIN:VEVENT
DTSTART;TZID=Europe/Warsaw:20240808T180000
DTEND;TZID=Europe/Warsaw:20240808T190000
DTSTAMP:20260420T103319
CREATED:20240805T101942Z
LAST-MODIFIED:20240805T101942Z
UID:232057-1723140000-1723143600@www.niebywalesuwalki.pl
SUMMARY:Spotkanie z reporterką Anetą Prymaką-Oniszk w Krasnogrudzie
DESCRIPTION:Zapraszamy do Dworu Miłosza do Krasnogrudy na spotkanie z reporterką Anetą Prymaką-Oniszk\, autorką książek „Bieżeństwo 1915” i „Kamienie musiały polecieć”. Rozmowę poprowadzi Krzysztof Czyżewski.\n8 sierpnia 2024 (czwartek)godz. 18:00Kawiarnia „Piosenka o porcelanie”\, Dwór Miłosza w Krasnogrudziewstęp wolny\n\n—–\nO autorce:Aneta Prymaka-Oniszk – reporterka. Publikowała m.in. w „Gazecie Wyborczej”\, „Polityce”\, „National Geographic”\, magazynie „Pismo” i kwartalniku „Karta”. Autorka książki Bieżeństwo 1915. Zapomniani uchodźcy uhonorowanej Nagrodą Literacką im. Wiesława Kazaneckiego oraz tytułem „Książki Roku” Warszawskiej Premiery Literackiej. Była również nominowana do Nagrody im. Ryszarda Kapuścińskiego\, Nagrody Literackiej m.st. Warszawy\, Nagrody Historycznej „Polityki” i Nagrody Historycznej im. Kazimierza Moczarskiego. Jest współautorką zbiorów Białoruś. Ojczyzna dobrej jakości oraz Ludowa historia kobiet. Współuczestniczyła w tworzeniu Centrum Nauki Kopernik. Prowadzi stronę internetową biezenstwo.pl. (źródło: czarne.com.pl)\n——\nAutorka o książce „Kamienie musiały polecieć”:O tym\, że mój dziadek został zastrzelony w maju 1945 roku w swoim domu pod Kuźnicą\, wiedziałam od zawsze. Przez „bandę”\, dodawano ściszonym głosem. Nie kazano o tym milczeć\, ale rozumiałam\, że tak trzeba.Kiedy po latach postanowiłam poznać lepiej tę historię\, długo kluczyłam obok. „Nie rozdrapuj starych ran”\, słyszałam. Tylko że przeszłość służy często do rozgrywania teraźniejszości\, rozdaje etykietki bohaterów i zdrajców\, a za „dowód winy” uznaje nieraz fakt\, że ktoś został zabity. Zaczęłam więc wsłuchiwać się uważniej w rodzinną opowieści\, zaglądałam do archiwów\, wertowałam książki\, przyglądałam się okolicznym pomnikom. Poszłam też do sąsiadów z „drugiej strony” pogranicznych podziałów\, tą reporterską zasadą łamiąc tutejszy zwyczaj przemilczania trudnej przeszłości.Powstała historia o pogranicznym sąsiedztwie\, o wspólnym życiu\, a może życiu obok siebie? O tym\, że jedni występują czasem przeciwko drugim\, a potem wciąż żyją obok\, w pozornej niepamięci. Dzieci siedzą razem w szkolnych ławkach i dzielą się na przerwach kanapką. Tylko ciocia Luda drży ze strachu\, by nikt nie odkrył\, że wśród nocnych napastników rozpoznała brata koleżanki.Nie chodziło mi o rzucanie oskarżeń\, tylko o zrozumienie i opowiedzenie tego\, co się stało osiemdziesiąt lat temu oraz co wokół tego dzieje się dziś. „Czy ta opowieść coś zmieni?”\, słyszę nieraz. Nie wiem. Trudno zmienić świat. Ale może by proces mógł ruszyć\, trzeba usłyszeć innych\, ale przede siebie i swoją historię?
URL:https://www.niebywalesuwalki.pl/wydarzenie/spotkanie-z-reporterka-aneta-prymaka-oniszk-w-krasnogrudzie/
LOCATION:Dwór Miłosza – Kawiarnia Piosenka  o porcelanie\, Krasnogruda\, Polska
END:VEVENT
BEGIN:VEVENT
DTSTART;TZID=Europe/Warsaw:20240808T180000
DTEND;TZID=Europe/Warsaw:20240808T200000
DTSTAMP:20260420T103319
CREATED:20240628T125346Z
LAST-MODIFIED:20240628T125346Z
UID:230157-1723140000-1723147200@www.niebywalesuwalki.pl
SUMMARY:Sejneńskie Spotkania z Nauką: Promieniowanie w służbie medycyny
DESCRIPTION:Przebywający na wakacjach na Suwalszczyźnie fizycy\, biolodzy i humaniści\, głównie z warszawskich uczelni i ośrodków naukowych\, będą w każdy czwartek dzielić się z Państwem swoim oczarowaniem nauką i opowiadać o tajemnicach atomu i Wszechświata\, zagadkach kodu genetycznego\, sekretach mikroorganizmów\, tajemnicach dawnych cywilizacji czy wreszcie o najnowszych urządzeniach badawczych świata i o wyzwaniach technologii komputerowych. Wykłady będą miały charakter popularny\, a po każdym z nich będzie czas na pytania i dyskusje. Nie trzeba żadnego specjalnego wykształcenia ścisłego aby móc przeżyć wspaniały wieczór\, wiele się dowiedzieć i poznać ciekawych ludzi.Spotkania odbywają się w Sejnach\, w Ośrodku Kultury (sala kinowa)\, ul. 1 Maja 17\,\n\n8 sierpnia: dr Adrianna Tartas\, Wydział Fizyki\, Uniwersytet Warszawski \,\,Promieniowanie w służbie medycyny”\n22 sierpnia: prof. Wiktor Kotowski\, Wydział Biologii\, Uniwersytet Warszawski \,\,Tajemnice mokradeł”\n29 sierpnia: prof. Agnieszka Korgul\, Wydział Fizyki\, Uniwersytet Warszawski \,\,Nie bójmy się elektrowni jądrowej”\nWSTĘP WOLNY!
URL:https://www.niebywalesuwalki.pl/wydarzenie/sejnenskie-spotkania-z-nauka-promieniowanie-w-sluzbie-medycyny/
LOCATION:Ośrodek Kultury w Sejnach\, Sejny\, Polska
END:VEVENT
BEGIN:VEVENT
DTSTART;TZID=Europe/Warsaw:20240808T190000
DTEND;TZID=Europe/Warsaw:20240808T200000
DTSTAMP:20260420T103319
CREATED:20240805T102148Z
LAST-MODIFIED:20240805T102148Z
UID:232059-1723143600-1723147200@www.niebywalesuwalki.pl
SUMMARY:Koncert "Jazz Band Młynarski Masecki" w Augustowie
DESCRIPTION:Swing\, groove\, rytm tej muzyki i jej czar są jak czasy\, którymi inspiruje się zepół w swojej twórczości – nie do przecenienia.O występ Jazz Band Młynarski Masecki staraliśmy się od dawna.\nWreszcie się udało.A słuchać ich muzyki sami nie chcemy\, dlatego zapraszamy też Państwa.\n„JAZZ-BAND MŁYNARSKI-MASECKI” to zespół grający przedwojenny polski jazz. Wbrew obiegowej opinii\, jazz nie trafił do Polski na falach słuchanego po kryjomu Radia Wolna Europa. Pierwsze polskie jazzowe utwory powstawały już pod koniec lat XX-stych ubiegłego wieku. Wybitni kompozytorzy tacy jak: Henryk Wars\, Jerzy Petersburski czy bracia Artur i Henryk Gold\, zasłuchani w płytach zza oceanu czy z Berlina tworzyli hity na potrzeby filmu\, kabaretów\, teatrów i rewii\, a także na zamówienie coraz liczniejszych wytwórni płytowych takich jak Columbia czy Syrena Record. W ten sposób do 1939 roku powstały tysiące kompozycji i nagrań z udziałem wybitnych instrumentalistów oraz śpiewaków i aktorów. Druga Wojna Światowa przekreśliła życiorysy\, przerwała ciągłość i zakończyła okres „prosperity” młodego polskiego show biznesu\, ale nie bezpowrotnie!\nWybitny pianista Marcin Masecki razem z Janem Emilem Młynarskim powołali do życia zespół odwołujący się do starej tradycji polskich orkiestr jazzowych międzywojnia. W repertuarze Jazz-Bandu znalazły się utwory swingowe\, w większości nieznane. Nie zabraknie też kilku wyjątkowych tang\, z których autorstwa polscy kompozytorzy znani byli na całym świecie. Marcin z Jankiem niejako rekompensują stracone szanse całego pokolenia polskich artystów rozrywkowych\, którzy w rozkwicie prosperity musieli uciekać\, walczyć\, ginąć\, emigrować osierocając polską muzykę rozrywkową w niepowetowany sposób. Aranżacje Marcina i głos Janka nadają całości zupełnie nowy oddech\, czyniąc tę muzykę aktualną i użytkową\, do tańca i wzruszeń.\nJazz Band Młynarski – Masecki:\nJan Emil Młynarski – śpiew\, mandolinaMarcin Masecki – pianino\, aranżer\, dyrektor muzycznyMarcin Markowicz – skrzypceTomasz Duda – saksofonJarosław Bothur – saksofonMichał Fetler – saksofonMaurycy Idzikowski – trąbkaTomasz Dworakowski – puzonPiotr Wróbel – suzafonJerzy Rogiewicz – perkusja\nUWAGA —> info o biletach.Bilety będą do kupienia stacjonarnie w Miejskim Domu Kultury w Augustowie\, Rynek Zygmunta Augusta 9\, przed koncertem w kinie Iskra ORAZ na stronie kupbilecik.pl\nWkrótce podamy informacje kiedy ruszy sprzedaż.Cena biletu – 80złRezerwacje/informacje: 87 6433659 lub 790228560
URL:https://www.niebywalesuwalki.pl/wydarzenie/koncert-jazz-band-mlynarski-masecki-w-augustowie/
LOCATION:Kino Iskra\, Augustów\, Polska
END:VEVENT
END:VCALENDAR