BEGIN:VCALENDAR
VERSION:2.0
PRODID:-//Niebywałe Suwałki - ECPv6.15.20//NONSGML v1.0//EN
CALSCALE:GREGORIAN
METHOD:PUBLISH
X-WR-CALNAME:Niebywałe Suwałki
X-ORIGINAL-URL:https://www.niebywalesuwalki.pl
X-WR-CALDESC:Wydarzenia dla Niebywałe Suwałki
REFRESH-INTERVAL;VALUE=DURATION:PT1H
X-Robots-Tag:noindex
X-PUBLISHED-TTL:PT1H
BEGIN:VTIMEZONE
TZID:Europe/Warsaw
BEGIN:DAYLIGHT
TZOFFSETFROM:+0100
TZOFFSETTO:+0200
TZNAME:CEST
DTSTART:20230326T010000
END:DAYLIGHT
BEGIN:STANDARD
TZOFFSETFROM:+0200
TZOFFSETTO:+0100
TZNAME:CET
DTSTART:20231029T010000
END:STANDARD
BEGIN:DAYLIGHT
TZOFFSETFROM:+0100
TZOFFSETTO:+0200
TZNAME:CEST
DTSTART:20240331T010000
END:DAYLIGHT
BEGIN:STANDARD
TZOFFSETFROM:+0200
TZOFFSETTO:+0100
TZNAME:CET
DTSTART:20241027T010000
END:STANDARD
BEGIN:DAYLIGHT
TZOFFSETFROM:+0100
TZOFFSETTO:+0200
TZNAME:CEST
DTSTART:20250330T010000
END:DAYLIGHT
BEGIN:STANDARD
TZOFFSETFROM:+0200
TZOFFSETTO:+0100
TZNAME:CET
DTSTART:20251026T010000
END:STANDARD
END:VTIMEZONE
BEGIN:VEVENT
DTSTART;VALUE=DATE:20240813
DTEND;VALUE=DATE:20240817
DTSTAMP:20260420T080546
CREATED:20240805T102815Z
LAST-MODIFIED:20240805T102816Z
UID:232064-1723507200-1723852799@www.niebywalesuwalki.pl
SUMMARY:Pamiętanie Miłosz w Sejnach i Krasnogrudzie
DESCRIPTION:W stulecie urodzin Zbigniewa Herberta i dwudziestą rocznicę śmierci Czesława Miłosza zapraszamy do Krasnogrudy.Od 13 do 16 sierpnia\, w przestrzeniach Dworu Miłosza w Krasnogrudzie\, odbywać się będą spotkania\, debaty\, warsztaty i projekcje filmowe poświęcone życiu i twórczości Miłosza i Herberta.\n\nPamiętanie jest żywą formą pamięci. W stulecie urodzin Zbigniewa Herberta i dwudziestą rocznicę śmierci Czesława Miłosza chcemy poprzez pamiętanie raz jeszcze zakorzenić w świecie żywą obecność poetów i ich słów. Sympozjon Pamiętanie: Miłosz – Herbert będzie rodzajem misterium. Kluczową rolę odegrają w nim dwa przenikające się pasma: teatr wierszy (wiersze wybrzmiewające w głośnych odczytaniach) i głosy (debaty\, hermeneutyczny namysł\, komentarze\, rozwinięcia). Każdy dzień Pamiętania będzie miał swój motyw przewodni – inicjowany w porannej debacie i następnie rozwijany w glosach\, w warsztatowych seminariach i rozmowach\, w głośnym czytaniu wierszy\, w projekcjach filmów. Zaplanowaliśmy trzy tematy debat i zarazem wątki przewodnie dni: duchowość wiersza\, poezja jako pamięć\, demony historii. W naszym zamyśle Pamiętanie ma być wsłuchiwaniem się w wiersze\, ma służyć namysłowi. Dlatego ważna jest dla nas równowaga między formułą debaty i glosami jako przedłużeniem debat (do sformułowania tych glos zaprosimy konkretne osoby)\, między esejem mówionym i rozmową\, między próbami zbliżenia się do wierszy (w hermeneutycznym namyśle podczas warsztatowych rozmów) i wierszami\, które wybrzmią w głośnym czytaniu (podczas misterium wierszy w amfiteatrze oraz w ramach małych antologii). Ważne są dla nas również obrazy filmowe\, które zobaczymy i o których będziemy rozmawiać\, a także działania bezpośrednio przekładające pamięć na pamiętanie: Miłosz / kaligrafie oraz Herbert / ślady pamięci.\n\nPROGRAM WYDARZEŃ OTWARTYCH:\n 14 sierpnia (środa)\n duchowość wiersza. Debata z udziałem Krzysztofa Czyżewskiego\, Anny Piwkowskiej\, Joanny Zach\, moderacja: Katarzyna Kuczyńska-Koschany\nDwór Miłosza w Krasnogrudzie\, godz. 10:30\n\n misterium czytania wierszy\nAmfiteatr Niewidzialnego Mostu\, godz. 21:00\n\n 15 sierpnia (czwartek)\n poezja jako pamięć. Debata z udziałem Ireny Grudzińskiej-Gross\, Marka Zaleskiego\, moderacja: Katarzyna Kuczyńska-Koschany\nDwór Miłosza w Krasnogrudzie\, godz. 10:30\n\n bracia: filmy i wiersze. Rozmowa z udziałem Joanny Miłosz-Piekarskiej i Małgorzaty Sporek-Czyżewskiej\nDwór Miłosza w Krasnogrudzie\, godz. 20:30\n\n 16 sierpnia (piątek)\n demony historii. Debata z udziałem Renaty Gorczyńskiej\, Tomasza Makowskiego\, Adama Michnika\, Krzysztofa Pomiana\, Roberta Traby\, moderacja: Katarzyna Kuczyńska-Koschany\nDwór Miłosza w Krasnogrudzie\, godz. 10:30\n\n Herbert. Barbarzyńca w ogrodzie. Projekcja filmu Rafaela Lewandowskiego\, rozmowa z udziałem Krzysztofa Czyżewskiego i Marii Dzieduszyckiej\nDwór Miłosza w Krasnogrudzie\, godz. 20:30\n\n__________________\norganizatorzy: Fundacja Pogranicze i Ośrodek „Pogranicze – sztuk\, kultur\, narodów” w Sejnach\, Fundacja im. Zbigniewa Herberta\, Biblioteka Narodowa\npartner: Pracownia Antropologii Słowa / Ośrodek „Brama Grodzka – Teatr NN” w Lublinie\,\nWydarzenie zorganizowane w ramach obchodów stulecia urodzin Zbigniewa Herberta.\nDofinansowano ze środków Ministra Kultury i Dziedzictwa Narodowego.
URL:https://www.niebywalesuwalki.pl/wydarzenie/pamietanie-milosz-w-sejnach-i-krasnogrudzie/
LOCATION:Sejny\, Krasnogruda\, Sejny\, Krasnogruda\, Polska
ATTACH;FMTTYPE=image/jpeg:https://www.niebywalesuwalki.pl/wp-content/uploads/2023/08/Krasnogruda_Ukraina_0008.jpg
END:VEVENT
BEGIN:VEVENT
DTSTART;VALUE=DATE:20240814
DTEND;VALUE=DATE:20240818
DTSTAMP:20260420T080546
CREATED:20240730T085454Z
LAST-MODIFIED:20240808T115226Z
UID:231896-1723593600-1723939199@www.niebywalesuwalki.pl
SUMMARY:10 Festiwal Patrząc na Wschód w Budzie Ruskiej
DESCRIPTION:Prezentujemy program 10. jubileuszowej edycji Festiwalu Patrząc na Wschód!\n\n\n Gdzie? Buda Ruska 16. Agroturystyka i nie tylko\, nad Czarną Hańczą\n Kiedy? 14-17 sierpnia 2024 r.\n\n\nUWAGA: Możliwość udziału w warsztatach dla dzieci i dorosłych oraz w spacerach przyrodniczych i etnograficznych jest limitowana\n\n\nzapisy na warsztaty i spacery będą prowadzone od 1 sierpnia 2024 r.\n wszelkie szczegóły dotyczące zapisów podane zostaną na stronie patrzacnawschod.pl w zakładce „warsztaty 2024” oraz na naszym Facebooku\n bardzo prosimy o nieuczestniczenie w warsztatach i spacerach\, jeśli nie uzyska się potwierdzenia mailowego bądź sms o zakwalifikowaniu na warsztaty bądź spacery; limity są podyktowane troską o komfort prowadzących i uczestników warsztatów.\n\n\n 14 SIERPNIA (ŚRODA)\n godz. 8.00: pasmo koalicyjne: wolna godzina na obowiązkowe czytanie\ngodz. 9.00: Spacer przyrodniczy z Wiesławem Fałtynowiczem w poszukiwaniu porostów;\ngodz. 10.00: warsztaty przyrodnicze dla dzieci prowadzone przez edukatorki z Wigierskiego Parku Narodowego\n\n\ngodz. 12.30: Kirgistan. Wokół jeziora Issyk-kul. Opowieść i pokaz fotografii Jędrzeja Łukowskiego z biura podróży Szerokie Tory; spotkanie odbywa się w Galerii Fotografii Piotra Malczewskiego\n godz. 14.00: spotkanie z Zofią Piłasiewicz wokół książki Ślad tygrysicy; spotkanie odbywa się w Galerii Fotografii Piotra Malczewskiego\ngodz. 15.30: kulinarna podróż do Japonii: spotkanie z Marcinem Wojtasikiem wokół książki Podróż przez krainę ramenu. Kulinarny przewodnik po Japonii oraz 33 autentyczne przepisy; UWAGA: ze względu na pokaz kulinarny towarzyszący spotkaniu\, odbywa się ono na podwórku Piotra Malczewskiego\ngodz. 17.00: spotkanie z Maciejem Ambrosiewiczem wokół książki Wigry. Opowieści o miejscu utkanym z drzew\, wody\, mgieł i ludzkich pragnień\ngodz. 18.15: spotkanie z Wojciechem Misiukiewiczem wokół książki Wigry. Opowieści o wodach pradawnego jeziora\, kniejach brzegi porastających\, a także o żywocie ludzi\, a zwłaszcza zwierząt pośród polodowcowych wzgórz\, jezior\, lasów i głazowisk krainy Suwalszczyzną zwanej\ngodz. 19.30: Jubileuszowe pasmo Patrząc na Wschód: spotkanie z Wacławem Radziwinowiczem wokół książki Putin. Car Atlantydy\ngodz. 21.00: pokaz filmu pt. Magia Podlasia – Szeptuchy w reżyserii Małgorzaty Szyszki i spotkanie z reżyserką oraz ekspertką Małgorzatą Anną Charyton\n\n\n 15 SIERPNIA (CZWARTEK)\n godz. 8.00: pasmo koalicyjne: wolna godzina na obowiązkowe czytanie\n godz. 10.00: warsztaty ilustratorskie dla dzieci prowadzone przez Martę Taraszkiewicz\ngodz. 10.00: Przy bani. Opowieść o ruskich baniach\, łaźniach i bannikach w wykonaniu Piotra Malczewskiego; miejsce zbiórki: przy bani na łące Piotra Malczewskiego nad Czarną Hańczą\ngodz. 11.00: Tatarzy polscy. Religia i tożsamość. Wykład Karoliny Radłowskiej; wykład odbywa się w Galerii Fotografii Piotra Malczewskiego\ngodz. 12.00: pokaz filmu pt. Tatarska baśń w reżyserii Waldemara Czechowskiego; pokaz filmu odbywa się w Galerii Fotografii Piotra Malczewskiego\ngodz. 13.00: Nad Biebrzą: codzienność i sztuka życia. Wykład Małgorzaty Stanek z Fundacji dla Biebrzy; wykład odbywa się w Galerii Fotografii Piotra Malczewskiego\ngodz. 14.30: spotkanie z Katarzyną Simonienko wokół książki Lasoterapia\, i opowieść o kojącym wpływie lasu\ngodz. 16.00: spotkanie z Tomaszem Związkiem\, Szymonem Jastrzębowskim i Jackiem Markiem wokół książki Puszcza Kampinoska i opowieść o starych drzewach i lesie\ngodz. 17.15: Jubileuszowe pasmo Patrząc na Wschód: Co piszą w Rosji? Spotkanie z Jędrzejem Morawieckim i opowieść o prasówkach\ngodz.\n18.30: spotkanie z Pawłem Średzińskim wokół książki Puszcza Knyszyńska\, tom 2\, i opowieść o lesie\ngodz. 19.45: spotkanie z Anetą Prymaką-Oniszk wokół książki Kamienie musiały polecieć. Wymazywana przeszłość Podlasia\n\n\n 16 SIERPNIA (PIĄTEK)\ngodz. 7.00: spacer z Adamem Zbyrytem do najbliższego gniazda bocianiego i opowieść o gnieździe i jego mieszkańcach;\n godz. 8.00: pasmo koalicyjne: wolna godzina na obowiązkowe czytanie\ngodz. 9.00: Czy to jeszcze Mazury czy już Suwalszczyzna – o atrakcjach pogranicza i nie tylko. Wykład Huberta Górskiego; wykład odbywa się w Galerii Fotografii Piotra Malczewskiego\ngodz. 9.00: warsztaty ilustratorskie dla dzieci prowadzone przez Paulinę Polcyn-Nowacką\ngodz. 10.00: warsztaty ilustratorskie dla dzieci prowadzone przez Martę Taraszkiewicz\ngodz. 10.00: warsztaty przyrodnicze dla dzieci prowadzone przez edukatorki z Wigierskiego Parku Narodowego\ngodz. 11.00: Litwa i Litwini. Jacy są? Jak ich widzimy? Wykład Aleksandry Kuczyńskiej Zonik; wykład odbywa się w Galerii Fotografii Piotra Malczewskiego\ngodz. 12.30: Mongolia. Przyszłość i teraźniejszość. Wykład Jana Rogali; wykład odbywa się w Galerii Fotografii Piotra Malczewskiego\ngodz. 14.00: Karaimi w Polsce i na Litwie. Wykład Marioli Abkowicz; wykład odbywa się w Galerii Fotografii Piotra Malczewskiego\ngodz. 12.30: spotkanie (głównie) dla dzieci i dorosłych (przy okazji) z Magdą Brzezińską i Pauliną Polcyn-Nowacką wokół książki Kim jestem? z tekstem Magdy i ilustracjami Pauliny\ngodz. 13.30: spotkanie z Pauliną Wilk i opowieść o byciu w drodze i podróżowaniu\ngodz. 15.00: spotkanie z Adamem Zbyrytem wokół książki Sensacyjne życie ptaków\ngodz. 16.30: Jubileuszowe pasmo Patrząc na Wschód: spotkanie z Pawłem Reszką wokół książki Stolik z widokiem na Kreml\ngodz. 17.45: spotkanie ze Stasią Budzisz wokół książki Welewetka. Jak znikają Kaszuby\ngodz. 19.15: spotkanie z Dorotą Filipiak wokół książki Nadbuże i Maciejem Cmochem wokół książki Bug\, i dwugłos o ludziach\, zwierzętach i rzece\ngodz. 21.00: koncert auto-ironicznych piosenek z przekazem i klimatem w wykonaniu Remigiusza Olszewskiego\n\n\n 17 SIERPNIA (SOBOTA)\n\n\n godz. 8.00: pasmo koalicyjne: wolna godzina na obowiązkowe czytanie\n\n\ngodz. 9.00-11.00: warsztaty archeologiczne dla dzieci; prowadzenie: Ola i Łukasz Skiendziul; miejsce zbiórki: przy miejscu na ognisko na łące Piotra Malczewskiego nad Czarną Hańczą ( warsztaty mają charakter otwarty\, w każdej chwili można dołączyć\, dzieci i dorośli)\n\n\ngodz. 9.30: Podziemne złoto i skandynawscy goście – geologiczna Suwalszczyzna. Wykład dr. Tomasza Krzywickiego; wykład odbywa się w Galerii Fotografii Piotra Malczewskiego\ngodz. 11.00: Sekretne życie os i pszczół. Wykład Katarzyny Szczepko-Morawiec\, profesora Uniwersytetu Łódzkiego; wykład odbywa się w Galerii Fotografii Piotra Malczewskiego.\n godz. 12.30: Pokaz filmu pt. Rozmowa z kamieniem w reżyserii Waldemara Czechowskiego; pokaz odbywa się w Galerii Fotografii Piotra Malczewskiego\ngodz. 11.00: spacer etnograficzny z Krzysztofem Snarskim śladami staroobrzędowców; zbiórka na podwórku Piotra Malczewskiego przy stoisku wydawnictwa Paśny Buriat\ngodz. 12.45: spotkanie z Anną Romaniuk wokół książki Orzeszkowo 14. Historie z Podlasia\ngodz. 14.00: spotkanie z Mikołajem Gospodarkiem wokół książki Jak poznać Suwalszczyznę?\ngodz. 15.15: spotkanie (głównie) dla dzieci i dorosłych (przy okazji) z Justyną Bednarek wokół książki Cuda nad Rospudą\ngodz. 16.30: spotkanie z Michałem Chomiukiem wokół książki Z puszczy i bagien. Podlaskie opowieści ludowe\ngodz. 17.45: spotkanie z Michałem Skoczkiem wokół książki U Pana Boga przy stole. Suwalszczyzna i opowieść o przysmakach i smakach Suwalszczyzny\ngodz. 19.00: spotkanie z Marcinem Halickim wokół książki W oparach eteru i opowieść o kryminalnej przeszłości Suwalszczyzny\, czyli co kto komu ukradł i dlaczego zabił\ngodz. 20.15: spotkanie z Maxem Cegielskim wokół książki Nazywam się Czogori i Kongo w Polsce. Włóczęgi z Josephem Conradem\ngodz. 21.00: wieczór wspomnień poświęcony Andrzejowi Strumiłło: pokaz filmu w reżyserii Waldemara Czechowskiego pt. Strumiłło – portret artysty\, spotkanie z reżyserem i wspominki do białego rana\, albo i dłużej…\n\n\nProgram lub kolejność spotkań może ulec zmianie.\nDo zobaczenia na Festiwal literacki Patrząc na Wschód w Buda Ruska 16. Agroturystyka i nie tylko!\n\n\nProgram znajdziecie też w wydarzeniu  10. Festiwal literacki Patrząc na Wschód\n\n\nNadal dopinamy budżet\, jeśli możecie wesprzyjcie organizację spotkań nad Czarną Hańczą. Link do zbiórki w komentarzu.\n——————————-\nDofinansowano ze środków Ministra Kultury i Dziedzictwa Narodowego pochodzących z Funduszu Promocji Kultury\noraz zbiórki społecznej.
URL:https://www.niebywalesuwalki.pl/wydarzenie/10-festiwal-patrzac-na-wschod-w-budzie-ruskiej/
LOCATION:Buda Ruska\, Buda Ruska\, Polska
ATTACH;FMTTYPE=image/jpeg:https://www.niebywalesuwalki.pl/wp-content/uploads/2024/07/Buda_Ruska.jpg
END:VEVENT
BEGIN:VEVENT
DTSTART;VALUE=DATE:20240816
DTEND;VALUE=DATE:20240819
DTSTAMP:20260420T080546
CREATED:20240619T101656Z
LAST-MODIFIED:20240619T101657Z
UID:229907-1723766400-1724025599@www.niebywalesuwalki.pl
SUMMARY:4. Festiwal Filmowy Wajda na Nowo w Suwałkach
DESCRIPTION:PROGRAM 4. Festiwalu Filmowego\,\,Wajda na Nowo” 16-18.08.2024 r. \n16.08.2024 r. I dzień (piątek) \n11.00 Szkoła Wajdy Prezentuje „FUGA”\, 2018\, reż. Agnieszka Smoczyńskiej (100′) Kawiarnia artystyczna\, Suwalski Ośrodek Kultury \n17.30 – wernisaż wystawy Andrzeja Pągowskiego „Morgenstern na nowo❞ Patio\, SOK ul. Papieża Jana Pawła II 5 \n18.00 Otwarcie festiwalu Sala im. Andrzeja Wajdy Otwarcie festiwalu z udziałem zaproszonych gości \n•\,\,Jestem postacią fikcyjną”\, reż. Arkadiusz Bartosiak\, (2024) \n•\,\,Nie tylko o miłości” – recital 40-lecia pracy artystycznej Zbigniewa Zamachowskiego \n21.00\,\,Wajda na Wajdzie” Dyrygent\, 1979\, rez Andrzej Wajda\, wyk. Andrzej Seweryn\, Krystyna Janda\, John Gielgud (97′) \n21.00 Kino Plenerowe Rok Czesława Miłosza \,\,Dolina Issy”\, 1982\, reż. Tadeusz Konwicki (102′) Bulwary nad Czarną Hańczą11.08.2024 r. \nII dzień (sobota) \n11.00 Szkoła Wajdy Prezentuje \,\,Pułapka”\, reż. Vitalik Havryla „Viva Maria”\, 2010\, reż. Agnieszka Smoczyńska (17′) Kawiarnia artystyczna\, Suwalski Ośrodek Kultury \n13.00 Pokaz filmów konkursowych Sala Kameralna\, Suwalski Ośrodek Kultury \n17.00\,\,Błazny”\, 2024\, reż. Gabriela Muskała (85′) \nSpotkanie z Gabrielą Muskałą\, Zbigniewem Zamachowskim oraz występującymi w filmie aktorami. Sala im. A. Wajdy\, Suwalski Ośrodek Kultury \n19.30 „Fin del Mundo”\, 2023\, reż. Piotr Dumała (85′) Sala im. A. Wajdy\, Suwalski Ośrodek Kultury \nZ udziałem Piotra Dumały i Gabrieli Muskały \n21.00 Kino Plenerowe \,\,Wajda na Wajdzie” „Pan Tadeusz”\, 1999\, reż. Andrzej Wajda (167′) Zapowiedź Andrzeja Seweryna Bulwary nad Czarną Hańczą \n18.08.2024 III dzień (niedziela) \n11.00 Szkoła Wajdy Prezentuje \,\,Aria Diva”\, 2007\, reż. Agnieszka Smoczyńska (30′) Spotkanie z Gabrielą Muskałą Sala Kameralna \n13.00 „Historia kina w Suwałkach” – spotkanie z dr. Krzysztofem Skłodowskim Kawiarnia artystyczna\, Suwalski Ośrodek Kultury \n18.00 „Liczba doskonała”\, 2022\, reż. Krzysztof Zanussi (87′) Spotkanie z Krzysztofem Zanussim i z Andrzejem Sewerynem Sala im. A. Wajdy\, Suwalski Ośrodek Kultury \n20.00 Gala Finałowa Wręczenie nagród i prezentacja nagrodzonego filmu Sala im. A. Wajdy\, Suwalski Ośrodek Kultury \n\,\,Andrzej Seweryn przedstawia\,\,Dziennik” Witolda Gombrowicza” Sala im. A. Wajdy\, Suwalski Ośrodek Kultury \n22.00 Kino plenerowe „Do widzenia\, do jutra”\, 1960\, reż. Janusz Morgenstern (80′) Bulwary nad Czarną Hańczą
URL:https://www.niebywalesuwalki.pl/wydarzenie/4-festiwal-filmowy-wajda-na-nowo-w-suwalkach/
LOCATION:Suwałki\, skrzyżowanie ul. Utrata i Przytorowa\, Suwałki\, Polska
ATTACH;FMTTYPE=image/jpeg:https://www.niebywalesuwalki.pl/wp-content/uploads/2024/06/wajda.jpg
END:VEVENT
BEGIN:VEVENT
DTSTART;TZID=Europe/Warsaw:20240816T180000
DTEND;TZID=Europe/Warsaw:20240816T190000
DTSTAMP:20260420T080546
CREATED:20240729T113414Z
LAST-MODIFIED:20240729T113414Z
UID:231876-1723831200-1723834800@www.niebywalesuwalki.pl
SUMMARY:Otwarcie wystawy Rysunku Prasowego podczas Active Festival Olecko 2024
DESCRIPTION:Zapraszamy na otwarcie wystawy Rysunku Prasowego podczas Active Festival Olecko 2024.\n16 sierpnia (piątek) 2024\nGodz. 18.00\nGaleria Prawdziwej Sztuki im. A. Legusa (Budynek ROK „MG”\, Plac Wolności 22 w Olecku\, I piętro\, wejście od strony szkoły muzycznej)\nWstęp bezpłatny\nWystawa pokonkursowa składająca się z kilkudziesięciu prac zgłoszonych do VI Konkursu Ogólnopolskiego na Rysunek Prasowy im. Aleksandra Wołosa.\nOgólnopolski konkurs na rysunek prasowy im. Aleksandra Wołosa nagradza autorki i autorów najlepszych prac opublikowanych w danym roku. Celem konkursu jest podkreślenie znaczenia rysunku prasowego\, który może być komentarzem politycznym\, społecznym bądź sportowym. Mogą to być zarówno rysunki satyryczne\, jak opowieści w kształcie krótkiego komiksu czy ilustracje do artykułu prasowego.\nOrganizatorem konkursu jest Warmińsko-Mazurski Oddział Stowarzyszenia Dziennikarzy Polskich w Olsztynie.\nPatronat nad konkursem objęło Muzeum Karykatury im. Eryka Lipińskiego.\nW organizacji pomaga nam Pan Waldemr Rukść\, nasz olecki rysownik. W tym roku praca nadesłana przez Pana Waldemara otrzymał Nagrodę Stowarzyszenia Absolwentów UWM.\nGalerię można odwiedzić w dni robocze\, od poniedziałku do piątku\, w godz. 9.00 – 18.00.\nW VI Ogólnopolskim Konkursie na Rysunek Prasowy im. Aleksandra Wołosa na najlepszy rysunek 2023 roku Nagrodę Główną im. Aleksandra Wołosa otrzymał Mirosław HAJNOS za pracę pt. „Kalkulator” opublikowaną w tygodniku Nie.\nKapituła w składzie: dr Paweł Płoski – przewodniczący\, Zbigniew Piszczako – sekretarz\, oraz członkowie: Paulina Kopestyńska\, Izabela Kowalska-Wieczorek\, Artur Galicki\, Dariusz Pietrzak i Lucjan Wołos po obejrzeniu ponad 200 prac 46 autorów przyznała Nagrody Honorowe dla Anny Domaszewskiej\, Marka Gliwy\, Janka Janowskiego\, Mariusza Podlesia\, Grzegorza Sobczaka oraz Ireneusza Szuniewicza.\nKonkurs organizowany jest przez Warmińsko-Mazurski Oddział Stowarzyszenia Dziennikarzy Polskich pod patronatem Muzeum Karykatury im. Eryka Lipińskiego. Pomysłodawcą i kuratorem konkursu oraz wystaw jest Zbigniew Piszczako.\nJak co roku partnerzy konkursu fundują Nagrody Specjalne\, które otrzymali:\n-Ignacy Malinowski (Nagroda Muzeum Karykatury im. Eryka Lipińskiego)\,\n-Robert Mirowski (Nagroda Stowarzyszenia Polskich Artystów Karykatury)\,\n-Władysław Kuczer (Nagroda Redakcji Bez Wierszówki)\,\n-Marek Kwiatkowski (Nagroda Wojewódzkiej Biblioteki Publicznej w Olsztynie)\,\n-Marcin Bondarowicz (Nagroda Dziekana Wydziału Bioinżynierii Zwierząt UWM)\,\n-Jacek Lanckoroński (Nagroda Wydawnictwa Edytor Wers)\,\n-Waldemar Rukść (Nagroda Stowarzyszenia Absolwentów UWM).\nUczestnicy wystawy: Razem 52 autorów\nMirosław Andrzejewski\, Sławomir Bednarski\, Bartłomiej Belniak\, Mariusz Bocheński\, Marcin Bondarowicz\, Karolina Brataniec\, Henryk Cebula\, Jerzy Czapiewski\, Andrzej Czyczyło\, Daiusz Dąbrowski\, Remek Dąbrowski\, Anna Domaszewska\, Marek Gliwa\, Małgorzata Gnyś\, Michał Graczyk\, Mirosław Hajnos\, Jarosław Hnidziejko\, Janek Jankowski\, Nika Jaworowska-Duchlińska\, Zbigniew Kołaczek\, Lech Kotwicz\, Krzysztof Kowalewicz\, Jarosław Kozłowski\, Władysław Kuczer\, Marek Kwiatkowski\, Jacek Lanckoroński\, Wiesław Lipecki\, Sławomir Makal\, Ignacy Malinowski\, Robert Mirowski\, Marek Mosor\, Mateusz Oleszczak\, Mariusz Podleś\, Czesław Przęzak\, Waldemar Rukść\, Szczepan Sadurski\, Anna Skupińska\, Rafał Skwierawski\, Grzegorz Sobczak\, Mirosław Stankiewicz\, Włodzimierz Stelmaszczyk\, Ireneusz Szuniewicz\, Marcin Treichel\, Robert Trojanowski\, Tomasz Wołoszyn\, Jacek Zabawa.\nPoza konkursem\nAleksander Wołos (patron konkursu)\, Izabela kowalska-Wieczorek\, Artur Galicki\, Paulina Kopestyńska\, Dariusz Pietrzak\, Zbigniew Piszczako.\nOrganizator wystawy: Warmińsko-Mazurski Oddział Stowarzyszenia Dziennikarzy Polskich\, Urząd Miejski w Olecku\, Regionalny Ośrodek Kultury w Olecku „Mazury Garbate”.\nPatronat: Muzeum Karykatury im. Eryka Lipińskiego w Warszawie.\nPartnerzy: Stowarzyszenie Polskich Artystów Karykatury\, Projekt Koszulka\, Wydawnictwo Edytor Wers\, Dziekan Wydziału Bioinżynierii Zwierząt UWM\, Stowarzyszenie Absolwentów UWM
URL:https://www.niebywalesuwalki.pl/wydarzenie/otwarcie-wystawy-rysunku-prasowego-podczas-active-festival-olecko-2024/
LOCATION:Galeria Prawdziwej Sztuki im. Andrzeja Legusa\, Olecko\, Polska
END:VEVENT
BEGIN:VEVENT
DTSTART;TZID=Europe/Warsaw:20240816T190000
DTEND;TZID=Europe/Warsaw:20240816T200000
DTSTAMP:20260420T080546
CREATED:20240702T115927Z
LAST-MODIFIED:20240702T115927Z
UID:230535-1723834800-1723838400@www.niebywalesuwalki.pl
SUMMARY:Dreszcz Blues Band - koncert w Wigrach
DESCRIPTION:Fundacja Wigry Pro\, serdecznie zaprasza do uczestnictwa w poszczególnych koncertach w ramach projektu  „Klimatyczne wieczory w Wigrach” – projektu dofinansowanego ze środków  Gmina Suwałki. \nPoszczególne koncerty  odbędą się w Pokamedulskim Klasztorze w Wigrach /Tawerna – Ogrody Klasztorne/: \n„Dreszcz Blues Band”     / 16.08.2024r.  godz. 19.00 – Tawerna/
URL:https://www.niebywalesuwalki.pl/wydarzenie/dreszcz-blues-band-koncert-w-wigrach/
LOCATION:Ogrody Klasztoru Wigierskiego\, Wigry\, Polska
END:VEVENT
BEGIN:VEVENT
DTSTART;TZID=Europe/Warsaw:20240816T193000
DTEND;TZID=Europe/Warsaw:20240816T203000
DTSTAMP:20260420T080546
CREATED:20240805T102243Z
LAST-MODIFIED:20240805T102243Z
UID:232060-1723836600-1723840200@www.niebywalesuwalki.pl
SUMMARY:Koncert zespołu "48h" w Rozmarino w Suwałkach
DESCRIPTION:Zapraszamy na koncert ełckiego zespołu „48h”.Istnieją od 2012 roku. Grają standardy oraz własne tematy muzyczne\, inspirowane muzyką smoothjazzową i funkiem.Instrumentem wiodącym jest gitara\, a całość okraszona jest delikatnym groovem.\nSkład zespołu:Wojciech Wrona – gitaraPaweł Głowicki – gitara basowaKamil Skorupski – saksofonMarek Raczkowski – pianoIgor Ostaszewski – perkusja
URL:https://www.niebywalesuwalki.pl/wydarzenie/koncert-zespolu-48h-w-rozmarino-w-suwalkach-2/
LOCATION:Ogród Rozmarino\, ul. Kościuszki\, Suwałki\, Polska
END:VEVENT
BEGIN:VEVENT
DTSTART;TZID=Europe/Warsaw:20240816T200000
DTEND;TZID=Europe/Warsaw:20240816T210000
DTSTAMP:20260420T080546
CREATED:20240628T093256Z
LAST-MODIFIED:20240628T093257Z
UID:230128-1723838400-1723842000@www.niebywalesuwalki.pl
SUMMARY:Active Festival Olecko 2024: Koncert Dawida Tyszkowskiego
DESCRIPTION:
URL:https://www.niebywalesuwalki.pl/wydarzenie/active-festival-olecko-2024-koncert-dawida-tyszkowskiego/
LOCATION:Amfiteatr Podzamcze w Olecku\, Plac Zamkowy\, Olecko\, Poland
ATTACH;FMTTYPE=image/jpeg:https://www.niebywalesuwalki.pl/wp-content/uploads/2024/06/tyszkowski-Duzy.jpeg
END:VEVENT
BEGIN:VEVENT
DTSTART;TZID=Europe/Warsaw:20240816T213000
DTEND;TZID=Europe/Warsaw:20240816T223000
DTSTAMP:20260420T080546
CREATED:20240628T093632Z
LAST-MODIFIED:20240628T093632Z
UID:230125-1723843800-1723847400@www.niebywalesuwalki.pl
SUMMARY:Active Festival Olecko 2024: Koncert Vito Bambino
DESCRIPTION:
URL:https://www.niebywalesuwalki.pl/wydarzenie/active-festival-olecko-2024-koncert-vito-bambino/
LOCATION:Amfiteatr Podzamcze w Olecku\, Plac Zamkowy\, Olecko\, Poland
ATTACH;FMTTYPE=image/jpeg:https://www.niebywalesuwalki.pl/wp-content/uploads/2024/06/bambino-Duzy.jpeg
END:VEVENT
END:VCALENDAR