BEGIN:VCALENDAR
VERSION:2.0
PRODID:-//Niebywałe Suwałki - ECPv6.15.20//NONSGML v1.0//EN
CALSCALE:GREGORIAN
METHOD:PUBLISH
X-WR-CALNAME:Niebywałe Suwałki
X-ORIGINAL-URL:https://www.niebywalesuwalki.pl
X-WR-CALDESC:Wydarzenia dla Niebywałe Suwałki
REFRESH-INTERVAL;VALUE=DURATION:PT1H
X-Robots-Tag:noindex
X-PUBLISHED-TTL:PT1H
BEGIN:VTIMEZONE
TZID:Europe/Warsaw
BEGIN:DAYLIGHT
TZOFFSETFROM:+0100
TZOFFSETTO:+0200
TZNAME:CEST
DTSTART:20230326T010000
END:DAYLIGHT
BEGIN:STANDARD
TZOFFSETFROM:+0200
TZOFFSETTO:+0100
TZNAME:CET
DTSTART:20231029T010000
END:STANDARD
BEGIN:DAYLIGHT
TZOFFSETFROM:+0100
TZOFFSETTO:+0200
TZNAME:CEST
DTSTART:20240331T010000
END:DAYLIGHT
BEGIN:STANDARD
TZOFFSETFROM:+0200
TZOFFSETTO:+0100
TZNAME:CET
DTSTART:20241027T010000
END:STANDARD
BEGIN:DAYLIGHT
TZOFFSETFROM:+0100
TZOFFSETTO:+0200
TZNAME:CEST
DTSTART:20250330T010000
END:DAYLIGHT
BEGIN:STANDARD
TZOFFSETFROM:+0200
TZOFFSETTO:+0100
TZNAME:CET
DTSTART:20251026T010000
END:STANDARD
END:VTIMEZONE
BEGIN:VEVENT
DTSTART;VALUE=DATE:20240814
DTEND;VALUE=DATE:20240818
DTSTAMP:20260420T063152
CREATED:20240730T085454Z
LAST-MODIFIED:20240808T115226Z
UID:231896-1723593600-1723939199@www.niebywalesuwalki.pl
SUMMARY:10 Festiwal Patrząc na Wschód w Budzie Ruskiej
DESCRIPTION:Prezentujemy program 10. jubileuszowej edycji Festiwalu Patrząc na Wschód!\n\n\n Gdzie? Buda Ruska 16. Agroturystyka i nie tylko\, nad Czarną Hańczą\n Kiedy? 14-17 sierpnia 2024 r.\n\n\nUWAGA: Możliwość udziału w warsztatach dla dzieci i dorosłych oraz w spacerach przyrodniczych i etnograficznych jest limitowana\n\n\nzapisy na warsztaty i spacery będą prowadzone od 1 sierpnia 2024 r.\n wszelkie szczegóły dotyczące zapisów podane zostaną na stronie patrzacnawschod.pl w zakładce „warsztaty 2024” oraz na naszym Facebooku\n bardzo prosimy o nieuczestniczenie w warsztatach i spacerach\, jeśli nie uzyska się potwierdzenia mailowego bądź sms o zakwalifikowaniu na warsztaty bądź spacery; limity są podyktowane troską o komfort prowadzących i uczestników warsztatów.\n\n\n 14 SIERPNIA (ŚRODA)\n godz. 8.00: pasmo koalicyjne: wolna godzina na obowiązkowe czytanie\ngodz. 9.00: Spacer przyrodniczy z Wiesławem Fałtynowiczem w poszukiwaniu porostów;\ngodz. 10.00: warsztaty przyrodnicze dla dzieci prowadzone przez edukatorki z Wigierskiego Parku Narodowego\n\n\ngodz. 12.30: Kirgistan. Wokół jeziora Issyk-kul. Opowieść i pokaz fotografii Jędrzeja Łukowskiego z biura podróży Szerokie Tory; spotkanie odbywa się w Galerii Fotografii Piotra Malczewskiego\n godz. 14.00: spotkanie z Zofią Piłasiewicz wokół książki Ślad tygrysicy; spotkanie odbywa się w Galerii Fotografii Piotra Malczewskiego\ngodz. 15.30: kulinarna podróż do Japonii: spotkanie z Marcinem Wojtasikiem wokół książki Podróż przez krainę ramenu. Kulinarny przewodnik po Japonii oraz 33 autentyczne przepisy; UWAGA: ze względu na pokaz kulinarny towarzyszący spotkaniu\, odbywa się ono na podwórku Piotra Malczewskiego\ngodz. 17.00: spotkanie z Maciejem Ambrosiewiczem wokół książki Wigry. Opowieści o miejscu utkanym z drzew\, wody\, mgieł i ludzkich pragnień\ngodz. 18.15: spotkanie z Wojciechem Misiukiewiczem wokół książki Wigry. Opowieści o wodach pradawnego jeziora\, kniejach brzegi porastających\, a także o żywocie ludzi\, a zwłaszcza zwierząt pośród polodowcowych wzgórz\, jezior\, lasów i głazowisk krainy Suwalszczyzną zwanej\ngodz. 19.30: Jubileuszowe pasmo Patrząc na Wschód: spotkanie z Wacławem Radziwinowiczem wokół książki Putin. Car Atlantydy\ngodz. 21.00: pokaz filmu pt. Magia Podlasia – Szeptuchy w reżyserii Małgorzaty Szyszki i spotkanie z reżyserką oraz ekspertką Małgorzatą Anną Charyton\n\n\n 15 SIERPNIA (CZWARTEK)\n godz. 8.00: pasmo koalicyjne: wolna godzina na obowiązkowe czytanie\n godz. 10.00: warsztaty ilustratorskie dla dzieci prowadzone przez Martę Taraszkiewicz\ngodz. 10.00: Przy bani. Opowieść o ruskich baniach\, łaźniach i bannikach w wykonaniu Piotra Malczewskiego; miejsce zbiórki: przy bani na łące Piotra Malczewskiego nad Czarną Hańczą\ngodz. 11.00: Tatarzy polscy. Religia i tożsamość. Wykład Karoliny Radłowskiej; wykład odbywa się w Galerii Fotografii Piotra Malczewskiego\ngodz. 12.00: pokaz filmu pt. Tatarska baśń w reżyserii Waldemara Czechowskiego; pokaz filmu odbywa się w Galerii Fotografii Piotra Malczewskiego\ngodz. 13.00: Nad Biebrzą: codzienność i sztuka życia. Wykład Małgorzaty Stanek z Fundacji dla Biebrzy; wykład odbywa się w Galerii Fotografii Piotra Malczewskiego\ngodz. 14.30: spotkanie z Katarzyną Simonienko wokół książki Lasoterapia\, i opowieść o kojącym wpływie lasu\ngodz. 16.00: spotkanie z Tomaszem Związkiem\, Szymonem Jastrzębowskim i Jackiem Markiem wokół książki Puszcza Kampinoska i opowieść o starych drzewach i lesie\ngodz. 17.15: Jubileuszowe pasmo Patrząc na Wschód: Co piszą w Rosji? Spotkanie z Jędrzejem Morawieckim i opowieść o prasówkach\ngodz.\n18.30: spotkanie z Pawłem Średzińskim wokół książki Puszcza Knyszyńska\, tom 2\, i opowieść o lesie\ngodz. 19.45: spotkanie z Anetą Prymaką-Oniszk wokół książki Kamienie musiały polecieć. Wymazywana przeszłość Podlasia\n\n\n 16 SIERPNIA (PIĄTEK)\ngodz. 7.00: spacer z Adamem Zbyrytem do najbliższego gniazda bocianiego i opowieść o gnieździe i jego mieszkańcach;\n godz. 8.00: pasmo koalicyjne: wolna godzina na obowiązkowe czytanie\ngodz. 9.00: Czy to jeszcze Mazury czy już Suwalszczyzna – o atrakcjach pogranicza i nie tylko. Wykład Huberta Górskiego; wykład odbywa się w Galerii Fotografii Piotra Malczewskiego\ngodz. 9.00: warsztaty ilustratorskie dla dzieci prowadzone przez Paulinę Polcyn-Nowacką\ngodz. 10.00: warsztaty ilustratorskie dla dzieci prowadzone przez Martę Taraszkiewicz\ngodz. 10.00: warsztaty przyrodnicze dla dzieci prowadzone przez edukatorki z Wigierskiego Parku Narodowego\ngodz. 11.00: Litwa i Litwini. Jacy są? Jak ich widzimy? Wykład Aleksandry Kuczyńskiej Zonik; wykład odbywa się w Galerii Fotografii Piotra Malczewskiego\ngodz. 12.30: Mongolia. Przyszłość i teraźniejszość. Wykład Jana Rogali; wykład odbywa się w Galerii Fotografii Piotra Malczewskiego\ngodz. 14.00: Karaimi w Polsce i na Litwie. Wykład Marioli Abkowicz; wykład odbywa się w Galerii Fotografii Piotra Malczewskiego\ngodz. 12.30: spotkanie (głównie) dla dzieci i dorosłych (przy okazji) z Magdą Brzezińską i Pauliną Polcyn-Nowacką wokół książki Kim jestem? z tekstem Magdy i ilustracjami Pauliny\ngodz. 13.30: spotkanie z Pauliną Wilk i opowieść o byciu w drodze i podróżowaniu\ngodz. 15.00: spotkanie z Adamem Zbyrytem wokół książki Sensacyjne życie ptaków\ngodz. 16.30: Jubileuszowe pasmo Patrząc na Wschód: spotkanie z Pawłem Reszką wokół książki Stolik z widokiem na Kreml\ngodz. 17.45: spotkanie ze Stasią Budzisz wokół książki Welewetka. Jak znikają Kaszuby\ngodz. 19.15: spotkanie z Dorotą Filipiak wokół książki Nadbuże i Maciejem Cmochem wokół książki Bug\, i dwugłos o ludziach\, zwierzętach i rzece\ngodz. 21.00: koncert auto-ironicznych piosenek z przekazem i klimatem w wykonaniu Remigiusza Olszewskiego\n\n\n 17 SIERPNIA (SOBOTA)\n\n\n godz. 8.00: pasmo koalicyjne: wolna godzina na obowiązkowe czytanie\n\n\ngodz. 9.00-11.00: warsztaty archeologiczne dla dzieci; prowadzenie: Ola i Łukasz Skiendziul; miejsce zbiórki: przy miejscu na ognisko na łące Piotra Malczewskiego nad Czarną Hańczą ( warsztaty mają charakter otwarty\, w każdej chwili można dołączyć\, dzieci i dorośli)\n\n\ngodz. 9.30: Podziemne złoto i skandynawscy goście – geologiczna Suwalszczyzna. Wykład dr. Tomasza Krzywickiego; wykład odbywa się w Galerii Fotografii Piotra Malczewskiego\ngodz. 11.00: Sekretne życie os i pszczół. Wykład Katarzyny Szczepko-Morawiec\, profesora Uniwersytetu Łódzkiego; wykład odbywa się w Galerii Fotografii Piotra Malczewskiego.\n godz. 12.30: Pokaz filmu pt. Rozmowa z kamieniem w reżyserii Waldemara Czechowskiego; pokaz odbywa się w Galerii Fotografii Piotra Malczewskiego\ngodz. 11.00: spacer etnograficzny z Krzysztofem Snarskim śladami staroobrzędowców; zbiórka na podwórku Piotra Malczewskiego przy stoisku wydawnictwa Paśny Buriat\ngodz. 12.45: spotkanie z Anną Romaniuk wokół książki Orzeszkowo 14. Historie z Podlasia\ngodz. 14.00: spotkanie z Mikołajem Gospodarkiem wokół książki Jak poznać Suwalszczyznę?\ngodz. 15.15: spotkanie (głównie) dla dzieci i dorosłych (przy okazji) z Justyną Bednarek wokół książki Cuda nad Rospudą\ngodz. 16.30: spotkanie z Michałem Chomiukiem wokół książki Z puszczy i bagien. Podlaskie opowieści ludowe\ngodz. 17.45: spotkanie z Michałem Skoczkiem wokół książki U Pana Boga przy stole. Suwalszczyzna i opowieść o przysmakach i smakach Suwalszczyzny\ngodz. 19.00: spotkanie z Marcinem Halickim wokół książki W oparach eteru i opowieść o kryminalnej przeszłości Suwalszczyzny\, czyli co kto komu ukradł i dlaczego zabił\ngodz. 20.15: spotkanie z Maxem Cegielskim wokół książki Nazywam się Czogori i Kongo w Polsce. Włóczęgi z Josephem Conradem\ngodz. 21.00: wieczór wspomnień poświęcony Andrzejowi Strumiłło: pokaz filmu w reżyserii Waldemara Czechowskiego pt. Strumiłło – portret artysty\, spotkanie z reżyserem i wspominki do białego rana\, albo i dłużej…\n\n\nProgram lub kolejność spotkań może ulec zmianie.\nDo zobaczenia na Festiwal literacki Patrząc na Wschód w Buda Ruska 16. Agroturystyka i nie tylko!\n\n\nProgram znajdziecie też w wydarzeniu  10. Festiwal literacki Patrząc na Wschód\n\n\nNadal dopinamy budżet\, jeśli możecie wesprzyjcie organizację spotkań nad Czarną Hańczą. Link do zbiórki w komentarzu.\n——————————-\nDofinansowano ze środków Ministra Kultury i Dziedzictwa Narodowego pochodzących z Funduszu Promocji Kultury\noraz zbiórki społecznej.
URL:https://www.niebywalesuwalki.pl/wydarzenie/10-festiwal-patrzac-na-wschod-w-budzie-ruskiej/
LOCATION:Buda Ruska\, Buda Ruska\, Polska
ATTACH;FMTTYPE=image/jpeg:https://www.niebywalesuwalki.pl/wp-content/uploads/2024/07/Buda_Ruska.jpg
END:VEVENT
BEGIN:VEVENT
DTSTART;VALUE=DATE:20240816
DTEND;VALUE=DATE:20240819
DTSTAMP:20260420T063152
CREATED:20240619T101656Z
LAST-MODIFIED:20240619T101657Z
UID:229907-1723766400-1724025599@www.niebywalesuwalki.pl
SUMMARY:4. Festiwal Filmowy Wajda na Nowo w Suwałkach
DESCRIPTION:PROGRAM 4. Festiwalu Filmowego\,\,Wajda na Nowo” 16-18.08.2024 r. \n16.08.2024 r. I dzień (piątek) \n11.00 Szkoła Wajdy Prezentuje „FUGA”\, 2018\, reż. Agnieszka Smoczyńskiej (100′) Kawiarnia artystyczna\, Suwalski Ośrodek Kultury \n17.30 – wernisaż wystawy Andrzeja Pągowskiego „Morgenstern na nowo❞ Patio\, SOK ul. Papieża Jana Pawła II 5 \n18.00 Otwarcie festiwalu Sala im. Andrzeja Wajdy Otwarcie festiwalu z udziałem zaproszonych gości \n•\,\,Jestem postacią fikcyjną”\, reż. Arkadiusz Bartosiak\, (2024) \n•\,\,Nie tylko o miłości” – recital 40-lecia pracy artystycznej Zbigniewa Zamachowskiego \n21.00\,\,Wajda na Wajdzie” Dyrygent\, 1979\, rez Andrzej Wajda\, wyk. Andrzej Seweryn\, Krystyna Janda\, John Gielgud (97′) \n21.00 Kino Plenerowe Rok Czesława Miłosza \,\,Dolina Issy”\, 1982\, reż. Tadeusz Konwicki (102′) Bulwary nad Czarną Hańczą11.08.2024 r. \nII dzień (sobota) \n11.00 Szkoła Wajdy Prezentuje \,\,Pułapka”\, reż. Vitalik Havryla „Viva Maria”\, 2010\, reż. Agnieszka Smoczyńska (17′) Kawiarnia artystyczna\, Suwalski Ośrodek Kultury \n13.00 Pokaz filmów konkursowych Sala Kameralna\, Suwalski Ośrodek Kultury \n17.00\,\,Błazny”\, 2024\, reż. Gabriela Muskała (85′) \nSpotkanie z Gabrielą Muskałą\, Zbigniewem Zamachowskim oraz występującymi w filmie aktorami. Sala im. A. Wajdy\, Suwalski Ośrodek Kultury \n19.30 „Fin del Mundo”\, 2023\, reż. Piotr Dumała (85′) Sala im. A. Wajdy\, Suwalski Ośrodek Kultury \nZ udziałem Piotra Dumały i Gabrieli Muskały \n21.00 Kino Plenerowe \,\,Wajda na Wajdzie” „Pan Tadeusz”\, 1999\, reż. Andrzej Wajda (167′) Zapowiedź Andrzeja Seweryna Bulwary nad Czarną Hańczą \n18.08.2024 III dzień (niedziela) \n11.00 Szkoła Wajdy Prezentuje \,\,Aria Diva”\, 2007\, reż. Agnieszka Smoczyńska (30′) Spotkanie z Gabrielą Muskałą Sala Kameralna \n13.00 „Historia kina w Suwałkach” – spotkanie z dr. Krzysztofem Skłodowskim Kawiarnia artystyczna\, Suwalski Ośrodek Kultury \n18.00 „Liczba doskonała”\, 2022\, reż. Krzysztof Zanussi (87′) Spotkanie z Krzysztofem Zanussim i z Andrzejem Sewerynem Sala im. A. Wajdy\, Suwalski Ośrodek Kultury \n20.00 Gala Finałowa Wręczenie nagród i prezentacja nagrodzonego filmu Sala im. A. Wajdy\, Suwalski Ośrodek Kultury \n\,\,Andrzej Seweryn przedstawia\,\,Dziennik” Witolda Gombrowicza” Sala im. A. Wajdy\, Suwalski Ośrodek Kultury \n22.00 Kino plenerowe „Do widzenia\, do jutra”\, 1960\, reż. Janusz Morgenstern (80′) Bulwary nad Czarną Hańczą
URL:https://www.niebywalesuwalki.pl/wydarzenie/4-festiwal-filmowy-wajda-na-nowo-w-suwalkach/
LOCATION:Suwałki\, skrzyżowanie ul. Utrata i Przytorowa\, Suwałki\, Polska
ATTACH;FMTTYPE=image/jpeg:https://www.niebywalesuwalki.pl/wp-content/uploads/2024/06/wajda.jpg
END:VEVENT
BEGIN:VEVENT
DTSTART;VALUE=DATE:20240817
DTEND;VALUE=DATE:20240818
DTSTAMP:20260420T063152
CREATED:20240423T123147Z
LAST-MODIFIED:20240423T123148Z
UID:227078-1723852800-1723939199@www.niebywalesuwalki.pl
SUMMARY:Koncerty w ogrodach klasztornych w Wigrach
DESCRIPTION:
URL:https://www.niebywalesuwalki.pl/wydarzenie/koncerty-w-ogrodach-klasztornych-w-wigrach-2/
LOCATION:Klasztor Pokamedulski\, Wigry\, Polska
ATTACH;FMTTYPE=image/jpeg:https://www.niebywalesuwalki.pl/wp-content/uploads/2024/04/Pamietamy-do-druku.jpg
END:VEVENT
BEGIN:VEVENT
DTSTART;TZID=Europe/Warsaw:20240817T180000
DTEND;TZID=Europe/Warsaw:20240817T200000
DTSTAMP:20260420T063152
CREATED:20240816T122654Z
LAST-MODIFIED:20240816T122654Z
UID:239728-1723917600-1723924800@www.niebywalesuwalki.pl
SUMMARY:Mecz III ligi piłkarskiej: Wigry Suwałki - GKS Bełchatów
DESCRIPTION:W trzeciej kolejce III ligi piłkarskiej Wigry Suwałki podejmą GKS Bełchatów – klub z przeszłością ekstraklasową. Początek spotkania na Zarzeczu o godzinie 18.
URL:https://www.niebywalesuwalki.pl/wydarzenie/mecz-iii-ligi-pilkarskiej-wigry-suwalki-gks-belchatow/
ATTACH;FMTTYPE=image/jpeg:https://www.niebywalesuwalki.pl/wp-content/uploads/2024/08/Wigry-GKS_Wikielec_VIII_2024-09.jpg
END:VEVENT
BEGIN:VEVENT
DTSTART;TZID=Europe/Warsaw:20240817T200000
DTEND;TZID=Europe/Warsaw:20240817T210000
DTSTAMP:20260420T063152
CREATED:20240628T093836Z
LAST-MODIFIED:20240628T093837Z
UID:230141-1723924800-1723928400@www.niebywalesuwalki.pl
SUMMARY:Active Festival Olecko 2024: Koncert Mesajah
DESCRIPTION:
URL:https://www.niebywalesuwalki.pl/wydarzenie/active-festival-olecko-2024-koncert-mesajah/
LOCATION:Amfiteatr Podzamcze w Olecku\, Plac Zamkowy\, Olecko\, Poland
ATTACH;FMTTYPE=image/jpeg:https://www.niebywalesuwalki.pl/wp-content/uploads/2024/06/mesajah-Duzy.jpeg
END:VEVENT
BEGIN:VEVENT
DTSTART;TZID=Europe/Warsaw:20240817T213000
DTEND;TZID=Europe/Warsaw:20240817T223000
DTSTAMP:20260420T063152
CREATED:20240628T093921Z
LAST-MODIFIED:20240628T093922Z
UID:230142-1723930200-1723933800@www.niebywalesuwalki.pl
SUMMARY:Active Festival Olecko 2024: Koncert Łąki Łan
DESCRIPTION:
URL:https://www.niebywalesuwalki.pl/wydarzenie/active-festival-olecko-2024-koncert-laki-lan/
LOCATION:Amfiteatr Podzamcze w Olecku\, Plac Zamkowy\, Olecko\, Poland
ATTACH;FMTTYPE=image/jpeg:https://www.niebywalesuwalki.pl/wp-content/uploads/2024/06/lakilan-Duzy.jpeg
END:VEVENT
END:VCALENDAR