BEGIN:VCALENDAR
VERSION:2.0
PRODID:-//Niebywałe Suwałki - ECPv6.15.20//NONSGML v1.0//EN
CALSCALE:GREGORIAN
METHOD:PUBLISH
X-WR-CALNAME:Niebywałe Suwałki
X-ORIGINAL-URL:https://www.niebywalesuwalki.pl
X-WR-CALDESC:Wydarzenia dla Niebywałe Suwałki
REFRESH-INTERVAL;VALUE=DURATION:PT1H
X-Robots-Tag:noindex
X-PUBLISHED-TTL:PT1H
BEGIN:VTIMEZONE
TZID:Europe/Warsaw
BEGIN:DAYLIGHT
TZOFFSETFROM:+0100
TZOFFSETTO:+0200
TZNAME:CEST
DTSTART:20230326T010000
END:DAYLIGHT
BEGIN:STANDARD
TZOFFSETFROM:+0200
TZOFFSETTO:+0100
TZNAME:CET
DTSTART:20231029T010000
END:STANDARD
BEGIN:DAYLIGHT
TZOFFSETFROM:+0100
TZOFFSETTO:+0200
TZNAME:CEST
DTSTART:20240331T010000
END:DAYLIGHT
BEGIN:STANDARD
TZOFFSETFROM:+0200
TZOFFSETTO:+0100
TZNAME:CET
DTSTART:20241027T010000
END:STANDARD
BEGIN:DAYLIGHT
TZOFFSETFROM:+0100
TZOFFSETTO:+0200
TZNAME:CEST
DTSTART:20250330T010000
END:DAYLIGHT
BEGIN:STANDARD
TZOFFSETFROM:+0200
TZOFFSETTO:+0100
TZNAME:CET
DTSTART:20251026T010000
END:STANDARD
END:VTIMEZONE
BEGIN:VEVENT
DTSTART;TZID=Europe/Warsaw:20240819T183000
DTEND;TZID=Europe/Warsaw:20240819T210000
DTSTAMP:20260420T080617
CREATED:20240729T092459Z
LAST-MODIFIED:20240729T092459Z
UID:231820-1724092200-1724101200@www.niebywalesuwalki.pl
SUMMARY:Pokaz filmu "Pajęczarki" i spotkanie z Marią Pakulnis w Augustowie
DESCRIPTION:Maria Pakulnis w Augustowie \nAugustowski DKF KINOCHŁON zaprasza 19 sierpnia 2024 r. o godz. 18:30 do sali widowiskowej Miejskiego Domu Kultury (Rynek Zygmunta Augusta 9\, II piętro\, wejście od ul. Kościelnej). Będzie to wieczór niezwykły nie tylko ze względu na Gościnię naszego pokazu! \nMaria Pakulnis – aktorka filmowa\, teatralna i telewizyjna. Absolwentka warszawskiej PWST\,. należąca do grona najwybitniejszych aktorek. Zdobyła szczególne uznanie zarówno wśród krytyków\, jak i publiczności. Za swe artystyczne dokonania wielokrotnie wyróżniona nagrodami. Współpracowała z najważniejszymi reżyserami: Tadeuszem Konwickim („Dolina Issy”)\, Krzysztofem Kieślowskim („Bez końca”\, „Dekalog III”)\, JanuszemZaorskim („Jezioro Bodeńskie”)\, Andrzejem Domalikiem („Zygfryd)\, MirosławemGronowskim („Weryfikacja”). Stworzyła całą galerię kobiecych postaci\, choć najczęściej jest obsadzana w rolach atrakcyjnych\, pewnych siebie i silnych kobiet. Zagrała niezapomniane role w „Obywatelu Piszczyku”\, „Konsulu”\, „Pożegnaniu jesieni”\, „Pajęczarkach”. Wystąpiła też w ponad 40 spektaklach Teatru Telewizji. \nZ Aktorką porozmawia Łukasz Maciejewski – filmoznawca\, dziennikarz\, krytyk filmowy i teatralny. \nPrzy okazji tego niezwykłego spotkania pokażemy Państwu niezapomnianą komedię Barbary Sass pt. „Pajęczarki”! Bohaterkami filmu są dwie siostry. Magda (Maria Pakulnis) jest dziennikarką\, a Ewa (Adrianna Biedrzyńska) gimnastyczką. Obie mają ciągłe problemy z pieniędzmi. Pewnego dnia Ewa dowiaduje się o wyjeździe na zawody do USA. Magda postanawia pojechać z siostrą. Nie stać jej jednak na tak kosztowną wyprawę\, dlatego nakłania siostrę na kradzież majątku jej byłego męża (Maciej Robakiewicz). Dziewczynom tak bardzo spodobał się ten pomysł\, że postanowiły trwać w tym procederze dalej… \nSerdecznie zapraszamy na to wydarzenie! \nAPK-DKF KINOCHŁON \n– – – \nCennik i rezerwacja biletów: \nBilet na pojedynczy pokaz: 18 zł \nBilet ulgowy: 12 zł \nKarnet na cztery pokazy: 60 zł (ważny przez pół roku) \nRezerwacje i sprzedaż stacjonarna: Augustowskie Placówki Kultury\, Rynek Zygmunta Augusta 9\, tel. 87 643 36 59 \nSprzedaż online: https://bkb.pl/134561-fd266
URL:https://www.niebywalesuwalki.pl/wydarzenie/pokaz-filmu-pajeczarki-i-spotkanie-z-maria-pakulnis-w-augustowie/
LOCATION:Kino Iskra\, Augustów\, Polska
END:VEVENT
END:VCALENDAR