BEGIN:VCALENDAR
VERSION:2.0
PRODID:-//Niebywałe Suwałki - ECPv6.15.20//NONSGML v1.0//EN
CALSCALE:GREGORIAN
METHOD:PUBLISH
X-ORIGINAL-URL:https://www.niebywalesuwalki.pl
X-WR-CALDESC:Wydarzenia dla Niebywałe Suwałki
REFRESH-INTERVAL;VALUE=DURATION:PT1H
X-Robots-Tag:noindex
X-PUBLISHED-TTL:PT1H
BEGIN:VTIMEZONE
TZID:Europe/Warsaw
BEGIN:DAYLIGHT
TZOFFSETFROM:+0100
TZOFFSETTO:+0200
TZNAME:CEST
DTSTART:20230326T010000
END:DAYLIGHT
BEGIN:STANDARD
TZOFFSETFROM:+0200
TZOFFSETTO:+0100
TZNAME:CET
DTSTART:20231029T010000
END:STANDARD
BEGIN:DAYLIGHT
TZOFFSETFROM:+0100
TZOFFSETTO:+0200
TZNAME:CEST
DTSTART:20240331T010000
END:DAYLIGHT
BEGIN:STANDARD
TZOFFSETFROM:+0200
TZOFFSETTO:+0100
TZNAME:CET
DTSTART:20241027T010000
END:STANDARD
BEGIN:DAYLIGHT
TZOFFSETFROM:+0100
TZOFFSETTO:+0200
TZNAME:CEST
DTSTART:20250330T010000
END:DAYLIGHT
BEGIN:STANDARD
TZOFFSETFROM:+0200
TZOFFSETTO:+0100
TZNAME:CET
DTSTART:20251026T010000
END:STANDARD
END:VTIMEZONE
BEGIN:VEVENT
DTSTART;VALUE=DATE:20240902
DTEND;VALUE=DATE:20240903
DTSTAMP:20260421T034128
CREATED:20240826T074507Z
LAST-MODIFIED:20240826T074507Z
UID:240046-1725235200-1725321599@www.niebywalesuwalki.pl
SUMMARY:Wystawa "Wiedźmin w Ciechanowcu" w Augustowie
DESCRIPTION:Wystawa „Wiedźmin w Ciechanowcu” w Małej Galerii APK czynna od 2 września do 4 października przy Rynku Zygmunta Augusta 9. \nNATALIA RADZISZEWSKA – Driada z Brokilonu \nhttps://www.instagram.com/driadazbrokilonu/ \nFotograf z zamiłowaniem do stawania po drugiej stronie obiektywu. Od 2019 roku cosplayerka. Autorka podlaskiego projektu “Wiedźmin w Ciechanowcu”. Driada to przydomek\, który zaczerpnęłam z tego\, co po dziś dzień mnie inspiruje – prozy Andrzeja Sapkowskiego i powstałymi na jej łamach grami studia CD Projekt. W swojej pasji cenię sobie kreatywność i możliwość obcowania z emocjami odgrywanej postaci. Tworząc zawsze chcę przekazać “Coś Więcej”\, które przewija się na łamach wiedźmińskiej Sagi. \nPROJEKT „WIEDŹMIN W CIECHANOWCU” \nProjekt powstał z miłości do Sagi Andrzeja Sapkowskiego – “Wiedźmin”. Wszystkie fotografie realizowane były na terenie Gminy Ciechanowiec w województwie podlaskim. Główną lokalizacją pleneru było Muzeum Rolnictwa im. Krzysztofa Kluka w Ciechanowcu\, które stanowi idealne odzwierciedlenie wiedźmińskiego świata. Przygotowania do projektu rozpoczęły się w 2020 roku\, zaś sama realizacja w 2021 r. Podczas projektu turyści mogli zauważyć m.in. Yennefer\, Triss\, Ciri czy Annę Henriettę. Na wszystkich fotografiach jest jedna i ta sama osoba – Driada z Brokilonu. W najbliższym czasie planowana jest druga edycja “Wiedźmina w Ciechanowcu”. \nZdjęcie ze strony: https://www.facebook.com/driadazbrokilonu/photos Autorstwa Doroty Sobczak Driada z Brokilonu
URL:https://www.niebywalesuwalki.pl/wydarzenie/wystawa-wiedzmin-w-ciechanowcu-w-augustowie/
LOCATION:Augustowskie Placówki Kultury – Miejski Dom Kultury\, Rynek Zygmunta Augusta\, Augustów\, Polska
END:VEVENT
END:VCALENDAR