BEGIN:VCALENDAR
VERSION:2.0
PRODID:-//Niebywałe Suwałki - ECPv6.15.20//NONSGML v1.0//EN
CALSCALE:GREGORIAN
METHOD:PUBLISH
X-ORIGINAL-URL:https://www.niebywalesuwalki.pl
X-WR-CALDESC:Wydarzenia dla Niebywałe Suwałki
REFRESH-INTERVAL;VALUE=DURATION:PT1H
X-Robots-Tag:noindex
X-PUBLISHED-TTL:PT1H
BEGIN:VTIMEZONE
TZID:Europe/Warsaw
BEGIN:DAYLIGHT
TZOFFSETFROM:+0100
TZOFFSETTO:+0200
TZNAME:CEST
DTSTART:20230326T010000
END:DAYLIGHT
BEGIN:STANDARD
TZOFFSETFROM:+0200
TZOFFSETTO:+0100
TZNAME:CET
DTSTART:20231029T010000
END:STANDARD
BEGIN:DAYLIGHT
TZOFFSETFROM:+0100
TZOFFSETTO:+0200
TZNAME:CEST
DTSTART:20240331T010000
END:DAYLIGHT
BEGIN:STANDARD
TZOFFSETFROM:+0200
TZOFFSETTO:+0100
TZNAME:CET
DTSTART:20241027T010000
END:STANDARD
BEGIN:DAYLIGHT
TZOFFSETFROM:+0100
TZOFFSETTO:+0200
TZNAME:CEST
DTSTART:20250330T010000
END:DAYLIGHT
BEGIN:STANDARD
TZOFFSETFROM:+0200
TZOFFSETTO:+0100
TZNAME:CET
DTSTART:20251026T010000
END:STANDARD
END:VTIMEZONE
BEGIN:VEVENT
DTSTART;TZID=Europe/Warsaw:20240905T170000
DTEND;TZID=Europe/Warsaw:20240905T180000
DTSTAMP:20260420T180132
CREATED:20240903T104011Z
LAST-MODIFIED:20240903T104011Z
UID:240237-1725555600-1725559200@www.niebywalesuwalki.pl
SUMMARY:Podróże z pasją – podróże z szachami\, Wietnam i nie tylko opowieść Piotra Zielińskiego - spotkanie w Suwałkach
DESCRIPTION:Serdecznie zapraszamy na kolejne spotkanie z cyklu „Podróże z pasją”. Pierwszy raz po wakacjach widzimy się 5 września 2024 w Kawiarence Artystycznej. Wysłuchamy opowieści Piotra Zielińskiego o Wietnamie. \n5.09.2024\, godzina 17.00\nKawiarenka Artystyczna\, ul. T. Noniewicza 71
URL:https://www.niebywalesuwalki.pl/wydarzenie/podroze-z-pasja-podroze-z-szachami-wietnam-i-nie-tylko-opowiesc-piotra-zielinskiego-spotkanie-w-suwalkach/
LOCATION:Kawiarenka artystyczna SOK\, Noniewicza 71\, Suwałki\, Polska
END:VEVENT
BEGIN:VEVENT
DTSTART;TZID=Europe/Warsaw:20240905T183000
DTEND;TZID=Europe/Warsaw:20240905T210000
DTSTAMP:20260420T180132
CREATED:20240903T082720Z
LAST-MODIFIED:20240903T082720Z
UID:240213-1725561000-1725570000@www.niebywalesuwalki.pl
SUMMARY:Pokaz filmu "Do granic" w cyklu DKF Kinochłon w Augustowie
DESCRIPTION:Do granic\n05 września 2024r. 18:30 \nAugustowski DKF KINOCHŁON serdecznie zaprasza na rozpoczęcie kolejnego filmowego sezonu! Po plenerowych pokazach w podwórzu Miejskiego Domu Kultury wracamy do kina! \nJuż w czwartek 5 września 2024 roku o godz. 18:30 serdecznie zapraszamy do kina „Iskra” (ul. 3 Maja 38) na pokaz thrillera psychologicznego „Do granic” hiszpańskiego duetu reżyserskiego Alejandro Rojas i Juan Sebastián Vásquez – gościem tego seansu będzie Maciej Białous. \nNa ekranie zobaczymy Diego i Elenę\, którzy chcą rozpocząć nowe życie w Stanach Zjednoczonych. Dopilnowali wszelkich formalności\, jednak zostają zatrzymani na nowojorskim lotnisku. Prowadzone przez służby migracyjne przesłuchanie stawia pod znakiem zapytania nie tylko powody\, dla których para chce zamieszkać w USA\, ale także ich relację. \nIle tak naprawdę wiedzą o sobie? Ile sekretów wytrzyma ich związek? Jak szybko można stracić zaufanie najbliższej osoby? „Do granic” stawia niewygodne pytania\, mnoży wątpliwości i rozciąga wokół bohaterów misterną sieć podejrzeń… \nFilm ze świetnie rozpisanym scenariuszem\, równie dobrym aktorstwem i zręcznie budowanym napięciem – krótko mówiąc\, na pokazie „Do granic” trzeba być! \nGościem pokazu będzie nasz dobry przyjaciel Maciej Białous – Pracownik Instytutu Socjologii Uniwersytetu w Białymstoku\, wolontariusz Fundacji UwB. W pracy naukowej zajmuje się między innymi socjologią filmu. Ale nie tylko – fascynuje go także pamięć zbiorowa\, polityka pamięci\, socjologia kultury\, socjologia filmu\, przestrzeń miejska. Sam o sobie mówi\, że lubi filmy\, których nikt inny nie chce oglądać. \nSerdecznie zapraszamy – naprawdę warto! \nCennik i rezerwacja biletów: \nBilet na pokaz: 18 zł\nBilet ulgowy: 12 zł\nKarnet na cztery pokazy: 60 zł (ważny przez pół roku)\n \nRezerwacje i sprzedaż: Augustowskie Placówki Kultury\, Rynek Zygmunta Augusta 9\, tel. 87 643 36 59 lub w kinie „Iskra” na godzinę przed rozpoczęciem seansu.
URL:https://www.niebywalesuwalki.pl/wydarzenie/pokaz-filmu-do-granic-w-cyklu-dkf-kinochlon-w-augustowie/
LOCATION:Kino ISKRA\, ul. 3 Maja\, Augustów\, Polska
END:VEVENT
END:VCALENDAR