BEGIN:VCALENDAR
VERSION:2.0
PRODID:-//Niebywałe Suwałki - ECPv6.15.20//NONSGML v1.0//EN
CALSCALE:GREGORIAN
METHOD:PUBLISH
X-ORIGINAL-URL:https://www.niebywalesuwalki.pl
X-WR-CALDESC:Wydarzenia dla Niebywałe Suwałki
REFRESH-INTERVAL;VALUE=DURATION:PT1H
X-Robots-Tag:noindex
X-PUBLISHED-TTL:PT1H
BEGIN:VTIMEZONE
TZID:Europe/Warsaw
BEGIN:DAYLIGHT
TZOFFSETFROM:+0100
TZOFFSETTO:+0200
TZNAME:CEST
DTSTART:20230326T010000
END:DAYLIGHT
BEGIN:STANDARD
TZOFFSETFROM:+0200
TZOFFSETTO:+0100
TZNAME:CET
DTSTART:20231029T010000
END:STANDARD
BEGIN:DAYLIGHT
TZOFFSETFROM:+0100
TZOFFSETTO:+0200
TZNAME:CEST
DTSTART:20240331T010000
END:DAYLIGHT
BEGIN:STANDARD
TZOFFSETFROM:+0200
TZOFFSETTO:+0100
TZNAME:CET
DTSTART:20241027T010000
END:STANDARD
BEGIN:DAYLIGHT
TZOFFSETFROM:+0100
TZOFFSETTO:+0200
TZNAME:CEST
DTSTART:20250330T010000
END:DAYLIGHT
BEGIN:STANDARD
TZOFFSETFROM:+0200
TZOFFSETTO:+0100
TZNAME:CET
DTSTART:20251026T010000
END:STANDARD
END:VTIMEZONE
BEGIN:VEVENT
DTSTART;TZID=Europe/Warsaw:20240907T120000
DTEND;TZID=Europe/Warsaw:20240908T170000
DTSTAMP:20260420T180137
CREATED:20240829T122054Z
LAST-MODIFIED:20240829T122055Z
UID:240120-1725710400-1725814800@www.niebywalesuwalki.pl
SUMMARY:XX Jaćwieski Festyn Archeologiczny Szwajcaria 2024
DESCRIPTION:
URL:https://www.niebywalesuwalki.pl/wydarzenie/xx-jacwieski-festyn-archeologiczny-szwajcaria-2024/
LOCATION:Szwajcaria\, Szwajcaria\, Polska
ATTACH;FMTTYPE=image/jpeg:https://www.niebywalesuwalki.pl/wp-content/uploads/2024/08/1fest.jpg
END:VEVENT
BEGIN:VEVENT
DTSTART;TZID=Europe/Warsaw:20240908T123000
DTEND;TZID=Europe/Warsaw:20240908T170000
DTSTAMP:20260420T180137
CREATED:20240826T074113Z
LAST-MODIFIED:20240826T074113Z
UID:240040-1725798600-1725814800@www.niebywalesuwalki.pl
SUMMARY:Święto Plonów w Gminie Olecko
DESCRIPTION:Serdecznie zapraszamy na uroczystość Święta Plonów w Gminie Olecko\, która odbędzie się 8 września na Placu Wolności o godz. 12:30 (największy rynek w Europie). \nTo wyjątkowe święto\, które łączy naszą wspólnotę\, jest okazją do podziękowania za tegoroczne plony oraz wyrażenia wdzięczności dla wszystkich\, którzy swoją pracą przyczynili się do ich zebrania. \nDożynki to czas radości i refleksji\, kiedy wspólnie celebrować będziemy bogactwo natury\, szacunek dla ziemi oraz tradycje przekazywane z pokolenia na pokolenie. \nProgram wydarzenia: \n11.00 – Uroczysta Msza Święta w Kościele NMP Królowej Polski w Olecku;\n12.00 – Przemarsz korowodu dożynkowego na Plac Wolności;\n12.30 – Uroczyste otwarcie Święta Plonów\, tradycyjny festyn dożynkowy;\n13.00 – Koncert Miejskiej Orkiestry Dętej pod batutą Weroniki Kordowskiej;\n13.30 – Występy zespołów śpiewaczych: Oleckie Echo\, Onegdaj\, Raczkowiacy\, Sedranianki;\n14.45 – Rozstrzygnięcie konkursów dożynkowych;\n15.00 – Koncert zespołu \,\,JORRGUS’’;
URL:https://www.niebywalesuwalki.pl/wydarzenie/swieto-plonow-w-gminie-olecko/
LOCATION:Plac Wolności\, Olecko\, Polska
END:VEVENT
END:VCALENDAR