BEGIN:VCALENDAR
VERSION:2.0
PRODID:-//Niebywałe Suwałki - ECPv6.15.20//NONSGML v1.0//EN
CALSCALE:GREGORIAN
METHOD:PUBLISH
X-WR-CALNAME:Niebywałe Suwałki
X-ORIGINAL-URL:https://www.niebywalesuwalki.pl
X-WR-CALDESC:Wydarzenia dla Niebywałe Suwałki
REFRESH-INTERVAL;VALUE=DURATION:PT1H
X-Robots-Tag:noindex
X-PUBLISHED-TTL:PT1H
BEGIN:VTIMEZONE
TZID:Europe/Warsaw
BEGIN:DAYLIGHT
TZOFFSETFROM:+0100
TZOFFSETTO:+0200
TZNAME:CEST
DTSTART:20250330T010000
END:DAYLIGHT
BEGIN:STANDARD
TZOFFSETFROM:+0200
TZOFFSETTO:+0100
TZNAME:CET
DTSTART:20251026T010000
END:STANDARD
BEGIN:DAYLIGHT
TZOFFSETFROM:+0100
TZOFFSETTO:+0200
TZNAME:CEST
DTSTART:20260329T010000
END:DAYLIGHT
BEGIN:STANDARD
TZOFFSETFROM:+0200
TZOFFSETTO:+0100
TZNAME:CET
DTSTART:20261025T010000
END:STANDARD
BEGIN:DAYLIGHT
TZOFFSETFROM:+0100
TZOFFSETTO:+0200
TZNAME:CEST
DTSTART:20270328T010000
END:DAYLIGHT
BEGIN:STANDARD
TZOFFSETFROM:+0200
TZOFFSETTO:+0100
TZNAME:CET
DTSTART:20271031T010000
END:STANDARD
END:VTIMEZONE
BEGIN:VEVENT
DTSTART;TZID=Europe/Warsaw:20260411T170000
DTEND;TZID=Europe/Warsaw:20260411T190000
DTSTAMP:20260420T075749
CREATED:20260123T125932Z
LAST-MODIFIED:20260123T125932Z
UID:265272-1775926800-1775934000@www.niebywalesuwalki.pl
SUMMARY:Kabaret Grupa Mocarta „Ale Kino” w Suwałkach
DESCRIPTION:W programie „Ale kino” pojawią się efekty specjalne na miarę hollywoodzkich superprodukcji\, opowieść o historii filmu\, tańczący Lord Vader i dużo wspaniałej muzyki\, okraszonej mistrzowskim poczuciem humoru. \n11.04.2026\, godz. 17.00\nSala im. Andrzeja Wajdy\, ul. Papieża Jana Pawła II 5\nOrganizator: Impresariat zewnętrzny \n\nKUP TERAZ\n\n\n\n\nKabaret Konesera – Grupa MoCarta „ALE KINO” to żartobliwe spojrzenie na ponadczasowe przeboje muzyki filmowej. Kinematografia jest dziś najpopularniejszą ze sztuk\, a muzyka filmowa kontynuuje tradycje muzyki klasycznej.\nNiezastąpiona Grupa MoCarta postanowiła poświęcić swój nowy program muzyce filmowej i najjaśniejszym gwiazdom srebrnego ekranu. Najbardziej rozpoznawalny kabaretowy kwartet w Polsce zaprezentuje jedyny w swoim rodzaju występ – zarówno osobom\, które świat kina znają od podszewki\, jak i tym\, dla których nadal kryje on w sobie wiele tajemnic. \nW programie „Ale kino” pojawią się efekty specjalne na miarę hollywoodzkich superprodukcji\, opowieść o historii filmu\, tańczący Lord Vader i dużo wspaniałej muzyki\, okraszonej mistrzowskim poczuciem humoru. \nGrupa MoCarta – Paweł Kowaluk\, Bolesław Błaszczyk\, Michał Sikorski oraz Filipa Jaślar.
URL:https://www.niebywalesuwalki.pl/wydarzenie/kabaret-grupa-mocarta-ale-kino-w-suwalkach/
END:VEVENT
END:VCALENDAR