BEGIN:VCALENDAR
VERSION:2.0
PRODID:-//Niebywałe Suwałki - ECPv6.15.20//NONSGML v1.0//EN
CALSCALE:GREGORIAN
METHOD:PUBLISH
X-ORIGINAL-URL:https://www.niebywalesuwalki.pl
X-WR-CALDESC:Wydarzenia dla Niebywałe Suwałki
REFRESH-INTERVAL;VALUE=DURATION:PT1H
X-Robots-Tag:noindex
X-PUBLISHED-TTL:PT1H
BEGIN:VTIMEZONE
TZID:Europe/Warsaw
BEGIN:DAYLIGHT
TZOFFSETFROM:+0100
TZOFFSETTO:+0200
TZNAME:CEST
DTSTART:20250330T010000
END:DAYLIGHT
BEGIN:STANDARD
TZOFFSETFROM:+0200
TZOFFSETTO:+0100
TZNAME:CET
DTSTART:20251026T010000
END:STANDARD
BEGIN:DAYLIGHT
TZOFFSETFROM:+0100
TZOFFSETTO:+0200
TZNAME:CEST
DTSTART:20260329T010000
END:DAYLIGHT
BEGIN:STANDARD
TZOFFSETFROM:+0200
TZOFFSETTO:+0100
TZNAME:CET
DTSTART:20261025T010000
END:STANDARD
BEGIN:DAYLIGHT
TZOFFSETFROM:+0100
TZOFFSETTO:+0200
TZNAME:CEST
DTSTART:20270328T010000
END:DAYLIGHT
BEGIN:STANDARD
TZOFFSETFROM:+0200
TZOFFSETTO:+0100
TZNAME:CET
DTSTART:20271031T010000
END:STANDARD
END:VTIMEZONE
BEGIN:VEVENT
DTSTART;TZID=Europe/Warsaw:20260412T100000
DTEND;TZID=Europe/Warsaw:20260412T200000
DTSTAMP:20260420T075846
CREATED:20260407T075358Z
LAST-MODIFIED:20260407T075358Z
UID:267510-1775988000-1776024000@www.niebywalesuwalki.pl
SUMMARY:Festyn Rodzinny – Powitanie Wiosny w Suwałkach
DESCRIPTION:Data: 12 kwietnia (niedziela)Godzina: 10:00–20:00Miejsce: Park Konstytucji 3 Maja w Suwałkach \nZapraszamy na Festyn Rodzinny – Powitanie Wiosny\, połączony z integracją z osobami z niepełnosprawnościami oraz kiermaszem charytatywnym. Dochód z wydarzenia zostanie przeznaczony na leczenie i rehabilitację Mikołaja Matoszko\, chorującego na wrodzoną niewydolność nerek. \nW programie kiermasz z domowymi wypiekami\, potrawami na słono oraz kawą i innymi przekąskami. Na uczestników czekają także atrakcje dla dzieci i dorosłych\, m.in. dmuchańce\, malowanie twarzy\, warkoczyki i bańki mydlane. \nWydarzenie poprowadzą DJ Turek oraz DJ Marcin. \nProgram:\n10:00 – otwarcie (Michał Kowalewski\, Prezes Stowarzyszenia Suwałki dla Mieszkańców)10:20–10:50 – Julia Suchocka10:50–11:20 – Joanna Jakubanis11:20–11:50 – Mariola Michniewicz – prelekcja o naturalnych kosmetykach12:00–12:45 – Zespół Nadzieja13:30–14:00 – Marzena Piotrowska (Joga Balans) – prelekcja o ruchu i wpływie zapachów na emocje oraz konkurs14:00–14:50 – SISTERS14:50–15:30 – Aneta Piekarska – prelekcja o zdrowiu15:30–16:10 – Densi16:10–17:00 – Alex Kisłowski17:00–17:30 – Ewa Radzewicz – prelekcja „Zdrowie za darmo”18:00–19:00 – Ever Play19:00–19:45 – Zespół Replay20:00 – zakończenie\, występ zespołu Keys \nProgram wydarzenia będzie aktualizowany. \nOrganizatorzy: Stowarzyszenie Suwałki dla Mieszkańców (Michał Kowalewski)\, Akademia Sukcesu SuwałkiSponsor: ZPK Rupińscy Sp. z o.o.\, Charity Shop Suwałki (ul. Sejneńska 1)
URL:https://www.niebywalesuwalki.pl/wydarzenie/festyn-rodzinny-powitanie-wiosny-w-suwalkach/
LOCATION:Park Konstytucji 3 Maja\, Suwałki\, Polska
END:VEVENT
BEGIN:VEVENT
DTSTART;TZID=Europe/Warsaw:20260412T110000
DTEND;TZID=Europe/Warsaw:20260412T130000
DTSTAMP:20260420T075846
CREATED:20260409T094128Z
LAST-MODIFIED:20260409T094128Z
UID:267537-1775991600-1775998800@www.niebywalesuwalki.pl
SUMMARY:Obchody 16. rocznicy Katastrofy Smoleńskiej w Sejnach
DESCRIPTION:Obchody 16. rocznicy Katastrofy SmoleńskiejData: 12 kwietnia 2026 r.Godzina: 11:00Miejsce: Sejny \nProgram uroczystości: \n\nMsza św. w Bazylice Nawiedzenia Najświętszej Maryi Panny w Sejnach\nUroczystości pod Pomnikiem Pamięci Ofiar Katastrofy Smoleńskiej (Plac Świętej Agaty\, Sejny):• odczytanie listy Ofiar Katastrofy Smoleńskiej• przemówienia okolicznościowe• złożenie kwiatów i zapalenie zniczy\n\nOrganizatorzy: \n\nks. dziekan Zbigniew Bzdak\, proboszcz Parafii Nawiedzenia NMP w Sejnach\ngen. bryg. zw. Jarosław Wojciechowicz\, prezes Okręgu Ziemi Sejneńskiej Związku Piłsudczyków RP\nJarosław Zieliński\, poseł na Sejm RP\nDorian Grzegorz Krause\, burmistrz Miasta Sejny
URL:https://www.niebywalesuwalki.pl/wydarzenie/obchody-16-rocznicy-katastrofy-smolenskiej-w-sejnach/
LOCATION:Sejny\, Sejny\, Polska
END:VEVENT
BEGIN:VEVENT
DTSTART;TZID=Europe/Warsaw:20260412T170000
DTEND;TZID=Europe/Warsaw:20260412T183000
DTSTAMP:20260420T075846
CREATED:20260123T130014Z
LAST-MODIFIED:20260123T130014Z
UID:265273-1776013200-1776018600@www.niebywalesuwalki.pl
SUMMARY:Michał Bajor – PIOSENKI KTÓRE LUBIĘ - koncert w Suwałkach
DESCRIPTION:Agencja Just For Music zaprasza na wyjątkowy koncert Michała Bajora\, który odbędzie się 12 kwietnia w Suwałkach. Artysta zaprezentuje swój najnowszy recital zatytułowany „Piosenki\, które lubię” – pełen emocji\, wspomnień i ulubionych utworów z bogatego dorobku wokalisty. \nPodczas koncertu usłyszymy zarówno znane kompozycje\, jak i nowe muzyczno-literackie niespodzianki przygotowane specjalnie na tę trasę. Michał Bajor\, wybierając repertuar spośród kilkuset piosenek napisanych dla niego przez wybitnych autorów\, sięgnął po te\, które są mu szczególnie bliskie i które – jak sam przyznaje – publiczność najczęściej chciała ponownie usłyszeć. \nW programie recitalu znajdą się m.in. takie utwory jak „Chciałbym”\, „La Boheme” czy „Moja miłość największa”. To propozycja dla wszystkich\, którzy cenią sobie wyjątkową interpretację\, liryzm tekstów oraz muzykę w najlepszym\, klasycznym wydaniu. \nKoncert jest zaplanowany na 12 kwietnia w Suwałkach w Suwalskim Ośrodku Kultury na godzinę 17:00. Organizatorzy przypominają\, że ze względu na kameralny charakter recitalu nie zaleca się przyprowadzania dzieci poniżej 6. roku życia. \nNie przegap tej wyjątkowej okazji\, by usłyszeć na żywo jeden z najpiękniejszych głosów polskiej sceny muzycznej. \nOrganizatorem wydarzenia jest agencja Just For Music. \n\nKUPBILECIK\neBILET\nBILETYNA
URL:https://www.niebywalesuwalki.pl/wydarzenie/michal-bajor-piosenki-ktore-lubie-koncert-w-suwalkach/
END:VEVENT
BEGIN:VEVENT
DTSTART;TZID=Europe/Warsaw:20260412T190000
DTEND;TZID=Europe/Warsaw:20260412T210000
DTSTAMP:20260420T075846
CREATED:20260408T054327Z
LAST-MODIFIED:20260408T054327Z
UID:267520-1776020400-1776027600@www.niebywalesuwalki.pl
SUMMARY:Mecz 26 kolejki III ligi piłkarskiej Wigry Suwałki – ŁKS Łomża
DESCRIPTION:W niedzielny (12 kwietnia) wieczór na Zarzeczu zmierzą się sąsiedzi w tabeli. Goście zajmują trzecie miejsce\, Wigry – czwarte. \nPoczątek spotkania o godzinie 19.
URL:https://www.niebywalesuwalki.pl/wydarzenie/mecz-26-kolejki-iii-ligi-pilkarskiej-wigry-suwalki-lks-lomza/
LOCATION:Stadion Miejski w Suwałkach
ATTACH;FMTTYPE=image/jpeg:https://www.niebywalesuwalki.pl/wp-content/uploads/2025/05/Wigry-Lomza_PP_V_2025-14.jpg
END:VEVENT
END:VCALENDAR