BEGIN:VCALENDAR
VERSION:2.0
PRODID:-//Niebywałe Suwałki - ECPv6.15.20//NONSGML v1.0//EN
CALSCALE:GREGORIAN
METHOD:PUBLISH
X-WR-CALNAME:Niebywałe Suwałki
X-ORIGINAL-URL:https://www.niebywalesuwalki.pl
X-WR-CALDESC:Wydarzenia dla Niebywałe Suwałki
REFRESH-INTERVAL;VALUE=DURATION:PT1H
X-Robots-Tag:noindex
X-PUBLISHED-TTL:PT1H
BEGIN:VTIMEZONE
TZID:Europe/Warsaw
BEGIN:DAYLIGHT
TZOFFSETFROM:+0100
TZOFFSETTO:+0200
TZNAME:CEST
DTSTART:20250330T010000
END:DAYLIGHT
BEGIN:STANDARD
TZOFFSETFROM:+0200
TZOFFSETTO:+0100
TZNAME:CET
DTSTART:20251026T010000
END:STANDARD
BEGIN:DAYLIGHT
TZOFFSETFROM:+0100
TZOFFSETTO:+0200
TZNAME:CEST
DTSTART:20260329T010000
END:DAYLIGHT
BEGIN:STANDARD
TZOFFSETFROM:+0200
TZOFFSETTO:+0100
TZNAME:CET
DTSTART:20261025T010000
END:STANDARD
BEGIN:DAYLIGHT
TZOFFSETFROM:+0100
TZOFFSETTO:+0200
TZNAME:CEST
DTSTART:20270328T010000
END:DAYLIGHT
BEGIN:STANDARD
TZOFFSETFROM:+0200
TZOFFSETTO:+0100
TZNAME:CET
DTSTART:20271031T010000
END:STANDARD
END:VTIMEZONE
BEGIN:VEVENT
DTSTART;TZID=Europe/Warsaw:20260424T190000
DTEND;TZID=Europe/Warsaw:20260424T210000
DTSTAMP:20260420T075702
CREATED:20260326T143337Z
LAST-MODIFIED:20260326T143337Z
UID:267348-1777057200-1777064400@www.niebywalesuwalki.pl
SUMMARY:Rozgrzewka SBF. Koncert pamięci Tadeusza Nalepy. Dreszcz Blues Band i Suwalska Orkiestra Kameralna w Suwalskim Ośrodku Kultury
DESCRIPTION:Rozgrzewka SBF. Koncert pamięci Tadeusza Nalepy. Dreszcz Blues Band i Suwalska Orkiestra Kameralna\nZapraszamy na \nniezapomniany wieczór „Rozgrzewka SBF” – hołd dla legendarnego twórcy polskiego bluesa\, Tadeusza Nalepy. To niepowtarzalna okazja\, by poczuć bluesową energię w połączeniu z kameralnym brzmieniem.\nPodczas koncertu w Suwałkach usłyszymy największe przeboje Tadeusza Nalepy i Miry Kubasińskiej\, wykonane przez Dreszcz Blues Band\, któremu towarzyszyć będzie Suwalska Orkiestra Kameralna pod dyrekcją Kazimierza Dąbrowskiego. To wyjątkowe połączenie gitarowego bluesa z instrumentami orkiestry kameralnej stworzy niezapomniane muzyczne przeżycie.\n24.04.2026\, godz. 19.00\, Sala im. Andrzeja Wajdy\, ul. Papieża Jana Pawła II 5\, Suwałki\nBilety do nabycia w kasie Suwalskiego Ośrodka Kultury i online
URL:https://www.niebywalesuwalki.pl/wydarzenie/rozgrzewka-sbf-koncert-pamieci-tadeusza-nalepy-dreszcz-blues-band-i-suwalska-orkiestra-kameralna-w-suwalskim-osrodku-kultury/
LOCATION:Duża Scena SOK\, Jana Pawła II 5\, Suwałki\, Polska
END:VEVENT
END:VCALENDAR