BEGIN:VCALENDAR
VERSION:2.0
PRODID:-//Niebywałe Suwałki - ECPv6.15.20//NONSGML v1.0//EN
CALSCALE:GREGORIAN
METHOD:PUBLISH
X-WR-CALNAME:Niebywałe Suwałki
X-ORIGINAL-URL:https://www.niebywalesuwalki.pl
X-WR-CALDESC:Wydarzenia dla Niebywałe Suwałki
REFRESH-INTERVAL;VALUE=DURATION:PT1H
X-Robots-Tag:noindex
X-PUBLISHED-TTL:PT1H
BEGIN:VTIMEZONE
TZID:Europe/Warsaw
BEGIN:DAYLIGHT
TZOFFSETFROM:+0100
TZOFFSETTO:+0200
TZNAME:CEST
DTSTART:20250330T010000
END:DAYLIGHT
BEGIN:STANDARD
TZOFFSETFROM:+0200
TZOFFSETTO:+0100
TZNAME:CET
DTSTART:20251026T010000
END:STANDARD
BEGIN:DAYLIGHT
TZOFFSETFROM:+0100
TZOFFSETTO:+0200
TZNAME:CEST
DTSTART:20260329T010000
END:DAYLIGHT
BEGIN:STANDARD
TZOFFSETFROM:+0200
TZOFFSETTO:+0100
TZNAME:CET
DTSTART:20261025T010000
END:STANDARD
BEGIN:DAYLIGHT
TZOFFSETFROM:+0100
TZOFFSETTO:+0200
TZNAME:CEST
DTSTART:20270328T010000
END:DAYLIGHT
BEGIN:STANDARD
TZOFFSETFROM:+0200
TZOFFSETTO:+0100
TZNAME:CET
DTSTART:20271031T010000
END:STANDARD
END:VTIMEZONE
BEGIN:VEVENT
DTSTART;TZID=Europe/Warsaw:20260426T190000
DTEND;TZID=Europe/Warsaw:20260426T210000
DTSTAMP:20260426T022645
CREATED:20260422T062528Z
LAST-MODIFIED:20260422T062528Z
UID:268051-1777230000-1777237200@www.niebywalesuwalki.pl
SUMMARY:Mecz 28 kolejki III ligi piłkarskiej; Wigry Suwałki – GKS Bełchatów
DESCRIPTION:Wigry Suwałki wciąż dążą do baraży o II ligę. Na chwilę obecną (czyli przed 28 kolejką) zajmują czwarte miejsce z dorobkiem 49 punktów. Tracą zatem 20 oczek do rezerw Legii Warszawa\, 7 do Warty Sieradz oraz 4 do ŁKS Łomża. \nW niedzielny\, chłodny wieczór biało-niebiescy podejmą byłego ekstraklasowicza – GKS Bełchatów. Wszyscy w Suwałkach liczą na kolejne domowe zwycięstwo. Wigry począwszy od 15 listopada ubiegłego roku wygrały wszystkie mecze domowe (jeden odbył się nie na Zarzeczu\, a boisku za Szkołą Podstawową nr 5 na Klonowej). Z kolei goście będą walczyli choćby o remis\, bo mają tylko dwa punkty przewagi nad strefą spadkową.
URL:https://www.niebywalesuwalki.pl/wydarzenie/mecz-28-kolejki-iii-ligi-pilkarskiej-wigry-suwalki-gks-belchatow/
ATTACH;FMTTYPE=image/jpeg:https://www.niebywalesuwalki.pl/wp-content/uploads/2026/04/Wigry-Lomza_IV_2026-14.jpg
END:VEVENT
END:VCALENDAR