BEGIN:VCALENDAR
VERSION:2.0
PRODID:-//Niebywałe Suwałki - ECPv6.15.20//NONSGML v1.0//EN
CALSCALE:GREGORIAN
METHOD:PUBLISH
X-WR-CALNAME:Niebywałe Suwałki
X-ORIGINAL-URL:https://www.niebywalesuwalki.pl
X-WR-CALDESC:Wydarzenia dla Niebywałe Suwałki
REFRESH-INTERVAL;VALUE=DURATION:PT1H
X-Robots-Tag:noindex
X-PUBLISHED-TTL:PT1H
BEGIN:VTIMEZONE
TZID:Europe/Warsaw
BEGIN:DAYLIGHT
TZOFFSETFROM:+0100
TZOFFSETTO:+0200
TZNAME:CEST
DTSTART:20250330T010000
END:DAYLIGHT
BEGIN:STANDARD
TZOFFSETFROM:+0200
TZOFFSETTO:+0100
TZNAME:CET
DTSTART:20251026T010000
END:STANDARD
BEGIN:DAYLIGHT
TZOFFSETFROM:+0100
TZOFFSETTO:+0200
TZNAME:CEST
DTSTART:20260329T010000
END:DAYLIGHT
BEGIN:STANDARD
TZOFFSETFROM:+0200
TZOFFSETTO:+0100
TZNAME:CET
DTSTART:20261025T010000
END:STANDARD
BEGIN:DAYLIGHT
TZOFFSETFROM:+0100
TZOFFSETTO:+0200
TZNAME:CEST
DTSTART:20270328T010000
END:DAYLIGHT
BEGIN:STANDARD
TZOFFSETFROM:+0200
TZOFFSETTO:+0100
TZNAME:CET
DTSTART:20271031T010000
END:STANDARD
END:VTIMEZONE
BEGIN:VEVENT
DTSTART;VALUE=DATE:20260507
DTEND;VALUE=DATE:20260509
DTSTAMP:20260421T005749
CREATED:20260326T143204Z
LAST-MODIFIED:20260326T143204Z
UID:267350-1778112000-1778284799@www.niebywalesuwalki.pl
SUMMARY:Zarządzanie kryzysowe\, ochrona ludności i obrona cywilna w regionie strategicznym: teoria\, prawo\, praktyka - konferencja naukowa w PUZ w Suwałkach
DESCRIPTION:VIII Międzynarodowa Konferencja Naukowa Wydziału Nauk Społecznych Państwowej Uczelni Zawodowej im. prof. Edwarda F. Szczepanika w Suwałkach poświęcona będzie kluczowym wyzwaniom związanym z zarządzaniem kryzysowym\, ochroną ludności oraz obroną cywilną w regionach o znaczeniu strategicznym. \nWydarzenie\, zatytułowane „Zarządzanie kryzysowe\, ochrona ludności i obrona cywilna w regionie strategicznym: teoria\, prawo\, praktyka / Crisis Management\, Civil Protection and Civil Defense in a Strategic Region: Theory\, Law\, and Practice – The Case of the Suwałki Gap”\, odbędzie się w dniach 7-8 maja 2026 roku. \nKonferencja stanie się przestrzenią międzynarodowej wymiany wiedzy i doświadczeń między naukowcami oraz praktykami zajmującymi się bezpieczeństwem.
URL:https://www.niebywalesuwalki.pl/wydarzenie/zarzadzanie-kryzysowe-ochrona-ludnosci-i-obrona-cywilna-w-regionie-strategicznym-teoria-prawo-praktyka-konferencja-naukowa-w-puz-w-suwalkach/
LOCATION:Państwowa Uczelnia Zawodowa\, Noniewicza 10\, Suwałki\, Poland
END:VEVENT
BEGIN:VEVENT
DTSTART;TZID=Europe/Warsaw:20260507T180000
DTEND;TZID=Europe/Warsaw:20260507T190000
DTSTAMP:20260421T005749
CREATED:20260409T104437Z
LAST-MODIFIED:20260409T104437Z
UID:267543-1778176800-1778180400@www.niebywalesuwalki.pl
SUMMARY:Wernisaż wystawy Światło i cień. Dziedzictwo rodziny Witkiewiczów
DESCRIPTION:Ełckie Centrum Kultury zaprasza na wernisaż wystawy fotografii \nŚwiatło i cień. Dziedzictwo rodziny Witkiewiczów \n  \n07 maja 2026 r. (czwartek) \ngodz. 18:00 \nGaleria Ślad \nwstęp wolny \n  \nZaprezentowany zostanie wybór fotografii ukazuje różnorodne podejścia do portretu i krajobrazu oraz indywidualny styl twórców. Zestawienie autoportretów Stanisława Ignacego Witkiewicza i Stanisława Witkiewicza ze zdjęciami wykonanymi przez osoby z ich otoczenia pozwala dostrzec\, jak zmienia się sposób przedstawiania modela w zależności od autora. \nNa wystawie znalazły się także prace Jana „Koszczyca” Witkiewicza oraz Marii Witkiewiczówny\, które uzupełniają obraz rodzinnego dorobku fotograficznego. \nKuratorką wystawy z ramienia Muzeum Tatrzańskie w Zakopanem jest Zofia Radwańska. \nEkspozycja prezentowana w Ełckie Centrum Kultury została przygotowana we współpracy z Agencja Zegart i nawiązuje do rocznic przypadających w 2025 roku.
URL:https://www.niebywalesuwalki.pl/wydarzenie/wernisaz-wystawy-swiatlo-i-cien-dziedzictwo-rodziny-witkiewiczow/
LOCATION:Ełckie Centrum Kultury\, Wojska Polskiego 47\, 19-300 Ełk\, Ełk\, 19-300
ATTACH;FMTTYPE=image/jpeg:https://www.niebywalesuwalki.pl/wp-content/uploads/2026/04/ECK_Witkiewiczow.jpg
END:VEVENT
END:VCALENDAR