BEGIN:VCALENDAR
VERSION:2.0
PRODID:-//Niebywałe Suwałki - ECPv6.15.20//NONSGML v1.0//EN
CALSCALE:GREGORIAN
METHOD:PUBLISH
X-ORIGINAL-URL:https://www.niebywalesuwalki.pl
X-WR-CALDESC:Wydarzenia dla Niebywałe Suwałki
REFRESH-INTERVAL;VALUE=DURATION:PT1H
X-Robots-Tag:noindex
X-PUBLISHED-TTL:PT1H
BEGIN:VTIMEZONE
TZID:Europe/Warsaw
BEGIN:DAYLIGHT
TZOFFSETFROM:+0100
TZOFFSETTO:+0200
TZNAME:CEST
DTSTART:20250330T010000
END:DAYLIGHT
BEGIN:STANDARD
TZOFFSETFROM:+0200
TZOFFSETTO:+0100
TZNAME:CET
DTSTART:20251026T010000
END:STANDARD
BEGIN:DAYLIGHT
TZOFFSETFROM:+0100
TZOFFSETTO:+0200
TZNAME:CEST
DTSTART:20260329T010000
END:DAYLIGHT
BEGIN:STANDARD
TZOFFSETFROM:+0200
TZOFFSETTO:+0100
TZNAME:CET
DTSTART:20261025T010000
END:STANDARD
BEGIN:DAYLIGHT
TZOFFSETFROM:+0100
TZOFFSETTO:+0200
TZNAME:CEST
DTSTART:20270328T010000
END:DAYLIGHT
BEGIN:STANDARD
TZOFFSETFROM:+0200
TZOFFSETTO:+0100
TZNAME:CET
DTSTART:20271031T010000
END:STANDARD
END:VTIMEZONE
BEGIN:VEVENT
DTSTART;TZID=Europe/Warsaw:20260524T190000
DTEND;TZID=Europe/Warsaw:20260524T213000
DTSTAMP:20260421T011246
CREATED:20260408T055857Z
LAST-MODIFIED:20260408T055857Z
UID:267522-1779649200-1779658200@www.niebywalesuwalki.pl
SUMMARY:Koncert SMOLIK//KEV FOX oraz ZALEWSKI w Ełckim Centrum Kultury
DESCRIPTION:Ełckie Centrum Kultury zaprasza na koncert \nSMOLIK//KEV FOX oraz ZALEWSKI \n24 maja 2026 r. (niedziela) \nGodz. 19:00 \nAmfiteatr ECK \nWyjątkowy koncert\, który dostarczy niezapomnianych muzycznych emocji i zabierze Was w podróż przez różne brzmienia i nastroje! \nDebiutancki album SMOLIK // KEV FOX był jednym z najlepiej ocenianych albumów 2015 roku za który artyści odebrali FRYDERYKA w kategorii elektronika i alternatywa. Od czerwca 2017 ma status platynowej płyty. W minionych latach artyści zagrali m.in na Męskim Graniu\, Olsztyn Green Festival i CJG24 w Warszawie\, Kazimiernikejszyn czy One Love Wrocław Muisc Festival. \n13 VIII 2021 – Active Festival Olecko – Amfiteatr Podzamcze – Smolik & Kev Fox© 2021 Wojciech Otłowski\n13 VIII 2021 – Active Festival Olecko – Amfiteatr Podzamcze – Smolik & Kev Fox© 2021 Wojciech Otłowski\nKrzysztof Zalewski – jeden z najbardziej wyrazistych głosów na polskiej scenie muzycznej. Artysta\, który mimo sukcesów nie zatrzymuje się w rozwoju i poszukiwaniach. Uzależniony od muzyki\, tworzenia\, pisania\, komponowania czy koncertowania. Posiada wyjątkowy talent do pisania tekstów\, które mimo osobistego charakteru\, trafiają do szerokiego grona jego słuchaczy. Artysta\, który nie boi się poruszać istotnych społecznie tematów. \n11 VII 2024 \,Suwałki Blues Festival – Suwałki Arena – koncert otwarcia – Zalewski© 2024 Wojciech Otłowski\nBilety dostępne w Kasie ECK i na biletyna.pl \nWydarzenie: SMOLIK//KEV FOX oraz ZALEWSKI » Ełckie Centrum Kultury – ECK Ełk
URL:https://www.niebywalesuwalki.pl/wydarzenie/koncert-smolik-kev-fox-oraz-zalewski-w-elckim-centrum-kultury/
LOCATION:Ełckie Centrum Kultury\, Wojska Polskiego 47\, 19-300 Ełk\, Ełk\, 19-300
ATTACH;FMTTYPE=image/jpeg:https://www.niebywalesuwalki.pl/wp-content/uploads/2026/04/Smolik-KEV-Zalewski-V-2026-ELk.jpg
END:VEVENT
END:VCALENDAR