BEGIN:VCALENDAR
VERSION:2.0
PRODID:-//Niebywałe Suwałki - ECPv6.15.20//NONSGML v1.0//EN
CALSCALE:GREGORIAN
METHOD:PUBLISH
X-ORIGINAL-URL:https://www.niebywalesuwalki.pl
X-WR-CALDESC:Wydarzenia dla Niebywałe Suwałki
REFRESH-INTERVAL;VALUE=DURATION:PT1H
X-Robots-Tag:noindex
X-PUBLISHED-TTL:PT1H
BEGIN:VTIMEZONE
TZID:Europe/Warsaw
BEGIN:DAYLIGHT
TZOFFSETFROM:+0100
TZOFFSETTO:+0200
TZNAME:CEST
DTSTART:20250330T010000
END:DAYLIGHT
BEGIN:STANDARD
TZOFFSETFROM:+0200
TZOFFSETTO:+0100
TZNAME:CET
DTSTART:20251026T010000
END:STANDARD
BEGIN:DAYLIGHT
TZOFFSETFROM:+0100
TZOFFSETTO:+0200
TZNAME:CEST
DTSTART:20260329T010000
END:DAYLIGHT
BEGIN:STANDARD
TZOFFSETFROM:+0200
TZOFFSETTO:+0100
TZNAME:CET
DTSTART:20261025T010000
END:STANDARD
BEGIN:DAYLIGHT
TZOFFSETFROM:+0100
TZOFFSETTO:+0200
TZNAME:CEST
DTSTART:20270328T010000
END:DAYLIGHT
BEGIN:STANDARD
TZOFFSETFROM:+0200
TZOFFSETTO:+0100
TZNAME:CET
DTSTART:20271031T010000
END:STANDARD
END:VTIMEZONE
BEGIN:VEVENT
DTSTART;TZID=Europe/Warsaw:20260530T190000
DTEND;TZID=Europe/Warsaw:20260530T210000
DTSTAMP:20260421T045428
CREATED:20260415T054103Z
LAST-MODIFIED:20260415T054103Z
UID:267726-1780167600-1780174800@www.niebywalesuwalki.pl
SUMMARY:Marius Preda - koncert w ramach IV edycji Jazz Meeting
DESCRIPTION:Ełckie Centrum Kultury zaprasza na piąty koncert\nw ramach IV edycji Jazz Meeting \nMarius Preda \n30 maja 2026r. godz. 19:00 \nsala widowiskowa \n  \n  \nMarius Preda – multiinstrumentalista\, kompozytor\, aranżer – jest uważany za jednego z najbardziej oryginalnych i wpływowych muzyków w historii muzyki współczesnej. Geniusz\, wirtuoz\, fenomen to tylko niektóre z określeń jakie padają z ust muzyków z którymi współpracował\, a grał z najlepszymi tj.: Mike Stern\, Arturo Sandoval\, John Patitucci\, Dennis Chambers\, Vladimir Cosma i inni. Gra na wielu instrumentach\, ale jego ulubionym są cymbały. Jedyną misją Predy – MISSION CIMBALOM – jest uczynienie z cymbałów fenomenu znanego na całym świecie. \nKoncerty Mariusa Predy to dawka niesamowitej energii\, ciepła i wrażliwości z udziałem intrygujących artystów\, których pojawienie się na scenie gwarantuje słuchaczom wysoki poziom muzycznych doznań. To muzyczne spotkania – młodości z tradycją\, kultowej twórczości z odważnym brzmieniem i jazzu z energetycznym funkiem. Muzyczny kwintet w niecodziennym wydaniu jedynego w swoim rodzaju kolażu jazzu\, funku\, bluesa i szeroko pojętego fusion. \nPo raz pierwszy w Polsce wystąpi ze znakomitymi muzykami: \nKamilem Skorupskim (saksofony); \nMarcinem Nagnajewiczem (instrumenty klawiszowe); \nTomaszem Grochotem (perkusja); \nWojciechem Staniszem (gitara basowa).
URL:https://www.niebywalesuwalki.pl/wydarzenie/marius-preda-koncert-w-ramach-iv-edycji-jazz-meeting/
ATTACH;FMTTYPE=image/jpeg:https://www.niebywalesuwalki.pl/wp-content/uploads/2026/04/Preda_ECK.jpg
END:VEVENT
END:VCALENDAR