BEGIN:VCALENDAR
VERSION:2.0
PRODID:-//Niebywałe Suwałki - ECPv6.15.20//NONSGML v1.0//EN
CALSCALE:GREGORIAN
METHOD:PUBLISH
X-WR-CALNAME:Niebywałe Suwałki
X-ORIGINAL-URL:https://www.niebywalesuwalki.pl
X-WR-CALDESC:Wydarzenia dla Niebywałe Suwałki
REFRESH-INTERVAL;VALUE=DURATION:PT1H
X-Robots-Tag:noindex
X-PUBLISHED-TTL:PT1H
BEGIN:VTIMEZONE
TZID:Europe/Warsaw
BEGIN:DAYLIGHT
TZOFFSETFROM:+0100
TZOFFSETTO:+0200
TZNAME:CEST
DTSTART:20250330T010000
END:DAYLIGHT
BEGIN:STANDARD
TZOFFSETFROM:+0200
TZOFFSETTO:+0100
TZNAME:CET
DTSTART:20251026T010000
END:STANDARD
BEGIN:DAYLIGHT
TZOFFSETFROM:+0100
TZOFFSETTO:+0200
TZNAME:CEST
DTSTART:20260329T010000
END:DAYLIGHT
BEGIN:STANDARD
TZOFFSETFROM:+0200
TZOFFSETTO:+0100
TZNAME:CET
DTSTART:20261025T010000
END:STANDARD
BEGIN:DAYLIGHT
TZOFFSETFROM:+0100
TZOFFSETTO:+0200
TZNAME:CEST
DTSTART:20270328T010000
END:DAYLIGHT
BEGIN:STANDARD
TZOFFSETFROM:+0200
TZOFFSETTO:+0100
TZNAME:CET
DTSTART:20271031T010000
END:STANDARD
END:VTIMEZONE
BEGIN:VEVENT
DTSTART;TZID=Europe/Warsaw:20260604T170000
DTEND;TZID=Europe/Warsaw:20260607T200000
DTSTAMP:20260421T062854
CREATED:20260403T132511Z
LAST-MODIFIED:20260403T132511Z
UID:267498-1780592400-1780862400@www.niebywalesuwalki.pl
SUMMARY:Dni Mongolii w Budzie Ruskiej na Suwalszczyźnie
DESCRIPTION:DNI MONGOLII\, 10 LAT MUZEUM MONGOLII W BUDZIE RUSKIEJ \nMiejsce: Buda Ruska 16 nad Czarną Hańczą\, Muzeum Mongolii\, Galeria Fotografii Piotra Malczewskiego. \nOrganizator: Piotr Malczewski – Muzeum Mongolii\, Stowarzyszenie Maćkowa Ruda \nWspółpraca: Muzeum Azji i Pacyfiku w Warszawie\, \nPROGRAM WYDARZEŃ ROBOCZY: \n4.06 CZWARTEK \nGodz. 17.00 Oprowadzenie po Muzeum Mongolii i Galerii Fotografii przez autora Piotra Malczewskiego. \nGodz. 18.00 Mongolia konno. Pokaz fotografii z opowieścią Piotra Malczewskiego. \n5.06 PIĄTEK \nGodz. 12.00 Oprowadzenie po Muzeum Mongolii i Galerii Fotografii. \ngodz. 14.00  Tuwa. Śladami F. A. Ossendowskiego na pograniczu rosyjsko – mongolskim. Pokaz fotografii z opowieścią Piotra Malczewskiego. \nGodz. 16.00 Mongolia. Wykład Historia i teraźniejszość. Wykład popularno naukowy. Jan Rogala. Wydział Orientalistyczny Uniwersytet Warszawski.  \nGodz. 18.00   „Opowieść o figurach Buddy Amitajusa   wyprodukowanych w liczbie ok. 9000 w fabryce Norblina w Warszawie na zamówienie rządu wolnej Mongolii w latach 1913-14″. Maciej Magura Góralski (kustosz Muzeum Azji i Pacyfiku). \nGodz. 20.00 Żaglowozami przez pustynię Gobi. Piotr Malczewski. Pokaz fotografii z opowieścią. \n6.06 SOBOTA \nGodz. 12.00 Opowieść o kulinariach i przygotowanie potrawy w  wykonaniu „Kuchni Tatarskiej u Alika” z Suwałk. \nGodz. 14.00 Warsztaty filcowania dla dzieci (do 10 osób) x 2. Prowadzi Agnieszka Malczewska. Zapisy do 10 osób grupa. \nGodz. 16.00  Tatarzy polscy. Historia i teraźniejszość. Wykład popularno naukowy. Dr Karolina Radłowska. Zakład Socjologii Kultury w Białymstoku.  \nGodz. 18.00  Nie tylko Legnica: Ślady mongolskie w historii i kulturze polskiej. Wykład popularno naukowy.  Adam Balcer – Studium Europy Wschodniej Uniwersytetu Warszawskiego. \nGodz. 20.00  pokaz filmu „Urga” lub inny tutuł \nW Galerii Rodziny Strumiłłów w Maćkowej Rudzie (3\,5 km od Budy Ruskiej). Podróż do Mongolii – wystawa fotografii Andrzeja Strumiłły z 1968 r. Pierwsza wyprawa wysokogórska w Ałtaj Mongolski.  \nWSTĘP PODCZAS DNI MONGOLII NA SPOTKANIA I WYSTAWY BEZPŁATNY.
URL:https://www.niebywalesuwalki.pl/wydarzenie/dni-mongolii-w-budzie-ruskiej-na-suwalszczyznie/
LOCATION:Buda Ruska\, Buda Ruska\, Polska
END:VEVENT
END:VCALENDAR