BEGIN:VCALENDAR
VERSION:2.0
PRODID:-//Niebywałe Suwałki - ECPv6.15.20//NONSGML v1.0//EN
CALSCALE:GREGORIAN
METHOD:PUBLISH
X-ORIGINAL-URL:https://www.niebywalesuwalki.pl
X-WR-CALDESC:Wydarzenia dla Niebywałe Suwałki
REFRESH-INTERVAL;VALUE=DURATION:PT1H
X-Robots-Tag:noindex
X-PUBLISHED-TTL:PT1H
BEGIN:VTIMEZONE
TZID:Europe/Warsaw
BEGIN:DAYLIGHT
TZOFFSETFROM:+0100
TZOFFSETTO:+0200
TZNAME:CEST
DTSTART:20250330T010000
END:DAYLIGHT
BEGIN:STANDARD
TZOFFSETFROM:+0200
TZOFFSETTO:+0100
TZNAME:CET
DTSTART:20251026T010000
END:STANDARD
BEGIN:DAYLIGHT
TZOFFSETFROM:+0100
TZOFFSETTO:+0200
TZNAME:CEST
DTSTART:20260329T010000
END:DAYLIGHT
BEGIN:STANDARD
TZOFFSETFROM:+0200
TZOFFSETTO:+0100
TZNAME:CET
DTSTART:20261025T010000
END:STANDARD
BEGIN:DAYLIGHT
TZOFFSETFROM:+0100
TZOFFSETTO:+0200
TZNAME:CEST
DTSTART:20270328T010000
END:DAYLIGHT
BEGIN:STANDARD
TZOFFSETFROM:+0200
TZOFFSETTO:+0100
TZNAME:CET
DTSTART:20271031T010000
END:STANDARD
END:VTIMEZONE
BEGIN:VEVENT
DTSTART;VALUE=DATE:20260612
DTEND;VALUE=DATE:20260614
DTSTAMP:20260421T063051
CREATED:20260309T084358Z
LAST-MODIFIED:20260309T084358Z
UID:266946-1781222400-1781395199@www.niebywalesuwalki.pl
SUMMARY:Poczuj ducha renesansu! Uczta u Królowej Bony w Sejnach
DESCRIPTION:12 i 13 czerwca 2026 roku Fundacja KLUCZ zorganizuje w Sejnach wydarzenie historyczne – „Ucztę u Królowej Bony”. Na placu przy ul. Parkowej (na tzw. łąkach biskupich) mieszkańcy oraz turyści będą mogli przenieść się w czasy renesansu\, by poznać wpływ\, jaki na polską kulturę\, modę i kulinaria wywarła ta wybitna władczyni. \nWydarzenie „Uczta u Królowej Bony” to nie lada gratka dla miłośników historii\, rodzin z dziećmi oraz wszystkich\, którzy chcą na własnej skórze doświadczyć realiów XVI-wiecznej Polski. \nEdukacja\, włoski szyk i taniec z ogniem – pierwszy dzień wydarzenia \nPiątek\, 12 czerwca\, upłynie pod znakiem podróży przez życie królowej Bony. Będą to wykłady podane w ciekawej formie\, które skierowane są  m.in. do uczniów szkół podstawowych i ponadpodstawowych. Podczas spotkania młodzież pozna legendy o władczyni\, jej przebiegłości\, politycznych intrygach oraz stosunkach rodzinnych. Prelekcje przybliżą także renesansowy\, włoski szyk\, a także wpływ Bony Sforzy na ówczesną modę\, rozwój polskiego rzemiosła i miast. Tego dnia odbędą się również warsztaty tańca renesansowego oraz uroczyste rozstrzygnięcie IV Regionalnego Konkursu dla Dzieci „Sejneńszczyzna NASZA MAŁA OJCZYZNA”\, który w tym roku jest poświęcony tematyce Królowej Bony. \nOrszak\, jedzenie i historyczny questing – drugi dzień wydarzenia \nSobota\, 13 czerwca\, to z kolei dzień pełen renesansowych atrakcji\, w których uczestnicy będą mogli wziąć aktywny udział. Głównym punktem programu będzie barwny Orszak Królowej Bony – korowód z udziałem grup rekonstrukcyjnych i gości wcielających się w postacie z epoki. Dla dzieci i młodzieży przygotowano historyczny questing\, czyli interaktywną zabawę polegającą na zdobywaniu wskazówek i rozwiązywaniu zagadek. Na odwiedzających czekać będą stanowiska rekonstruktorskie dawnych rzemieślników oraz strefy kulinarne przygotowane przez Koła Gospodyń Wiejskich (KGW). \nOrganizatorzy zachęcają do przebrania się\, zaplanowano bowiem specjalny konkurs dla publiczności na najlepszy strój z czasów Królowej Bony. Drugi dzień wydarzenia zamknie koncert dawnej muzyki dworskiej w wykonaniu zespołu występującego w stylizowanych strojach z epoki renesansu. \nInformacje o wydarzeniu\n„Uczta u Królowej Bony”\nMiejsce: Sejny\, plac przy ul. Parkowej (tzw. błonie papieskie)\nWydarzenie w mediach społecznościowych: https://facebook.com/events/s/uczta-u-krolowej-bony-sejny/26378818108472902/ \nWszystkie informacje będą publikowane na profilu Fundacji KLUCZ: https://tiny.pl/1s8cvt52d \nInformacje o organizatorze\nFundacja KLUCZ — to organizacja pożytku publicznego\, która zaszczepia w młodych ludziach szacunek do drugiego człowieka. Popularyzuje dziedzictwo narodowe. Uświadamia\, zwłaszcza dzieci i młodzież\, o pochodzeniu\, historii regionu i Polski\, tradycjach i obyczajach\, otaczającej przyrodzie. Celem fundacji jest promowanie działalności artystycznej\, kulturalnej\, naukowej i edukacyjnej. Dużą wagę przykłada do działań międzypokoleniowych.
URL:https://www.niebywalesuwalki.pl/wydarzenie/poczuj-ducha-renesansu-uczta-u-krolowej-bony-w-sejnach/
LOCATION:Sejny\, Sejny\, Polska
END:VEVENT
END:VCALENDAR