BEGIN:VCALENDAR
VERSION:2.0
PRODID:-//Niebywałe Suwałki - ECPv6.15.20//NONSGML v1.0//EN
CALSCALE:GREGORIAN
METHOD:PUBLISH
X-ORIGINAL-URL:https://www.niebywalesuwalki.pl
X-WR-CALDESC:Wydarzenia dla Niebywałe Suwałki
REFRESH-INTERVAL;VALUE=DURATION:PT1H
X-Robots-Tag:noindex
X-PUBLISHED-TTL:PT1H
BEGIN:VTIMEZONE
TZID:Europe/Warsaw
BEGIN:DAYLIGHT
TZOFFSETFROM:+0100
TZOFFSETTO:+0200
TZNAME:CEST
DTSTART:20250330T010000
END:DAYLIGHT
BEGIN:STANDARD
TZOFFSETFROM:+0200
TZOFFSETTO:+0100
TZNAME:CET
DTSTART:20251026T010000
END:STANDARD
BEGIN:DAYLIGHT
TZOFFSETFROM:+0100
TZOFFSETTO:+0200
TZNAME:CEST
DTSTART:20260329T010000
END:DAYLIGHT
BEGIN:STANDARD
TZOFFSETFROM:+0200
TZOFFSETTO:+0100
TZNAME:CET
DTSTART:20261025T010000
END:STANDARD
BEGIN:DAYLIGHT
TZOFFSETFROM:+0100
TZOFFSETTO:+0200
TZNAME:CEST
DTSTART:20270328T010000
END:DAYLIGHT
BEGIN:STANDARD
TZOFFSETFROM:+0200
TZOFFSETTO:+0100
TZNAME:CET
DTSTART:20271031T010000
END:STANDARD
END:VTIMEZONE
BEGIN:VEVENT
DTSTART;TZID=Europe/Warsaw:20260622T190000
DTEND;TZID=Europe/Warsaw:20260622T210000
DTSTAMP:20260421T063024
CREATED:20260417T054959Z
LAST-MODIFIED:20260417T054959Z
UID:267761-1782154800-1782162000@www.niebywalesuwalki.pl
SUMMARY:Spektakl koncertowy „Skończyły się żarty. Mann i Bukartyk” w Ełckim Centrum Kultury
DESCRIPTION:Ełckie Centrum Kultury zaprasza na spektakl koncertowy \nWojciecha Manna i Piotra Bukartyka \n„Skończyły się żarty. Mann i Bukartyk” \n22 czerwca 2026 r. \ngodz. 19:00 \nsala widowiskowa \n  \n  \n  \n„Skończyły się żarty. Mann i Bukartyk” to jedyny w swoim rodzaju spektakl autorstwa zachowującego anonimowość pisarza-widmo. Z niewielkimi poprawkami Wojciecha Manna i współpracującego z nim od dwudziestu lat Piotra Bukartyka. Panowie przenoszą na scenę audycję radiową w wersji sitcomowej\, przeplataną granym na żywo koncertem i opowieściami nawiązującymi do estetyki stand-up’u. W efekcie powstaje forma\, którą ze względu na niezwykle oszczędną choreografię nazywają sit-downem. Wnikliwie analizują ciasno otaczającą nas rzeczywistość\, kpią sobie z niej\, a nawet śpiewają. Wspomaga ich w tym znakomity\, cieszący się uznaniem samego redaktora Manna\, zespół Ajagore. \n  \n  \nPiotr Bukartyk wystąpił w Black Pub Komin
URL:https://www.niebywalesuwalki.pl/wydarzenie/spektakl-koncertowy-skonczyly-sie-zarty-mann-i-bukartyk-w-elckim-centrum-kultury/
LOCATION:Ełckie Centrum Kultury\, Wojska Polskiego 47\, 19-300 Ełk\, Ełk\, 19-300
ATTACH;FMTTYPE=image/png:https://www.niebywalesuwalki.pl/wp-content/uploads/2026/04/Mann-Bukartyk-scaled.png
END:VEVENT
END:VCALENDAR